From mboxrd@z Thu Jan 1 00:00:00 1970 Return-Path: Received: from mails.dpdk.org (mails.dpdk.org [217.70.189.124]) by inbox.dpdk.org (Postfix) with ESMTP id 57532488F1 for ; Thu, 9 Oct 2025 14:29:30 +0200 (CEST) Received: from mails.dpdk.org (localhost [127.0.0.1]) by mails.dpdk.org (Postfix) with ESMTP id 4E08840277; Thu, 9 Oct 2025 14:29:30 +0200 (CEST) Received: from mail-vs1-f100.google.com (mail-vs1-f100.google.com [209.85.217.100]) by mails.dpdk.org (Postfix) with ESMTP id 10E0D40277 for ; Thu, 9 Oct 2025 14:29:29 +0200 (CEST) Received: by mail-vs1-f100.google.com with SMTP id ada2fe7eead31-5d28f9b4c8cso177796137.2 for ; Thu, 09 Oct 2025 05:29:29 -0700 (PDT) DKIM-Signature: v=1; a=rsa-sha256; c=relaxed/relaxed; d=iol.unh.edu; s=unh-iol; t=1760012968; x=1760617768; darn=dpdk.org; h=references:in-reply-to:cc:to:from:subject:message-id:date:from:to :cc:subject:date:message-id:reply-to; bh=01cFZOOAT+AsNFqGgnG5DkRRQzlwbiV8cFzcEqKQ5yo=; b=AAibowSgE+se4Di3az/ixmDfhlpdY5e8LFDZh7ioitAHFhwZq/p2X/fGZgbrwkkYpZ eXr1mly0uf6hcd42dHW5qeUcCyN1bdipA8vda8Woge7V9D5kdgpvz6i+gpjc+tv1KMap xR9L0g/XPyxerCZXtjcKeC7EwkNjBXIgPhP0I= X-Google-DKIM-Signature: v=1; a=rsa-sha256; c=relaxed/relaxed; d=1e100.net; s=20230601; t=1760012968; x=1760617768; h=references:in-reply-to:cc:to:from:subject:message-id:date :x-gm-message-state:from:to:cc:subject:date:message-id:reply-to; bh=01cFZOOAT+AsNFqGgnG5DkRRQzlwbiV8cFzcEqKQ5yo=; b=LPNDg79ekXg92FYhUX+H0BkBZnPBX45O31VBfhfnwUqXu/TS2RQr1w4+Ub9sKNctrw ip5hMD4f17NiOPyvKzkiZGUlTW5/PT36XAP1RcgtiNZ2UQsLeHiv6p0DcQgQKm+Lkso/ BoU0wHzaE+w2QgxNG21s5cmAavd7lZUArvLojvRhwaICf4f55J8D1w67onrhb0jjO30K Z919s87lipXq4EZaI9gXOyTx/kLOXSxK6h6A2A+EgDH4QvkQfzEDzk7qwP8A9OMS3QnP Lz3rc9dnigd/YIClS0rkjIhsimQ13GBSgtuK1YVOMCJeDCm8CD9YDv73rFtW3tB41fU1 IQlw== X-Gm-Message-State: AOJu0YxAijmh2q1ZmuhWTWz6GO4RM8W8Qt3DxDTVwJ8Md76+A8TFTViL MF79WkvCQZvKwS7WTWkpJ+kXp6aysF9Ge+F7CXFFznGVawIEtkAy6BYPugxkRor+T7MLYfsqAGX EAZRRNXR5NLd0TdBkYea8zXiJShViqUMVbRNpJB3NS1SgDQiMD2OnwHG4Hasr X-Gm-Gg: ASbGncsgWObd9kgTohyoNYdCcay3rySzZd9f07ApbehbmUliHxoGBri3KsG5JpUqL5o XircbVK2qADgd64l5RsVGOMcXJnPcTg6YrMCXm7nMq4FEHlo4cTOESwl4Bra0QO4y5Nwh5M4M6C zh1JQanW4EoTlM0w5qY7ygleeXow5TcU0PK/A7d9ZLbSngzQWHg+0ue6RCmFLOB250W9/WlZmVQ h7I53ugm/R0U0whgbh+BxwLqU1NzLmgl+L8dF8/vVmr4TGidcHfGx3g94frU0v7bUjj5RgJC5Uz foeQJx0DEvRy2qPIC/QIN8lrL24ApJV7TFDOTo2Yiwhc77OoM/+J6Bg= X-Google-Smtp-Source: AGHT+IGH5AMcggpWVoa50N8ZC1eHVeHf/ycl2+lFB0NY84HI2QC8X1Sz6jEcyGb0BOtVhySZahJ05qA5F+K0 X-Received: by 2002:a05:6102:418a:b0:520:dbc0:6ac4 with SMTP id ada2fe7eead31-5d5e21d04b4mr3730948137.2.1760012968410; Thu, 09 Oct 2025 05:29:28 -0700 (PDT) Received: from postal.iol.unh.edu (postal.iol.unh.edu. [2606:4100:3880:1234::84]) by smtp-relay.gmail.com with ESMTPS id 71dfb90a1353d-5523cf13fbesm2151244e0c.1.2025.10.09.05.29.28 (version=TLS1_2 cipher=ECDHE-ECDSA-AES128-GCM-SHA256 bits=128/128); Thu, 09 Oct 2025 05:29:28 -0700 (PDT) X-Relaying-Domain: iol.unh.edu Date: Thu, 09 Oct 2025 05:29:28 -0700 (PDT) Message-ID: <68e7aaa8.050a0220.bf09.8230SMTPIN_ADDED_MISSING@mx.google.com> Received: from [172.21.0.2] (unknown [172.18.0.240]) by postal.iol.unh.edu (Postfix) with ESMTP id 1517E6051830; Thu, 9 Oct 2025 08:29:28 -0400 (EDT) Subject: |SUCCESS| pw157358-157369 [PATCH] [v1,12/12] net/enetc: Add MAC and From: dpdklab@iol.unh.edu To: Test Report Cc: dpdk-test-reports@iol.unh.edu, Stephen Hemminger In-Reply-To: <20251009111633.3585957-13-vanshika.shukla@nxp.com> References: <20251009111633.3585957-13-vanshika.shukla@nxp.com> Content-Type: text/plain X-BeenThere: test-report@dpdk.org X-Mailman-Version: 2.1.29 Precedence: list List-Id: automatic DPDK test reports List-Unsubscribe: , List-Archive: List-Post: List-Help: List-Subscribe: , Errors-To: test-report-bounces@dpdk.org Test-Label: iol-compile-amd64-testing Test-Status: SUCCESS http://dpdk.org/patch/157369 _Testing PASS_ Submitter: Vanshika Shukla Date: Thursday, October 09 2025 11:16:33 DPDK git baseline: Repo:dpdk-next-net Branch: master CommitID:c04bbd131b2c14b3049bf86d3ef367b34e6fdf1e 157358-157369 --> testing pass Upstream job id: Windows-Compile-DPDK-Native#31520 Test environment and result as below: +---------------------+--------------------+-------------------------+-------------------+----------------------+ | Environment | dpdk_meson_compile | dpdk_llvm_clang_compile | dpdk_msvc_compile | dpdk_mingw64_compile | +=====================+====================+=========================+===================+======================+ | Ubuntu 20.04 | PASS | SKIPPED | SKIPPED | SKIPPED | +---------------------+--------------------+-------------------------+-------------------+----------------------+ | FreeBSD 14.2 | PASS | SKIPPED | SKIPPED | SKIPPED | +---------------------+--------------------+-------------------------+-------------------+----------------------+ | Windows Server 2022 | SKIPPED | PASS | PASS | PASS | +---------------------+--------------------+-------------------------+-------------------+----------------------+ Ubuntu 20.04 Kernel: 4.19 Compiler: gcc gcc (Ubuntu 9.4.0-1ubuntu1~20.04.2) 9.4.0 FreeBSD 14.2 Kernel: 14.2-RELEASE Compiler: clang 18.1.6 Windows Server 2022 Kernel: 10.0.20348.2031 Compiler: clang 15.0.7, gcc 14.1.0 (MinGW), and MSVC VS 19.39.33521 To view detailed results, visit: https://lab.dpdk.org/results/dashboard/patchsets/34245/ UNH-IOL DPDK Community Lab To manage your email subscriptions, visit: https://lab.dpdk.org/results/dashboard/preferences/subscriptions/