From mboxrd@z Thu Jan 1 00:00:00 1970 Return-Path: Received: from mails.dpdk.org (mails.dpdk.org [217.70.189.124]) by inbox.dpdk.org (Postfix) with ESMTP id CB0CB488F1 for ; Thu, 9 Oct 2025 14:33:08 +0200 (CEST) Received: from mails.dpdk.org (localhost [127.0.0.1]) by mails.dpdk.org (Postfix) with ESMTP id A2CF940277; Thu, 9 Oct 2025 14:33:08 +0200 (CEST) Received: from mail-pf1-f228.google.com (mail-pf1-f228.google.com [209.85.210.228]) by mails.dpdk.org (Postfix) with ESMTP id 6683640277 for ; Thu, 9 Oct 2025 14:33:07 +0200 (CEST) Received: by mail-pf1-f228.google.com with SMTP id d2e1a72fcca58-782a77b5ec7so796697b3a.1 for ; Thu, 09 Oct 2025 05:33:07 -0700 (PDT) DKIM-Signature: v=1; a=rsa-sha256; c=relaxed/relaxed; d=iol.unh.edu; s=unh-iol; t=1760013186; x=1760617986; darn=dpdk.org; h=references:in-reply-to:cc:to:from:subject:message-id:date:from:to :cc:subject:date:message-id:reply-to; bh=wHcyn9RtyLsStn7ssssumH/TEjH5BS5omRdoysbB/Mg=; b=b3wByHeWggeEUUKRZvvYyL1bVeCHIsUTztxLspOFOrqmv33mTGu1zzeei7JQDX9bfm wv6pRk8pGJVL6lsor9ezUmXjRbAJaq54VTKTP7bz2XtH/uJ/ArTYBopPOhML3KMGQK6/ FABHNjQrcVB8LtgZpQPyz8Wi3pY5gaY25d+v4= X-Google-DKIM-Signature: v=1; a=rsa-sha256; c=relaxed/relaxed; d=1e100.net; s=20230601; t=1760013186; x=1760617986; h=references:in-reply-to:cc:to:from:subject:message-id:date :x-gm-message-state:from:to:cc:subject:date:message-id:reply-to; bh=wHcyn9RtyLsStn7ssssumH/TEjH5BS5omRdoysbB/Mg=; b=hIa7bk55bljMFP5rPFB7119xKJIdcAjkx65WHI2YmBR8JOl1+DfbGLurq5O2Lt5fLy QFJV43YFAhfJAj1a/M9EEMRGJfmDOPgwIOCYoIQtFN2SDidochouvn+Rgd3aTGUQLYBj Zh+cpq0H8GVijAS0BETJafiB1Vpteu2b+bYR2kwyTjK5kofkwA02rx0Lo7ffnXc0hqXQ HGoSH1FGrTDPFzycwWMKMyagHkUTvHNlHIySYWfc9jqzm9aJt4nBka1bDOlJeMPix/wO m3G3awgZcKh+1QWZXgsUd46Mb50Dv7zEGCX7rX+G6w/4W3Ynp4jsXzkw+UZ8xWK7+A0J r2Pg== X-Gm-Message-State: AOJu0YzMMnWW7kHhXF/FrCVfIAgPTHOGC/VJ6iRsZbyna7W4R3cGw9bc YhGFcfYMCH6lPt3EANvlDGKXTmMB4mZx1ytJWLKb2XARsb+jRTmB27rrRr5NfICItnxzT+qo6oQ tmnN72/b62H9BNVCMLwJexRhCDL5OCL5MN3SxjyKutbRf X-Gm-Gg: ASbGncuswd6lsFwfA7yf3F87SdG9cv0Juv1yMDnVsD9cEPQnlSl6h4es7I1MItewuuZ xotfTltMWcSn3tXQcw+fYbWuA5mLX7PDg6LN2ocKh5y/9g49dTKtt4yBuGluEJHoDERKixtvOuC 9FgZ52+xIgj0Ayfymvz1kYYs9Y/qKKrXu0j+PkCcL0/UkQHK1E0pLQ3cLnbQNgQ3yQ2oaueo8gN uTCXRwriCZ3QxGUQ79DjlYE2qMMfcR0T72p5nmVpqyQ3uTXJF+l7B1hLvzvde+HnIjsHlAScmHt ARFEKCnfnj/CwiN7doqn+apYpI8Qt3h/PqhQf02q1R4+Rd290i66u5Afzu2/ZMd098bR0I1an+e IeQ== X-Google-Smtp-Source: AGHT+IF8aaCdiHy36TRPohDG4/gjCdJvSym7ab6lgS3oEcqjWCdv5K/MxBiNTkvmGoEEmV4NUf4rVt6najPV X-Received: by 2002:a05:6a00:4fca:b0:781:16de:cc15 with SMTP id d2e1a72fcca58-7938763198emr9030836b3a.15.1760013186286; Thu, 09 Oct 2025 05:33:06 -0700 (PDT) Received: from postal.iol.unh.edu (postal.iol.unh.edu. [132.177.123.84]) by smtp-relay.gmail.com with ESMTPS id d2e1a72fcca58-794dbc5c243sm230074b3a.8.2025.10.09.05.33.06 (version=TLS1_2 cipher=ECDHE-ECDSA-AES128-GCM-SHA256 bits=128/128); Thu, 09 Oct 2025 05:33:06 -0700 (PDT) X-Relaying-Domain: iol.unh.edu Date: Thu, 09 Oct 2025 05:33:06 -0700 (PDT) Message-ID: <68e7ab82.050a0220.20ead6.bac5SMTPIN_ADDED_MISSING@mx.google.com> Received: from [172.21.0.2] (unknown [172.18.0.240]) by postal.iol.unh.edu (Postfix) with ESMTP id 7E4366051830; Thu, 9 Oct 2025 08:33:05 -0400 (EDT) Subject: |SUCCESS| pw157358-157369 [PATCH] [v1,12/12] net/enetc: Add MAC and From: dpdklab@iol.unh.edu To: Test Report Cc: dpdk-test-reports@iol.unh.edu, Stephen Hemminger In-Reply-To: <20251009111633.3585957-13-vanshika.shukla@nxp.com> References: <20251009111633.3585957-13-vanshika.shukla@nxp.com> Content-Type: text/plain X-BeenThere: test-report@dpdk.org X-Mailman-Version: 2.1.29 Precedence: list List-Id: automatic DPDK test reports List-Unsubscribe: , List-Archive: List-Post: List-Help: List-Subscribe: , Errors-To: test-report-bounces@dpdk.org Test-Label: iol-unit-amd64-testing Test-Status: SUCCESS http://dpdk.org/patch/157369 _Testing PASS_ Submitter: Vanshika Shukla Date: Thursday, October 09 2025 11:16:33 DPDK git baseline: Repo:dpdk-next-net Branch: master CommitID:c04bbd131b2c14b3049bf86d3ef367b34e6fdf1e 157358-157369 --> testing pass Upstream job id: Generic-VM-Unit-Test-DPDK#31691 Test environment and result as below: +-------------------------------+----------------+ | Environment | dpdk_unit_test | +===============================+================+ | CentOS Stream 10 | PASS | +-------------------------------+----------------+ | Fedora Linux 41 | PASS | +-------------------------------+----------------+ | Fedora Linux 40 | PASS | +-------------------------------+----------------+ | Ubuntu 24.04 | PASS | +-------------------------------+----------------+ | Fedora Linux 42 | PASS | +-------------------------------+----------------+ | Red Hat Enterprise Linux 9.5 | PASS | +-------------------------------+----------------+ | CentOS Stream 9 | PASS | +-------------------------------+----------------+ | Ubuntu 20.04 | PASS | +-------------------------------+----------------+ | Debian GNU/Linux 12 | PASS | +-------------------------------+----------------+ | Ubuntu 22.04 | PASS | +-------------------------------+----------------+ | Red Hat Enterprise Linux 8.10 | PASS | +-------------------------------+----------------+ | Windows Server 2022 | PASS | +-------------------------------+----------------+ CentOS Stream 10 Kernel: 5.15 Compiler: gcc gcc (GCC) 14.2.1 20250110 (Red Hat 14.2.1-8) Fedora Linux 41 Kernel: 5.15 Compiler: gcc gcc (GCC) 14.3.1 20250523 (Red Hat 14.3.1-1) Fedora Linux 40 Kernel: 5.15 Compiler: gcc gcc (GCC) 14.2.1 20240912 (Red Hat 14.2.1-3) Ubuntu 24.04 Kernel: 5.15 Compiler: gcc gcc (Ubuntu 13.3.0-6ubuntu2~24.04) 13.3.0 Fedora Linux 42 Kernel: 5.15 Compiler: clang gcc (GCC) 15.2.1 20250808 (Red Hat 15.2.1-1) Red Hat Enterprise Linux 9.5 Kernel: 5.15 Compiler: gcc gcc (GCC) 11.5.0 20240719 (Red Hat 11.5.0-2) CentOS Stream 9 Kernel: 5.15 Compiler: gcc gcc (GCC) 11.5.0 20240719 (Red Hat 11.5.0-11) Ubuntu 20.04 Kernel: 5.15 Compiler: gcc gcc (Ubuntu 9.4.0-1ubuntu1~20.04.2) 9.4.0 Debian GNU/Linux 12 Kernel: 5.15 Compiler: gcc gcc (Debian 12.2.0-14+deb12u1) 12.2.0 Ubuntu 22.04 Kernel: 5.15 Compiler: gcc gcc (Ubuntu 11.4.0-1ubuntu1~22.04) 11.4.0 Red Hat Enterprise Linux 8.10 Kernel: 5.15 Compiler: gcc gcc (GCC) 8.5.0 20210514 (Red Hat 8.5.0-22) Windows Server 2022 Kernel: 10.0.20348.2031 Compiler: clang 15.0.7, gcc 14.1.0 (MinGW), and MSVC VS 19.39.33521 To view detailed results, visit: https://lab.dpdk.org/results/dashboard/patchsets/34245/ UNH-IOL DPDK Community Lab To manage your email subscriptions, visit: https://lab.dpdk.org/results/dashboard/preferences/subscriptions/