From mboxrd@z Thu Jan 1 00:00:00 1970 Return-Path: Received: from mails.dpdk.org (mails.dpdk.org [217.70.189.124]) by inbox.dpdk.org (Postfix) with ESMTP id 76A62488F1 for ; Thu, 9 Oct 2025 15:51:14 +0200 (CEST) Received: from mails.dpdk.org (localhost [127.0.0.1]) by mails.dpdk.org (Postfix) with ESMTP id 7344C40267; Thu, 9 Oct 2025 15:51:14 +0200 (CEST) Received: from mail-yx1-f98.google.com (mail-yx1-f98.google.com [74.125.224.98]) by mails.dpdk.org (Postfix) with ESMTP id 4C9C340267 for ; Thu, 9 Oct 2025 15:51:13 +0200 (CEST) Received: by mail-yx1-f98.google.com with SMTP id 956f58d0204a3-6352c8b683eso1155654d50.2 for ; Thu, 09 Oct 2025 06:51:13 -0700 (PDT) DKIM-Signature: v=1; a=rsa-sha256; c=relaxed/relaxed; d=iol.unh.edu; s=unh-iol; t=1760017872; x=1760622672; darn=dpdk.org; h=cc:to:from:subject:message-id:date:from:to:cc:subject:date :message-id:reply-to; bh=T+MYkKDXwaNf6HLHvxqT4bdk/O7NMWvw6vj8XS5tPL0=; b=EnYKJUelQszrHT5oUE0PL34tTgjaGqCXU8HoIFIJhmM02sXRRADuq7bstw3y6C9zy8 eJWcR6N8qGTRRiPT489e4lAWnCIntRot7ZX1z5qHlXL7gUmjjHgXqoGbO/NFKJaFrgen 7Vcl4lhLOmeV0BD2NKWeHSQx09jZ4yHGu/8og= X-Google-DKIM-Signature: v=1; a=rsa-sha256; c=relaxed/relaxed; d=1e100.net; s=20230601; t=1760017872; x=1760622672; h=cc:to:from:subject:message-id:date:x-gm-message-state:from:to:cc :subject:date:message-id:reply-to; bh=T+MYkKDXwaNf6HLHvxqT4bdk/O7NMWvw6vj8XS5tPL0=; b=hgu1CCb5Upz6EawZBipOsDb4A5sgcLz4nmmBeufERBS+sJ1JhlFtGuy1CJLVSzUHmP GAOvpPMl3f4red2x7nw6rOsDf5Guv/SaKoTh81MVAZ3TUHJLPVbABM4rBeoR6bEbC5wM Vh9TGknft+0e91JC6QQxSRNbKJJHBsAiXjgirtGZR7EqT3RF4t6QhRg7+3FP7T1gjETY KxFT0P3cqc3NqtUEBzAlZCGcivk9hD8lgQ1t8j3F1FbKSEOfSH6bftm0Mg+Oyv6Ms0oE 68+uQomm+4sze4Q47l+rE3znXtunMmMdxAc853Vje5SV291E5PmKs1ZgylGFsDEKw4kA 5xUw== X-Gm-Message-State: AOJu0YxRKztwDSLYeje+Ytk+wf+nwEx1kwIQFvQOAEC986dty8+qZ89x Ca4BSfApqaVxDrZcqC6gxgKf49n5gU63K62pGZhb1qAMFyvJZEw8hMCU8KBJ3DD3uTLr/l+V0HJ GV5qWfHT6Fn/1PFt3E7BzWE3j5x1pyQPNKCd1 X-Gm-Gg: ASbGncvEyFoJMS5m/BbjwP30K4fU3MmuafcPKqweIKEBhroB9JxwUls8EpqYslE8pWN m9tCJgQfekUfoJDbB9w9Vv//QQ8zc+o58/mHL3dDO6TZVZ/QoIyk6ecCsTw6Icxa6rVw/Cpa4Kw 157CQ/CHynJX7BytT3uE5UjALKjkf2+cwmbOe38RJo7ZqwCoZchrqv/Uw7nCC+b7BpkhHoeXXxm sSrzptVkHs9by/LFm6ezH4FFB4xm/3n32yg6QGJUjrgbLKJkwqfZ+D21f4Z8xtC9jkVBl9kMSKT nTIjZlCgdKcGqEFJH6mqdLa0lrKXH9w/8s+tBp2I+elBidyP9uTh6lHqRIlnSOdjKc+mOhAMq+V AHg== X-Google-Smtp-Source: AGHT+IFpKq6AAO7FoeEiRd1WI62ws0MCOZdXMcZykh1HYdudE4OH4RgIlbk/YgqfodjfjM/+4wo/TUL2QynK X-Received: by 2002:a53:ad07:0:b0:636:149a:f54e with SMTP id 956f58d0204a3-63ccb8db19amr5687691d50.37.1760017872459; Thu, 09 Oct 2025 06:51:12 -0700 (PDT) Received: from postal.iol.unh.edu (postal.iol.unh.edu. [132.177.123.84]) by smtp-relay.gmail.com with ESMTPS id 00721157ae682-78104636416sm45957b3.33.2025.10.09.06.51.12 (version=TLS1_2 cipher=ECDHE-ECDSA-AES128-GCM-SHA256 bits=128/128); Thu, 09 Oct 2025 06:51:12 -0700 (PDT) X-Relaying-Domain: iol.unh.edu Date: Thu, 09 Oct 2025 06:51:12 -0700 (PDT) Message-ID: <68e7bdd0.050a0220.94959.03a0SMTPIN_ADDED_MISSING@mx.google.com> Received: from [172.21.0.2] (unknown [172.18.0.240]) by postal.iol.unh.edu (Postfix) with ESMTP id 1FA5D6051830; Thu, 9 Oct 2025 09:51:12 -0400 (EDT) Subject: |SUCCESS| [GIT MASTER] 3b43ce3f4a54468e7ef65760c2fd7b4d6ee6d9fc From: dpdklab@iol.unh.edu To: Test Report Cc: dpdk-test-reports@iol.unh.edu, Xueming Li , Christian Ehrhardt , Kevin Traynor , Luca Boccassi Content-Type: text/plain X-BeenThere: test-report@dpdk.org X-Mailman-Version: 2.1.29 Precedence: list List-Id: automatic DPDK test reports List-Unsubscribe: , List-Archive: List-Post: List-Help: List-Subscribe: , Errors-To: test-report-bounces@dpdk.org _Testing PASS_ Branch: tags/v22.11 3b43ce3f4a54468e7ef65760c2fd7b4d6ee6d9fc --> testing pass Upstream job id: Generic-DPDK-Compile-Meson#432798 Test environment and result as below: +-------------------------------+--------------------+-------------------------+----------------------+ | Environment | dpdk_meson_compile | dpdk_llvm_clang_compile | dpdk_mingw64_compile | +===============================+====================+=========================+======================+ | Ubuntu 20.04 | PASS | SKIPPED | SKIPPED | +-------------------------------+--------------------+-------------------------+----------------------+ | FreeBSD 14.2 | PASS | SKIPPED | SKIPPED | +-------------------------------+--------------------+-------------------------+----------------------+ | CentOS Stream 9 | PASS | SKIPPED | SKIPPED | +-------------------------------+--------------------+-------------------------+----------------------+ | CentOS Stream 10 | PASS | SKIPPED | SKIPPED | +-------------------------------+--------------------+-------------------------+----------------------+ | Debian GNU/Linux 12 | PASS | SKIPPED | SKIPPED | +-------------------------------+--------------------+-------------------------+----------------------+ | Fedora Linux 42 | PASS | SKIPPED | SKIPPED | +-------------------------------+--------------------+-------------------------+----------------------+ | openSUSE Leap 15.6 | PASS | SKIPPED | SKIPPED | +-------------------------------+--------------------+-------------------------+----------------------+ | Red Hat Enterprise Linux 8.10 | PASS | SKIPPED | SKIPPED | +-------------------------------+--------------------+-------------------------+----------------------+ | Red Hat Enterprise Linux 9.5 | PASS | SKIPPED | SKIPPED | +-------------------------------+--------------------+-------------------------+----------------------+ | Ubuntu 22.04 | PASS | SKIPPED | SKIPPED | +-------------------------------+--------------------+-------------------------+----------------------+ | Ubuntu 24.04 | PASS | SKIPPED | SKIPPED | +-------------------------------+--------------------+-------------------------+----------------------+ | Windows Server 2022 | SKIPPED | PASS | PASS | +-------------------------------+--------------------+-------------------------+----------------------+ Ubuntu 20.04 Kernel: 4.19 Compiler: gcc gcc (Ubuntu 9.4.0-1ubuntu1~20.04.2) 9.4.0 FreeBSD 14.2 Kernel: 14.2-RELEASE Compiler: clang 18.1.6 CentOS Stream 9 Kernel: 5.15 Compiler: gcc gcc (GCC) 11.5.0 20240719 (Red Hat 11.5.0-11) CentOS Stream 10 Kernel: 5.15 Compiler: gcc gcc (GCC) 14.2.1 20250110 (Red Hat 14.2.1-8) Debian GNU/Linux 12 Kernel: 5.15 Compiler: gcc gcc (Debian 12.2.0-14+deb12u1) 12.2.0 Fedora Linux 42 Kernel: 5.15 Compiler: clang gcc (GCC) 15.2.1 20250808 (Red Hat 15.2.1-1) openSUSE Leap 15.6 Kernel: 5.15 Compiler: gcc gcc (SUSE Linux) 7.5.0 Red Hat Enterprise Linux 8.10 Kernel: 5.15 Compiler: gcc gcc (GCC) 8.5.0 20210514 (Red Hat 8.5.0-22) Red Hat Enterprise Linux 9.5 Kernel: 5.15 Compiler: gcc gcc (GCC) 11.5.0 20240719 (Red Hat 11.5.0-2) Ubuntu 22.04 Kernel: 5.15 Compiler: gcc gcc (Ubuntu 11.4.0-1ubuntu1~22.04) 11.4.0 Ubuntu 24.04 Kernel: 5.15 Compiler: gcc gcc (Ubuntu 13.3.0-6ubuntu2~24.04) 13.3.0 Windows Server 2022 Kernel: 10.0.20348.2031 Compiler: clang 15.0.7, gcc 14.1.0 (MinGW), and MSVC VS 19.39.33521 To view detailed results, visit: https://lab.dpdk.org/results/dashboard/tarballs/35152/ UNH-IOL DPDK Community Lab To manage your email subscriptions, visit: https://lab.dpdk.org/results/dashboard/preferences/subscriptions/