From mboxrd@z Thu Jan 1 00:00:00 1970 Return-Path: Received: from mails.dpdk.org (mails.dpdk.org [217.70.189.124]) by inbox.dpdk.org (Postfix) with ESMTP id C90A1488F2 for ; Thu, 9 Oct 2025 16:15:27 +0200 (CEST) Received: from mails.dpdk.org (localhost [127.0.0.1]) by mails.dpdk.org (Postfix) with ESMTP id B1AEA40267; Thu, 9 Oct 2025 16:15:27 +0200 (CEST) Received: from mail-yw1-f228.google.com (mail-yw1-f228.google.com [209.85.128.228]) by mails.dpdk.org (Postfix) with ESMTP id 2EDE140267 for ; Thu, 9 Oct 2025 16:15:27 +0200 (CEST) Received: by mail-yw1-f228.google.com with SMTP id 00721157ae682-71d71bcab69so9611527b3.0 for ; Thu, 09 Oct 2025 07:15:27 -0700 (PDT) DKIM-Signature: v=1; a=rsa-sha256; c=relaxed/relaxed; d=iol.unh.edu; s=unh-iol; t=1760019326; x=1760624126; darn=dpdk.org; h=references:in-reply-to:cc:to:from:subject:message-id:date:from:to :cc:subject:date:message-id:reply-to; bh=m8HTpLtdZyEdYHDekwVocSX+ZOjlBPxibXvhxqVmXic=; b=hR+HzK0SJkQYV8dpiIFj1pHclmFpiy1n5br7+xdkSbBMfLbHxB/xmr5l2lRjPOislb WZMpw6TwYd8YF6fICtJp4GggZJ0yV77j9QWqnW5iLVBD00TE0B9971kWCei+NcTocsnl S8JcCWhUBzNgKJRu3VnOyb/3I3gTg0aHASbcg= X-Google-DKIM-Signature: v=1; a=rsa-sha256; c=relaxed/relaxed; d=1e100.net; s=20230601; t=1760019326; x=1760624126; h=references:in-reply-to:cc:to:from:subject:message-id:date :x-gm-message-state:from:to:cc:subject:date:message-id:reply-to; bh=m8HTpLtdZyEdYHDekwVocSX+ZOjlBPxibXvhxqVmXic=; b=GxOSZyXkk/20V0fwQ37UTIqtCR13tpgAJTO4w84SLaDuj0a0qESF2MxeoIaF/vuuGm rfODi9e+fcJbZvY8Vo8j46IT/Iz0w5hGyrWWiC5ooPFylzFbEiHv6G6Qf3iyG+iZg2A7 b8NRg5dW2CL5KMc7PPm1i/Ib8h2wpQjCpaOF7Xtj46E9PbUq2vBg5WS4bE5AFPzG1vaT 9Z3em1Zlo2OzU5hQxyir7gdHAOHHjzaCDUj4x4bQuSnhW/F8NUVplVbUy+XCslTu8D9q V6Wg2RzUbZ4p1Fe/ZSOHPaS1EbTxwMOq1G3BVUsWdRYNnoaMiQlaysBWj0q8v918a9rN KAUg== X-Gm-Message-State: AOJu0YyAo/kGySL6xh5zOdYbDHixdvi80h2vwS4B2vgo3fSNpW/ro+7e u5uywFefq/EI4qTJE3XcjHTWZTOuuslRUYy5ao44Xji6WyBaWkhG3uS1cspCPRAMhiqICG+/el1 t9RZS+gqq4M6vq4N4PJdc1EWv2nPiaIlMx8cKYbrTh8uZChaqJZnBw14xwj4N X-Gm-Gg: ASbGncubMKlV0q3C74iMDhFNRw7qx4blGSnpQpCXCJ8opwjgbSX09eL8D59xookeDCf vXKoMJSsKEMInyziu23vBJsI9zRvcW0qshZlehJtYO6nKjBxWMrac/W08ce8DApQP9jq0eDyWTb rUtKcjZoL6qCenBqbtPDdGeVXY7OydNPsW1xTX5DjGB7ZIzQIYQR153yG1IwUskQmvyvu9L8S/X CFpnFTFZcdLtGL/B/49OKF2/U/8ucLXkIkVzBcQCCoyNbKuZSDaNWcx9Usn/lWf/kNQV0rCxJy/ 8b3soVsE2Oom3hldI9p/WVpEqrPpyLe73bjJkx/JjL1rEuzEGHFXNps= X-Google-Smtp-Source: AGHT+IEq8K/IeIzw7PT1nUUE3YNNeV+H1Zqnhmm7onF+Nj9LBxoay1kIqbSPVPISh4AtY+1UdLeswEhDSHaL X-Received: by 2002:a05:690c:4d43:b0:76c:e8b7:a625 with SMTP id 00721157ae682-780e1476fbdmr104360727b3.21.1760019326249; Thu, 09 Oct 2025 07:15:26 -0700 (PDT) Received: from postal.iol.unh.edu (postal.iol.unh.edu. [2606:4100:3880:1234::84]) by smtp-relay.gmail.com with ESMTPS id 00721157ae682-780fed8c3cfsm568147b3.23.2025.10.09.07.15.26 (version=TLS1_2 cipher=ECDHE-ECDSA-AES128-GCM-SHA256 bits=128/128); Thu, 09 Oct 2025 07:15:26 -0700 (PDT) X-Relaying-Domain: iol.unh.edu Date: Thu, 09 Oct 2025 07:15:26 -0700 (PDT) Message-ID: <68e7c37e.050a0220.398818.284eSMTPIN_ADDED_MISSING@mx.google.com> Received: from [172.21.0.2] (unknown [172.18.0.240]) by postal.iol.unh.edu (Postfix) with ESMTP id E0F366051830; Thu, 9 Oct 2025 10:15:25 -0400 (EDT) Subject: |SUCCESS| pw157370-157390 [PATCH] [v11,21/21] eal: allow lcore remap From: dpdklab@iol.unh.edu To: Test Report Cc: dpdk-test-reports@iol.unh.edu In-Reply-To: <20251009130056.2630343-22-bruce.richardson@intel.com> References: <20251009130056.2630343-22-bruce.richardson@intel.com> Content-Type: text/plain X-BeenThere: test-report@dpdk.org X-Mailman-Version: 2.1.29 Precedence: list List-Id: automatic DPDK test reports List-Unsubscribe: , List-Archive: List-Post: List-Help: List-Subscribe: , Errors-To: test-report-bounces@dpdk.org Test-Label: iol-compile-amd64-testing Test-Status: SUCCESS http://dpdk.org/patch/157390 _Testing PASS_ Submitter: Bruce Richardson Date: Thursday, October 09 2025 13:00:56 DPDK git baseline: Repo:dpdk Branch: master CommitID:2b403dd8fb37d0ba13723e44ffc7ee2c2795f838 157370-157390 --> testing pass Upstream job id: Windows-Compile-DPDK-Native#31522 Test environment and result as below: +---------------------+-------------------------+--------------------+-------------------+----------------------+ | Environment | dpdk_llvm_clang_compile | dpdk_meson_compile | dpdk_msvc_compile | dpdk_mingw64_compile | +=====================+=========================+====================+===================+======================+ | Windows Server 2022 | PASS | SKIPPED | PASS | PASS | +---------------------+-------------------------+--------------------+-------------------+----------------------+ | Ubuntu 20.04 | SKIPPED | PASS | SKIPPED | SKIPPED | +---------------------+-------------------------+--------------------+-------------------+----------------------+ | FreeBSD 14.2 | SKIPPED | PASS | SKIPPED | SKIPPED | +---------------------+-------------------------+--------------------+-------------------+----------------------+ Windows Server 2022 Kernel: 10.0.20348.2031 Compiler: clang 15.0.7, gcc 14.1.0 (MinGW), and MSVC VS 19.39.33521 Ubuntu 20.04 Kernel: 4.19 Compiler: gcc gcc (Ubuntu 9.4.0-1ubuntu1~20.04.2) 9.4.0 FreeBSD 14.2 Kernel: 14.2-RELEASE Compiler: clang 18.1.6 To view detailed results, visit: https://lab.dpdk.org/results/dashboard/patchsets/34246/ UNH-IOL DPDK Community Lab To manage your email subscriptions, visit: https://lab.dpdk.org/results/dashboard/preferences/subscriptions/