From mboxrd@z Thu Jan 1 00:00:00 1970 Return-Path: Received: from mails.dpdk.org (mails.dpdk.org [217.70.189.124]) by inbox.dpdk.org (Postfix) with ESMTP id 75DF5488F2 for ; Thu, 9 Oct 2025 16:22:15 +0200 (CEST) Received: from mails.dpdk.org (localhost [127.0.0.1]) by mails.dpdk.org (Postfix) with ESMTP id 54758402A0; Thu, 9 Oct 2025 16:22:15 +0200 (CEST) Received: from mail-ot1-f98.google.com (mail-ot1-f98.google.com [209.85.210.98]) by mails.dpdk.org (Postfix) with ESMTP id 1610440267 for ; Thu, 9 Oct 2025 16:22:14 +0200 (CEST) Received: by mail-ot1-f98.google.com with SMTP id 46e09a7af769-7c0dd405c38so683370a34.0 for ; Thu, 09 Oct 2025 07:22:14 -0700 (PDT) DKIM-Signature: v=1; a=rsa-sha256; c=relaxed/relaxed; d=iol.unh.edu; s=unh-iol; t=1760019733; x=1760624533; darn=dpdk.org; h=references:in-reply-to:cc:to:from:subject:message-id:date:from:to :cc:subject:date:message-id:reply-to; bh=+MkTse5ZDovDlNgmy0EnwMwo2MYXPPjIvCCMRF3iu5c=; b=GDtELoZJ/JJaGwt8p+mR6z/KoNQqgE+ow2+42r7onyib9fbL69iHdGWug6QB3gdR3x A3FDh9RI7MJ4LnFw9DqBXFmhtUX9vfFt4lOvxJ6HaanhZVw7A7g2JFYKOlSy3QUlY5qy bJ9rP+8kwJWNTxVDG13fE64niUQUHqacnscn4= X-Google-DKIM-Signature: v=1; a=rsa-sha256; c=relaxed/relaxed; d=1e100.net; s=20230601; t=1760019733; x=1760624533; h=references:in-reply-to:cc:to:from:subject:message-id:date :x-gm-message-state:from:to:cc:subject:date:message-id:reply-to; bh=+MkTse5ZDovDlNgmy0EnwMwo2MYXPPjIvCCMRF3iu5c=; b=JlAVvpWwkTGONKCjq43OCsOi6fd+ifiUItsCPmpYFgY9Io78ivVQAIvj/lBNk4+VwF GY8+jR3M+ai8oTt0Nfm0Z4U8oO5TQtkwswcy35IbV+73zmk2lkm8FMwc7kRVIsmI92q1 IUkhZBNmzPHTOB75HUOwqfbESS3Y2uEZbHXC28tYwCKu8YdVVndLXNmy7is1li9IW98x K0dZ8unit0fmSnEu01YE70BtIJYOJb8oqi4NjsgAxewws6HMYOPDzSVZ8Qq7w76XZk+A Kbo73rZcuMJsJsWBe7lkrR/lQEQ82LmrRkk7VArzHp9QvIbaCbpbRC14x2YwMPfHGZwv /jiA== X-Gm-Message-State: AOJu0YwMjzxYkVWlqOJODFuYl/kAFCOI5DhcyF4s7UISV/Ktku0EC92e ch4waXeds+eMjidMrUbMBeqdSG5zE3w6sSMECTshmgZIZTGUqgIbIqG5XylirVyVViPkM1BE/2Y C3CB6XlP7q6hrUS8oNTZWh0r19G4RcAPQFRrXC+VDIAs6 X-Gm-Gg: ASbGnculP4I1DepIaYg73ko81IWmg2Su0gMnDr1V/gH4ivUQKRKXPx+FM/O92HsMz+l 1NaMq0ejeEJzZ7xzHquDA8yreCpGufn0tUkYhaJRZQkzBCINm8s+Pj2xYFHje3TEotAJZb4CN5B B7JtP0ZjQhwvxyiywIueZKjkrHZ593fTxkDjVRIsKFHpc0dEqDimcsVyf6ZhSLP/K1ENjavC+Y7 +QwPknctNprZCg3nOR1iLxlnPsxC58SDazQs7NMVKSTJ/4sUKGrmLfNwHcTOio6ngWrfbcMsvlX oLCJw32paMd6x9z32zWFebSjlo64/2g942LHOBCWdOw81EZIxy0jtzTxVAjL1DlOcpXVRKXzTdn B6g== X-Google-Smtp-Source: AGHT+IHl5qeSFB/Mbu50WC5gBxlhlmyjCxIREDAHuHh72sePo704u9KK7IUoL6I39bZ86b4xuEhATjMxTjIJ X-Received: by 2002:a05:6830:67f5:b0:79a:36bb:1086 with SMTP id 46e09a7af769-7c0df6bbc1amr3869709a34.22.1760019733105; Thu, 09 Oct 2025 07:22:13 -0700 (PDT) Received: from postal.iol.unh.edu (postal.iol.unh.edu. [132.177.123.84]) by smtp-relay.gmail.com with ESMTPS id 46e09a7af769-7bf41ec9b34sm1585383a34.7.2025.10.09.07.22.13 (version=TLS1_2 cipher=ECDHE-ECDSA-AES128-GCM-SHA256 bits=128/128); Thu, 09 Oct 2025 07:22:13 -0700 (PDT) X-Relaying-Domain: iol.unh.edu Date: Thu, 09 Oct 2025 07:22:13 -0700 (PDT) Message-ID: <68e7c515.9d0a0220.5353d.639aSMTPIN_ADDED_MISSING@mx.google.com> Received: from [172.21.0.2] (unknown [172.18.0.240]) by postal.iol.unh.edu (Postfix) with ESMTP id 4F4DC6051830; Thu, 9 Oct 2025 10:22:12 -0400 (EDT) Subject: |SUCCESS| pw157370-157390 [PATCH] [v11,21/21] eal: allow lcore remap From: dpdklab@iol.unh.edu To: Test Report Cc: dpdk-test-reports@iol.unh.edu In-Reply-To: <20251009130056.2630343-22-bruce.richardson@intel.com> References: <20251009130056.2630343-22-bruce.richardson@intel.com> Content-Type: text/plain X-BeenThere: test-report@dpdk.org X-Mailman-Version: 2.1.29 Precedence: list List-Id: automatic DPDK test reports List-Unsubscribe: , List-Archive: List-Post: List-Help: List-Subscribe: , Errors-To: test-report-bounces@dpdk.org Test-Label: iol-unit-amd64-testing Test-Status: SUCCESS http://dpdk.org/patch/157390 _Testing PASS_ Submitter: Bruce Richardson Date: Thursday, October 09 2025 13:00:56 DPDK git baseline: Repo:dpdk Branch: master CommitID:2b403dd8fb37d0ba13723e44ffc7ee2c2795f838 157370-157390 --> testing pass Upstream job id: Generic-Unit-Test-DPDK#379978 Test environment and result as below: +-------------------------------+----------------+ | Environment | dpdk_unit_test | +===============================+================+ | Fedora Linux 41 | PASS | +-------------------------------+----------------+ | Fedora Linux 40 | PASS | +-------------------------------+----------------+ | Debian GNU/Linux 12 | PASS | +-------------------------------+----------------+ | CentOS Stream 9 | PASS | +-------------------------------+----------------+ | CentOS Stream 10 | PASS | +-------------------------------+----------------+ | Red Hat Enterprise Linux 8.10 | PASS | +-------------------------------+----------------+ | Ubuntu 22.04 | PASS | +-------------------------------+----------------+ | Fedora Linux 42 | PASS | +-------------------------------+----------------+ | Ubuntu 24.04 | PASS | +-------------------------------+----------------+ | Red Hat Enterprise Linux 9.5 | PASS | +-------------------------------+----------------+ | Ubuntu 20.04 | PASS | +-------------------------------+----------------+ | Windows Server 2022 | PASS | +-------------------------------+----------------+ Fedora Linux 41 Kernel: 5.15 Compiler: gcc gcc (GCC) 14.3.1 20250523 (Red Hat 14.3.1-1) Fedora Linux 40 Kernel: 5.15 Compiler: clang gcc (GCC) 14.2.1 20240912 (Red Hat 14.2.1-3) Debian GNU/Linux 12 Kernel: 5.15 Compiler: gcc gcc (Debian 12.2.0-14+deb12u1) 12.2.0 CentOS Stream 9 Kernel: 5.15 Compiler: gcc gcc (GCC) 11.5.0 20240719 (Red Hat 11.5.0-11) CentOS Stream 10 Kernel: 5.15 Compiler: gcc gcc (GCC) 14.2.1 20250110 (Red Hat 14.2.1-8) Red Hat Enterprise Linux 8.10 Kernel: 5.15 Compiler: gcc gcc (GCC) 8.5.0 20210514 (Red Hat 8.5.0-22) Ubuntu 22.04 Kernel: 5.15 Compiler: gcc gcc (Ubuntu 11.4.0-1ubuntu1~22.04) 11.4.0 Fedora Linux 42 Kernel: 5.15 Compiler: gcc gcc (GCC) 15.2.1 20250808 (Red Hat 15.2.1-1) Ubuntu 24.04 Kernel: 5.15 Compiler: gcc gcc (Ubuntu 13.3.0-6ubuntu2~24.04) 13.3.0 Red Hat Enterprise Linux 9.5 Kernel: 5.15 Compiler: gcc gcc (GCC) 11.5.0 20240719 (Red Hat 11.5.0-2) Ubuntu 20.04 Kernel: 5.15 Compiler: gcc gcc (Ubuntu 9.4.0-1ubuntu1~20.04.2) 9.4.0 Windows Server 2022 Kernel: 10.0.20348.2031 Compiler: clang 15.0.7, gcc 14.1.0 (MinGW), and MSVC VS 19.39.33521 To view detailed results, visit: https://lab.dpdk.org/results/dashboard/patchsets/34246/ UNH-IOL DPDK Community Lab To manage your email subscriptions, visit: https://lab.dpdk.org/results/dashboard/preferences/subscriptions/