From mboxrd@z Thu Jan 1 00:00:00 1970 Return-Path: Received: from mails.dpdk.org (mails.dpdk.org [217.70.189.124]) by inbox.dpdk.org (Postfix) with ESMTP id 85A17488F2 for ; Thu, 9 Oct 2025 17:55:46 +0200 (CEST) Received: from mails.dpdk.org (localhost [127.0.0.1]) by mails.dpdk.org (Postfix) with ESMTP id 7DFA540267; Thu, 9 Oct 2025 17:55:46 +0200 (CEST) Received: from mail-pl1-f227.google.com (mail-pl1-f227.google.com [209.85.214.227]) by mails.dpdk.org (Postfix) with ESMTP id 4FC1B402A0 for ; Thu, 9 Oct 2025 17:55:45 +0200 (CEST) Received: by mail-pl1-f227.google.com with SMTP id d9443c01a7336-27ee41e0798so18565155ad.1 for ; Thu, 09 Oct 2025 08:55:45 -0700 (PDT) DKIM-Signature: v=1; a=rsa-sha256; c=relaxed/relaxed; d=iol.unh.edu; s=unh-iol; t=1760025344; x=1760630144; darn=dpdk.org; h=references:in-reply-to:cc:to:from:subject:message-id:date:from:to :cc:subject:date:message-id:reply-to; bh=sXiiPNI8UlkdVP6i+eonDkeunsUv/ic8ETcf8/YVdwY=; b=PisQywPTrqx2VxE73BtAvzxwmlNYLzlKIxNmS0YZ1EESp+Oc2WTPuB5hSwrhaseyxr 05MBbpvZyON7MYXAwG3p7EdtM1UtHrXRPCsNuQbp28zciZLPhZKmp9W0DwyLpzUKVd8w /OFU6eyF7iXKwjGdzblAXBHQT3+tIDwjz0eY0= X-Google-DKIM-Signature: v=1; a=rsa-sha256; c=relaxed/relaxed; d=1e100.net; s=20230601; t=1760025344; x=1760630144; h=references:in-reply-to:cc:to:from:subject:message-id:date :x-gm-message-state:from:to:cc:subject:date:message-id:reply-to; bh=sXiiPNI8UlkdVP6i+eonDkeunsUv/ic8ETcf8/YVdwY=; b=jSzLkwJEr9EPx0Iw+nrQ4caZuITU658tlvJtQa75DB7pw2BmmjAexSvpHEpfYTD1r0 zfGI4tmjg38iWbez7lZeuaxnaIv/I9TeAT1wirDDxAkCYNHlZpOTkfyHpK2N5EJp6fw1 jzAqehl7pN3DmKKWwblLrWojKHiUDPBU5OwhU9uVZtMHHCVuU0iZIC3OF6yy3Fa1j7uD TQfO7/Pl0WA3MX6qFjoZGNuEtb478PmWDe4TPYM+5im0dw/mCTtB5em8EVC9Tjr5UuDJ cPnnJI3tTFPB/XidLWwG7sBDktHfGvlN6tD9XXuIeS9QW2Sg+W2WwSX6G10YXPQ9qO0t 6VLg== X-Gm-Message-State: AOJu0Yx4nin0Of+cHvDHV7c+dPc9saux0ChGzDnwuVRenNKPvytMgH6y 7yYpmMPE2KPgRSqPU6SBNdyqvabr5kkaHdOCowqXuRNnc+GMYct4ujKxOkfIrkFY3fla/uhHQPX st3eqPBg0abg3tvXgoZFR65flwfQFI7HUc/f0Xoi23I/1 X-Gm-Gg: ASbGncsPTGsiAGhZPrYFinlK8bEAtv0yRIPDbh53+ysrQTnyW4RCugmGuS1KHMSqtRQ HlaaQ5KTmH5ZTuDCwZZv5Fi384uDcvpq7cfmlQPF4GSvMGWNw48fPdokMdJoly+XF+8qSYSvoTO mQ9u0EnK0t/sE+QaMqHP3D61PWvD2tWiM8nK9JofUegKk7HY88sFG+vZdNqVovJqOvqxueGD/Pv gmIJa4j9QKd/geR2/DWW841CH2JDkt6VCY1jEF7vEfgGhCPVkU3rkUdVLMePDfSUwRJ42fKrtqj qXVHUDj0yDLR+UrZ2OHE2CDcK1Sv7ovR3ySNKTPTwN8Tz4LdIHmyZgiueEFwvPOxSn6CZzvsVlj oOw== X-Google-Smtp-Source: AGHT+IH54Aaxt888sf5GAjB1I9shfSB6kZwYtT89d567dVv7fmspnmq6ThQpYK4MTGaRq2ZPY0m6j3Gms8s9 X-Received: by 2002:a17:903:246:b0:24c:9309:5883 with SMTP id d9443c01a7336-290273ecb35mr98221495ad.28.1760025344402; Thu, 09 Oct 2025 08:55:44 -0700 (PDT) Received: from postal.iol.unh.edu (postal.iol.unh.edu. [132.177.123.84]) by smtp-relay.gmail.com with ESMTPS id d9443c01a7336-29034f2dd0asm2660545ad.57.2025.10.09.08.55.44 (version=TLS1_2 cipher=ECDHE-ECDSA-AES128-GCM-SHA256 bits=128/128); Thu, 09 Oct 2025 08:55:44 -0700 (PDT) X-Relaying-Domain: iol.unh.edu Date: Thu, 09 Oct 2025 08:55:44 -0700 (PDT) Message-ID: <68e7db00.170a0220.2f0cb5.df05SMTPIN_ADDED_MISSING@mx.google.com> Received: from [172.21.0.2] (unknown [172.18.0.240]) by postal.iol.unh.edu (Postfix) with ESMTP id A8F78604D420; Thu, 9 Oct 2025 11:55:43 -0400 (EDT) Subject: |SUCCESS| pw157331-157351 [PATCH] [v10,21/21] eal: allow lcore remap From: dpdklab@iol.unh.edu To: Test Report Cc: dpdk-test-reports@iol.unh.edu In-Reply-To: <20251008204244.2288583-22-bruce.richardson@intel.com> References: <20251008204244.2288583-22-bruce.richardson@intel.com> Content-Type: text/plain X-BeenThere: test-report@dpdk.org X-Mailman-Version: 2.1.29 Precedence: list List-Id: automatic DPDK test reports List-Unsubscribe: , List-Archive: List-Post: List-Help: List-Subscribe: , Errors-To: test-report-bounces@dpdk.org Test-Label: iol-unit-arm64-testing Test-Status: SUCCESS http://dpdk.org/patch/157351 _Testing PASS_ Submitter: Bruce Richardson Date: Wednesday, October 08 2025 20:42:44 DPDK git baseline: Repo:dpdk Branch: master CommitID:2b403dd8fb37d0ba13723e44ffc7ee2c2795f838 157331-157351 --> testing pass Upstream job id: Generic-Unit-Test-DPDK#379704 Test environment and result as below: +------------------------------+----------------+--------------+------------------------------+---------------------------+ | Environment | dpdk_unit_test | lpm_autotest | cryptodev_sw_snow3g_autotest | cryptodev_sw_zuc_autotest | +==============================+================+==============+==============================+===========================+ | CentOS Stream 10 | PASS | SKIPPED | SKIPPED | SKIPPED | +------------------------------+----------------+--------------+------------------------------+---------------------------+ | Ubuntu 24.04 | PASS | SKIPPED | SKIPPED | SKIPPED | +------------------------------+----------------+--------------+------------------------------+---------------------------+ | Debian GNU/Linux 12 | PASS | SKIPPED | SKIPPED | SKIPPED | +------------------------------+----------------+--------------+------------------------------+---------------------------+ | Fedora Linux 40 | PASS | SKIPPED | SKIPPED | SKIPPED | +------------------------------+----------------+--------------+------------------------------+---------------------------+ | CentOS Stream 9 | PASS | SKIPPED | SKIPPED | SKIPPED | +------------------------------+----------------+--------------+------------------------------+---------------------------+ | Red Hat Enterprise Linux 9.5 | PASS | SKIPPED | SKIPPED | SKIPPED | +------------------------------+----------------+--------------+------------------------------+---------------------------+ | Fedora Linux 42 | PASS | SKIPPED | SKIPPED | SKIPPED | +------------------------------+----------------+--------------+------------------------------+---------------------------+ | Fedora Linux 41 | PASS | SKIPPED | SKIPPED | SKIPPED | +------------------------------+----------------+--------------+------------------------------+---------------------------+ | Ubuntu 20.04 | PASS | PASS | SKIPPED | SKIPPED | +------------------------------+----------------+--------------+------------------------------+---------------------------+ | Ubuntu 22.04 | PASS | SKIPPED | SKIPPED | SKIPPED | +------------------------------+----------------+--------------+------------------------------+---------------------------+ | Debian 12 (arm) | SKIPPED | SKIPPED | PASS | PASS | +------------------------------+----------------+--------------+------------------------------+---------------------------+ CentOS Stream 10 Kernel: 5.4 Compiler: gcc gcc (GCC) 14.2.1 20250110 (Red Hat 14.2.1-8) Ubuntu 24.04 Kernel: 5.4 Compiler: gcc gcc (Ubuntu 13.3.0-6ubuntu2~24.04) 13.3.0 Debian GNU/Linux 12 Kernel: 5.4 Compiler: gcc gcc (Debian 12.2.0-14+deb12u1) 12.2.0 Fedora Linux 40 Kernel: 5.4 Compiler: gcc gcc (GCC) 14.2.1 20240912 (Red Hat 14.2.1-3) CentOS Stream 9 Kernel: 5.4 Compiler: gcc gcc (GCC) 11.5.0 20240719 (Red Hat 11.5.0-11) Red Hat Enterprise Linux 9.5 Kernel: 5.4 Compiler: gcc gcc (GCC) 11.5.0 20240719 (Red Hat 11.5.0-2) Fedora Linux 42 Kernel: 5.4 Compiler: gcc gcc (GCC) 15.2.1 20250808 (Red Hat 15.2.1-1) Fedora Linux 41 Kernel: 5.4 Compiler: gcc gcc (GCC) 14.3.1 20250523 (Red Hat 14.3.1-1) Ubuntu 20.04 Kernel: 5.4 Compiler: gcc gcc (Ubuntu 9.4.0-1ubuntu1~20.04.2) 9.4.0 Ubuntu 22.04 Kernel: 5.4 Compiler: gcc gcc (Ubuntu 11.4.0-1ubuntu1~22.04) 11.4.0 Debian 12 (arm) Kernel: Depends on container host Compiler: gcc (Debian 12.2.0-14) 12.2.0 To view detailed results, visit: https://lab.dpdk.org/results/dashboard/patchsets/34239/ UNH-IOL DPDK Community Lab To manage your email subscriptions, visit: https://lab.dpdk.org/results/dashboard/preferences/subscriptions/