From mboxrd@z Thu Jan 1 00:00:00 1970 Return-Path: Received: from mails.dpdk.org (mails.dpdk.org [217.70.189.124]) by inbox.dpdk.org (Postfix) with ESMTP id 67BB3488F2 for ; Thu, 9 Oct 2025 17:57:40 +0200 (CEST) Received: from mails.dpdk.org (localhost [127.0.0.1]) by mails.dpdk.org (Postfix) with ESMTP id 60FDC40267; Thu, 9 Oct 2025 17:57:40 +0200 (CEST) Received: from mail-il1-f227.google.com (mail-il1-f227.google.com [209.85.166.227]) by mails.dpdk.org (Postfix) with ESMTP id 39AC240267 for ; Thu, 9 Oct 2025 17:57:39 +0200 (CEST) Received: by mail-il1-f227.google.com with SMTP id e9e14a558f8ab-42f68a0a89aso9002825ab.1 for ; Thu, 09 Oct 2025 08:57:39 -0700 (PDT) DKIM-Signature: v=1; a=rsa-sha256; c=relaxed/relaxed; d=iol.unh.edu; s=unh-iol; t=1760025458; x=1760630258; darn=dpdk.org; h=references:in-reply-to:cc:to:from:subject:message-id:date:from:to :cc:subject:date:message-id:reply-to; bh=pFz/r9dCIJ/imJ6QZynjyCoa3Tnv8luwfk8IZarI2vE=; b=ATV414apJN5L/astc+nZ5ecVu1E+31YDLx74XGKB8AUaTgqJs/GUwldpsvfZ0zD7Iw nAD9BRTBsxver9cloksC9Vb+P7VXQq9RSUUep1Guo8X/ePI7nTev8lDkG2xNgZn+yWn8 QJ54OugKRH09tyMZ9nrwmZy9/FeqG4U8j6WfE= X-Google-DKIM-Signature: v=1; a=rsa-sha256; c=relaxed/relaxed; d=1e100.net; s=20230601; t=1760025458; x=1760630258; h=references:in-reply-to:cc:to:from:subject:message-id:date :x-gm-message-state:from:to:cc:subject:date:message-id:reply-to; bh=pFz/r9dCIJ/imJ6QZynjyCoa3Tnv8luwfk8IZarI2vE=; b=KNrhBiJuJ+M2osZw6IwWcJupTqQSBnWZTcaIBnxYMgdqZ2SYYTF9n/XtcrSpBG62ae Bu/Iv80tbbzJKPqJrj1C9ciqOcOjmpRJ8uen1fyhFsZmCJLDN7C4Xy6VGVu7vPiDh/GT SVcVp3kDUssundbbi/GA7lVpkwcTQjwPEai9zLu6BoigqtCB1O+yMLSdSDRE+YiJYKvr i2ado3gaCjXVKsZzRXh/jekrgcf34FH9M8KEanIRYZrR1vcwYjaO/oqYwAMWjdTQETe/ hbNTmJnhV/kP4FTPEWfyVMClU0N0u42Fn3wUM8RMoEf8FjTPP3cLvnQePJFv9zxpIkw4 nP4w== X-Gm-Message-State: AOJu0YwEOm+xDo+tDyfcf50jko+CkyjLJF8gt7+uvcXXyEV59sFCjHiS Gx7eOtQlKTRWuZZQI6qMoJhlhJZfaxcTo8AODazb1hDJ4BEUDgTBnpIdxFWPu8IIZzqyD8ZAtWb CrwkPRpN5ILyUsWQ8GBK1gNszecT5rG3MPb4qL/FQAQVO X-Gm-Gg: ASbGncu9fJY7NlE7xU+BPBMiHgl5MhLADWTXVrdsKEtSsdTTq9rlmFhMGONMUs1r4+L i8LBGLZf/3PNs9WkO7ST6j4rBI9gvIxKW3LMkk+ZnfhMEIafY1teFL7Dmhp6nk42nHsHBDfducM p8Sbw43xo2l9FuRexJiJfNGzxNJwRtroFA0EKKL79LdqiAPPHBRU5XPHQN26mYgbgNR0XjcuGYf x9HCgY/yGeR9A1bHpg4aev9ovA+FVXmezwf/S8GbbjBaT7rNoIOxwlh+8bonY76LU1L86PXyxK/ 3lyT9agRpSJKe38vrOY8X3qYFe/znuUndINjvDdCf1wi7Z/uGzBoRoFbOZ78WFsUM8WyJZVThZi SGA== X-Google-Smtp-Source: AGHT+IFhPanB3U4TegGNehxjNeRXnyB+O3wyWYJDejKH+wNcdTbrhM17ys3cngyEakdqxxGHiB/Z7fLIR4I1 X-Received: by 2002:a05:6e02:1545:b0:42f:8d6c:f502 with SMTP id e9e14a558f8ab-42f8d6cf905mr63740865ab.0.1760025458372; Thu, 09 Oct 2025 08:57:38 -0700 (PDT) Received: from postal.iol.unh.edu (postal.iol.unh.edu. [132.177.123.84]) by smtp-relay.gmail.com with ESMTPS id 8926c6da1cb9f-57b5ed663c4sm1690772173.37.2025.10.09.08.57.38 (version=TLS1_2 cipher=ECDHE-ECDSA-AES128-GCM-SHA256 bits=128/128); Thu, 09 Oct 2025 08:57:38 -0700 (PDT) X-Relaying-Domain: iol.unh.edu Date: Thu, 09 Oct 2025 08:57:38 -0700 (PDT) Message-ID: <68e7db72.050a0220.3519c1.a07cSMTPIN_ADDED_MISSING@mx.google.com> Received: from [172.21.0.2] (unknown [172.18.0.240]) by postal.iol.unh.edu (Postfix) with ESMTP id D1EC1604D420; Thu, 9 Oct 2025 11:57:37 -0400 (EDT) Subject: |SUCCESS| pw157331-157351 [PATCH] [v10,21/21] eal: allow lcore remap From: dpdklab@iol.unh.edu To: Test Report Cc: dpdk-test-reports@iol.unh.edu In-Reply-To: <20251008204244.2288583-22-bruce.richardson@intel.com> References: <20251008204244.2288583-22-bruce.richardson@intel.com> Content-Type: text/plain X-BeenThere: test-report@dpdk.org X-Mailman-Version: 2.1.29 Precedence: list List-Id: automatic DPDK test reports List-Unsubscribe: , List-Archive: List-Post: List-Help: List-Subscribe: , Errors-To: test-report-bounces@dpdk.org Test-Label: iol-compile-arm64-testing Test-Status: SUCCESS http://dpdk.org/patch/157351 _Testing PASS_ Submitter: Bruce Richardson Date: Wednesday, October 08 2025 20:42:44 DPDK git baseline: Repo:dpdk Branch: master CommitID:2b403dd8fb37d0ba13723e44ffc7ee2c2795f838 157331-157351 --> testing pass Upstream job id: Generic-DPDK-Compile-Meson#432703 Test environment and result as below: +------------------------------+--------------------+ | Environment | dpdk_meson_compile | +==============================+====================+ | Red Hat Enterprise Linux 9.5 | PASS | +------------------------------+--------------------+ | Ubuntu 20.04 | PASS | +------------------------------+--------------------+ | Debian GNU/Linux 12 | PASS | +------------------------------+--------------------+ | Fedora Linux 42 | PASS | +------------------------------+--------------------+ | Ubuntu 22.04 | PASS | +------------------------------+--------------------+ | Ubuntu 24.04 | PASS | +------------------------------+--------------------+ | CentOS Stream 9 | PASS | +------------------------------+--------------------+ | CentOS Stream 10 | PASS | +------------------------------+--------------------+ Red Hat Enterprise Linux 9.5 Kernel: 5.4 Compiler: gcc gcc (GCC) 11.5.0 20240719 (Red Hat 11.5.0-2) Ubuntu 20.04 Kernel: 5.15 Compiler: aarch64-linux-gnu-gcc gcc (Ubuntu 9.4.0-1ubuntu1~20.04.2) 9.4.0 Debian GNU/Linux 12 Kernel: 5.4 Compiler: gcc gcc (Debian 12.2.0-14+deb12u1) 12.2.0 Fedora Linux 42 Kernel: 5.4 Compiler: gcc gcc (GCC) 15.2.1 20250808 (Red Hat 15.2.1-1) Ubuntu 22.04 Kernel: 5.4 Compiler: gcc gcc (Ubuntu 11.4.0-1ubuntu1~22.04) 11.4.0 Ubuntu 24.04 Kernel: 5.4 Compiler: gcc gcc (Ubuntu 13.3.0-6ubuntu2~24.04) 13.3.0 CentOS Stream 9 Kernel: 5.4 Compiler: gcc gcc (GCC) 11.5.0 20240719 (Red Hat 11.5.0-11) CentOS Stream 10 Kernel: 5.4 Compiler: gcc gcc (GCC) 14.2.1 20250110 (Red Hat 14.2.1-8) To view detailed results, visit: https://lab.dpdk.org/results/dashboard/patchsets/34239/ UNH-IOL DPDK Community Lab To manage your email subscriptions, visit: https://lab.dpdk.org/results/dashboard/preferences/subscriptions/