From mboxrd@z Thu Jan 1 00:00:00 1970 Return-Path: Received: from mails.dpdk.org (mails.dpdk.org [217.70.189.124]) by inbox.dpdk.org (Postfix) with ESMTP id BB81A488F3 for ; Thu, 9 Oct 2025 19:15:06 +0200 (CEST) Received: from mails.dpdk.org (localhost [127.0.0.1]) by mails.dpdk.org (Postfix) with ESMTP id 9E50E40267; Thu, 9 Oct 2025 19:15:06 +0200 (CEST) Received: from mail-il1-f226.google.com (mail-il1-f226.google.com [209.85.166.226]) by mails.dpdk.org (Postfix) with ESMTP id 0F0FD40267 for ; Thu, 9 Oct 2025 19:15:05 +0200 (CEST) Received: by mail-il1-f226.google.com with SMTP id e9e14a558f8ab-42f8e93c54eso10657475ab.1 for ; Thu, 09 Oct 2025 10:15:04 -0700 (PDT) DKIM-Signature: v=1; a=rsa-sha256; c=relaxed/relaxed; d=iol.unh.edu; s=unh-iol; t=1760030104; x=1760634904; darn=dpdk.org; h=references:in-reply-to:cc:to:from:subject:message-id:date:from:to :cc:subject:date:message-id:reply-to; bh=C8HuHSY5jKoL+ADqZiHDvsbrP7ZIWHOgUW3Fj++n+/Y=; b=JlYRXSwg3TLWhjbJQZ311kqX0PAvmjgX30eAR5+ZCdf+BemqzXNq1qulusR55ufkxV 3VYfXPO/R8MH6Tbie1M8AAQF/Qw+cMBEdVBJL1q0U2MceMZFX1o/+WgAuCTjfzZagzZW 1jSwK9atApCWybkRG4yGjCHFqWoG9AF9kN7ho= X-Google-DKIM-Signature: v=1; a=rsa-sha256; c=relaxed/relaxed; d=1e100.net; s=20230601; t=1760030104; x=1760634904; h=references:in-reply-to:cc:to:from:subject:message-id:date :x-gm-message-state:from:to:cc:subject:date:message-id:reply-to; bh=C8HuHSY5jKoL+ADqZiHDvsbrP7ZIWHOgUW3Fj++n+/Y=; b=TPPz9tEA1JzF//krgHSCjzJL0fcI2M53hfaOYj9yuhAoAcoSJTOv0BaY3bGeubHUFF S3UYzIgocNSvBYHDKvzMXjCmdWiXvdI9NCORTxSeVexCe9O585r7SYmf9EDaj0NeQ/64 zBzK0c6F4DtWaOEAtGPdPClsMhJfOhHqp5zjZLAuVGM0acL7WPDb3VcDufY33RhWLHiv M6zYsTWT/Al5E82uMO48QAF4k7y1KZ2KuoevY5OU9D+G4+xDpaB4jYzANMXXwF6mN2wR ygDNjeGmtGFmjRocMy2ZLQYugkWDKqgusWWAy2sREPXGpptp4VTbpp50ImhydBUPCLnP RNRg== X-Gm-Message-State: AOJu0YxUbTxqfb2zaXdjrLoaw7modorpDd6CtD5kmKvvjPH8aMYFJumO cBRoTCcRZBaBM1uWP2slGbpPQS3FY6TXWtT6RhEESWbFVmAN93x+Ji1jvvReika8+gkigJh5GSs DLY436OT56tHmtMvkYCy7wyd1/ymwDwdX9vRaKojo58re X-Gm-Gg: ASbGncuiXStS9WDIOvdLOzfDhRd2s+lHYBoIbx/9wr/fYMYT7YPoVLB7C+e+Lo6YaQK o6q8l/7cwPRoJvqa6bwmoHunKu5NkoU4LdCyRV/HdiMTEPaJ2/9nUFUAwxv3xl5SorZ94Z3ZEl/ fLEW9ttn1azA1sLwWtrt6atthcTkwZ824m/MWERyHz9cvoknYhOKna6KL3lMXnceczdMk0Nay6V xoF1Z6gHKdjCK9+5rFbbo9YVXE9/UDXn7ciX/qLfj3U+6mfzLLoOGqj2vREmndRbjhNytMaPOQ3 WeUrDC1yxQTDJ4fzgRUijJF+5fbsS10RmtJQtdit51ArEKH9UuZP8zfpbgAcvAV/+lTbPDISzrh Oyg== X-Google-Smtp-Source: AGHT+IExxrz1k2tg1ksI4l7LsJA0wYVaWLWQ7qB8RtZCTDC7i/m1pYKinMs/yQ6YBWSgQf7uNNu8FgCYBKi1 X-Received: by 2002:a05:6e02:216b:b0:42e:7248:f1 with SMTP id e9e14a558f8ab-42f8736ce3fmr93321515ab.13.1760030104159; Thu, 09 Oct 2025 10:15:04 -0700 (PDT) Received: from postal.iol.unh.edu (postal.iol.unh.edu. [132.177.123.84]) by smtp-relay.gmail.com with ESMTPS id 8926c6da1cb9f-57b5ed26ad8sm1760332173.30.2025.10.09.10.15.04 (version=TLS1_2 cipher=ECDHE-ECDSA-AES128-GCM-SHA256 bits=128/128); Thu, 09 Oct 2025 10:15:04 -0700 (PDT) X-Relaying-Domain: iol.unh.edu Date: Thu, 09 Oct 2025 10:15:04 -0700 (PDT) Message-ID: <68e7ed98.050a0220.19c119.fdadSMTPIN_ADDED_MISSING@mx.google.com> Received: from [172.21.0.2] (unknown [172.18.0.240]) by postal.iol.unh.edu (Postfix) with ESMTP id A896F6050A61; Thu, 9 Oct 2025 13:15:03 -0400 (EDT) Subject: |SUCCESS| pw157355 [PATCH] [v3] net/mlx5: fix age checking crash From: dpdklab@iol.unh.edu To: Test Report Cc: dpdk-test-reports@iol.unh.edu In-Reply-To: <20251009091810.174004-1-rongweil@nvidia.com> References: <20251009091810.174004-1-rongweil@nvidia.com> Content-Type: text/plain X-BeenThere: test-report@dpdk.org X-Mailman-Version: 2.1.29 Precedence: list List-Id: automatic DPDK test reports List-Unsubscribe: , List-Archive: List-Post: List-Help: List-Subscribe: , Errors-To: test-report-bounces@dpdk.org Test-Label: iol-compile-amd64-testing Test-Status: SUCCESS http://dpdk.org/patch/157355 _Testing PASS_ Submitter: Rongwei Liu Date: Thursday, October 09 2025 09:18:10 DPDK git baseline: Repo:dpdk-next-net-mlx Branch: master CommitID:2374f33e1d964e100895fd294966380c46f0886d 157355 --> testing pass Upstream job id: Generic-DPDK-Compile-Meson#432884 Test environment and result as below: +-------------------------------+-------------------------+--------------------+-------------------+----------------------+-------------------+------------------+ | Environment | dpdk_llvm_clang_compile | dpdk_meson_compile | dpdk_msvc_compile | dpdk_mingw64_compile | dpdk_compile_spdk | dpdk_compile_ovs | +===============================+=========================+====================+===================+======================+===================+==================+ | Windows Server 2022 | PASS | SKIPPED | PASS | PASS | SKIPPED | SKIPPED | +-------------------------------+-------------------------+--------------------+-------------------+----------------------+-------------------+------------------+ | Ubuntu 20.04 | SKIPPED | PASS | SKIPPED | SKIPPED | SKIPPED | SKIPPED | +-------------------------------+-------------------------+--------------------+-------------------+----------------------+-------------------+------------------+ | FreeBSD 14.2 | SKIPPED | PASS | SKIPPED | SKIPPED | SKIPPED | SKIPPED | +-------------------------------+-------------------------+--------------------+-------------------+----------------------+-------------------+------------------+ | CentOS Stream 9 | SKIPPED | PASS | SKIPPED | SKIPPED | PASS | SKIPPED | +-------------------------------+-------------------------+--------------------+-------------------+----------------------+-------------------+------------------+ | CentOS Stream 10 | SKIPPED | PASS | SKIPPED | SKIPPED | SKIPPED | SKIPPED | +-------------------------------+-------------------------+--------------------+-------------------+----------------------+-------------------+------------------+ | Debian GNU/Linux 12 | SKIPPED | PASS | SKIPPED | SKIPPED | PASS | SKIPPED | +-------------------------------+-------------------------+--------------------+-------------------+----------------------+-------------------+------------------+ | Fedora Linux 42 | SKIPPED | PASS | SKIPPED | SKIPPED | PASS | PASS | +-------------------------------+-------------------------+--------------------+-------------------+----------------------+-------------------+------------------+ | openSUSE Leap 15.6 | SKIPPED | PASS | SKIPPED | SKIPPED | SKIPPED | SKIPPED | +-------------------------------+-------------------------+--------------------+-------------------+----------------------+-------------------+------------------+ | Red Hat Enterprise Linux 8.10 | SKIPPED | PASS | SKIPPED | SKIPPED | SKIPPED | SKIPPED | +-------------------------------+-------------------------+--------------------+-------------------+----------------------+-------------------+------------------+ | Red Hat Enterprise Linux 9.5 | SKIPPED | PASS | SKIPPED | SKIPPED | SKIPPED | SKIPPED | +-------------------------------+-------------------------+--------------------+-------------------+----------------------+-------------------+------------------+ | Ubuntu 22.04 | SKIPPED | PASS | SKIPPED | SKIPPED | PASS | SKIPPED | +-------------------------------+-------------------------+--------------------+-------------------+----------------------+-------------------+------------------+ | Ubuntu 24.04 | SKIPPED | PASS | SKIPPED | SKIPPED | PASS | PASS | +-------------------------------+-------------------------+--------------------+-------------------+----------------------+-------------------+------------------+ | Alpine Linux 3.22.0 | SKIPPED | PASS | SKIPPED | SKIPPED | SKIPPED | SKIPPED | +-------------------------------+-------------------------+--------------------+-------------------+----------------------+-------------------+------------------+ Windows Server 2022 Kernel: 10.0.20348.2031 Compiler: clang 15.0.7, gcc 14.1.0 (MinGW), and MSVC VS 19.39.33521 Ubuntu 20.04 Kernel: 4.19 Compiler: gcc gcc (Ubuntu 9.4.0-1ubuntu1~20.04.2) 9.4.0 FreeBSD 14.2 Kernel: 14.2-RELEASE Compiler: clang 18.1.6 CentOS Stream 9 Kernel: 5.15 Compiler: gcc gcc (GCC) 11.5.0 20240719 (Red Hat 11.5.0-11) CentOS Stream 10 Kernel: 5.15 Compiler: gcc gcc (GCC) 14.2.1 20250110 (Red Hat 14.2.1-8) Debian GNU/Linux 12 Kernel: 5.15 Compiler: gcc gcc (Debian 12.2.0-14+deb12u1) 12.2.0 Fedora Linux 42 Kernel: 5.15 Compiler: clang gcc (GCC) 15.2.1 20250808 (Red Hat 15.2.1-1) openSUSE Leap 15.6 Kernel: 5.15 Compiler: gcc gcc (SUSE Linux) 7.5.0 Red Hat Enterprise Linux 8.10 Kernel: 5.15 Compiler: gcc gcc (GCC) 8.5.0 20210514 (Red Hat 8.5.0-22) Red Hat Enterprise Linux 9.5 Kernel: 5.15 Compiler: gcc gcc (GCC) 11.5.0 20240719 (Red Hat 11.5.0-2) Ubuntu 22.04 Kernel: 5.15 Compiler: gcc gcc (Ubuntu 11.4.0-1ubuntu1~22.04) 11.4.0 Ubuntu 24.04 Kernel: 5.15 Compiler: gcc gcc (Ubuntu 13.3.0-6ubuntu2~24.04) 13.3.0 Alpine Linux 3.22.0 Kernel: 5.15 Compiler: gcc gcc (Alpine 14.2.0) 14.2.0 To view detailed results, visit: https://lab.dpdk.org/results/dashboard/patchsets/34243/ UNH-IOL DPDK Community Lab To manage your email subscriptions, visit: https://lab.dpdk.org/results/dashboard/preferences/subscriptions/