From mboxrd@z Thu Jan 1 00:00:00 1970 Return-Path: Received: from mails.dpdk.org (mails.dpdk.org [217.70.189.124]) by inbox.dpdk.org (Postfix) with ESMTP id C9DDF488F3 for ; Thu, 9 Oct 2025 19:47:13 +0200 (CEST) Received: from mails.dpdk.org (localhost [127.0.0.1]) by mails.dpdk.org (Postfix) with ESMTP id 9C5034027A; Thu, 9 Oct 2025 19:47:13 +0200 (CEST) Received: from mail-pl1-f226.google.com (mail-pl1-f226.google.com [209.85.214.226]) by mails.dpdk.org (Postfix) with ESMTP id C07944027A for ; Thu, 9 Oct 2025 19:47:12 +0200 (CEST) Received: by mail-pl1-f226.google.com with SMTP id d9443c01a7336-28a5b8b12a1so11995725ad.0 for ; Thu, 09 Oct 2025 10:47:12 -0700 (PDT) DKIM-Signature: v=1; a=rsa-sha256; c=relaxed/relaxed; d=iol.unh.edu; s=unh-iol; t=1760032032; x=1760636832; darn=dpdk.org; h=references:in-reply-to:cc:to:from:subject:message-id:date:from:to :cc:subject:date:message-id:reply-to; bh=1KisUZyA6Cn5OPYGPxsczw2RA+YdXJZL1p7NmPtl9Pw=; b=DI0tWo2aLv01g3bs62pGt3FPVRrhSrOtZ9K0o8PGPiS7zJlhMoFhFsb/LDJZ79m27Y +Fh/0GB9kGPk586jVgVT++E5Pknlt84LcKDtgrNwfvNDFWBjP7tU9nonps7RtU4hLmVp 8we8EdsHg2JUSFgiWLNAselPs8OjzlwMWmLp8= X-Google-DKIM-Signature: v=1; a=rsa-sha256; c=relaxed/relaxed; d=1e100.net; s=20230601; t=1760032032; x=1760636832; h=references:in-reply-to:cc:to:from:subject:message-id:date :x-gm-message-state:from:to:cc:subject:date:message-id:reply-to; bh=1KisUZyA6Cn5OPYGPxsczw2RA+YdXJZL1p7NmPtl9Pw=; b=W52nKkzrEjafEuN759LeQ/+dlS3si/kWXKvKBoNC8qZ8h3nM2S3xEYGRlCT1CCkZTF qwxSKTfdOgp7VIx9kyDyAYDfCXKZW+BtufEWDeC17AcsDxoxdzFfMvjpJ+RRg3O0Srqt ajy10hUNzprE4NCNe0IKdmjUbupQrsUNXbjLESyud1ASORaythFSAhX3yvwXsl9g5Vyx vBmWnzqB4+DH8PUI6p+pQiUoxcr7ibEMRvLvGn5GsLeGYhMOzZzbdEGRevZUkZ7WCFwR TFxU/LwbkdVc5QFSJWWhsN+TYRFzAjJpJCqPLVdIVqfCAJ2GMZY825KTqDqPoeycelC1 /X+A== X-Gm-Message-State: AOJu0YxrA9AKbXQFCfec2tOGhVg1yRGO1xIU35cQQhranufAa2Gw+Zl/ E4WYNkjY+alXtJ63AWbQbiHGJnjJg5SO44TS+9lRO2ND6eGcaXAlmKEN7HM03uXMvK1SNeFyjK8 Hp6ufc4MCSQmzdSV0jTSt9YhVnJzrSaFgi+N6jk/q6Nz8NHBzWPe6c3IhSxhA X-Gm-Gg: ASbGncvVA6HWQ00hfmOjmpn2TvW7I1+uoNKs3wQSPASVDDGla05O5621QNgbKI7QfGB ORd62iiwCvg2Dq+ZCf5kgf66F0o3sdqgbJrwapT8SeM/VNpAOM11Sb3tHp+uqIW3+aAzj3wqQT4 312OZb3c/sjdmJdzozf1Rl2GFGWcnd69BXQonw8yU0lBuYr45Tsd0yBhZhPom2TPSJL+rCRWJHI FJJrl28a8pScdATE3sUBPFQd53/P9JG4/HnMo5sLogmfhKHyEwx+VO2S+g8hAoH6QKGNef1qWeg lZHs5ulRTLgMjSVnLyztuYlxJQgoDTKI+tNNftNZq5D1SIGMIXnNPEA= X-Google-Smtp-Source: AGHT+IFeJaKhV4z6YN80yjvNEYsZuAQhGIE/+LCOfbqGoLIkyOpiP/7fEYVkfgFxI/27YOjF89eLlrMpSH+q X-Received: by 2002:a17:903:3b87:b0:279:fa:30fe with SMTP id d9443c01a7336-2902739aeb6mr100714245ad.26.1760032031863; Thu, 09 Oct 2025 10:47:11 -0700 (PDT) Received: from postal.iol.unh.edu (postal.iol.unh.edu. [2606:4100:3880:1234::84]) by smtp-relay.gmail.com with ESMTPS id d9443c01a7336-29034f2dbc0sm2942615ad.53.2025.10.09.10.47.11 (version=TLS1_2 cipher=ECDHE-ECDSA-AES128-GCM-SHA256 bits=128/128); Thu, 09 Oct 2025 10:47:11 -0700 (PDT) X-Relaying-Domain: iol.unh.edu Date: Thu, 09 Oct 2025 10:47:11 -0700 (PDT) Message-ID: <68e7f51f.170a0220.160eee.f865SMTPIN_ADDED_MISSING@mx.google.com> Received: from [172.21.0.2] (unknown [172.18.0.240]) by postal.iol.unh.edu (Postfix) with ESMTP id 44BB6604D420; Thu, 9 Oct 2025 13:47:11 -0400 (EDT) Subject: |SUCCESS| pw157352 [PATCH] [v1] net/mlx5: fix age checking crash From: dpdklab@iol.unh.edu To: Test Report Cc: dpdk-test-reports@iol.unh.edu In-Reply-To: <20251009022847.100823-1-rongweil@nvidia.com> References: <20251009022847.100823-1-rongweil@nvidia.com> Content-Type: text/plain X-BeenThere: test-report@dpdk.org X-Mailman-Version: 2.1.29 Precedence: list List-Id: automatic DPDK test reports List-Unsubscribe: , List-Archive: List-Post: List-Help: List-Subscribe: , Errors-To: test-report-bounces@dpdk.org Test-Label: iol-compile-arm64-testing Test-Status: SUCCESS http://dpdk.org/patch/157352 _Testing PASS_ Submitter: Rongwei Liu Date: Thursday, October 09 2025 02:28:46 DPDK git baseline: Repo:dpdk-next-net-mlx Branch: master CommitID:2374f33e1d964e100895fd294966380c46f0886d 157352 --> testing pass Upstream job id: Generic-DPDK-Compile-Meson#432730 Test environment and result as below: +------------------------------+--------------------+ | Environment | dpdk_meson_compile | +==============================+====================+ | Ubuntu 20.04 | PASS | +------------------------------+--------------------+ | Red Hat Enterprise Linux 9.5 | PASS | +------------------------------+--------------------+ | Debian GNU/Linux 12 | PASS | +------------------------------+--------------------+ | Fedora Linux 42 | PASS | +------------------------------+--------------------+ | Ubuntu 22.04 | PASS | +------------------------------+--------------------+ | Ubuntu 24.04 | PASS | +------------------------------+--------------------+ | CentOS Stream 9 | PASS | +------------------------------+--------------------+ | CentOS Stream 10 | PASS | +------------------------------+--------------------+ Ubuntu 20.04 Kernel: 5.15 Compiler: aarch64-linux-gnu-gcc gcc (Ubuntu 9.4.0-1ubuntu1~20.04.2) 9.4.0 Red Hat Enterprise Linux 9.5 Kernel: 5.4 Compiler: gcc gcc (GCC) 11.5.0 20240719 (Red Hat 11.5.0-2) Debian GNU/Linux 12 Kernel: 5.4 Compiler: gcc gcc (Debian 12.2.0-14+deb12u1) 12.2.0 Fedora Linux 42 Kernel: 5.4 Compiler: gcc gcc (GCC) 15.2.1 20250808 (Red Hat 15.2.1-1) Ubuntu 22.04 Kernel: 5.4 Compiler: gcc gcc (Ubuntu 11.4.0-1ubuntu1~22.04) 11.4.0 Ubuntu 24.04 Kernel: 5.4 Compiler: gcc gcc (Ubuntu 13.3.0-6ubuntu2~24.04) 13.3.0 CentOS Stream 9 Kernel: 5.4 Compiler: gcc gcc (GCC) 11.5.0 20240719 (Red Hat 11.5.0-11) CentOS Stream 10 Kernel: 5.4 Compiler: gcc gcc (GCC) 14.2.1 20250110 (Red Hat 14.2.1-8) To view detailed results, visit: https://lab.dpdk.org/results/dashboard/patchsets/34240/ UNH-IOL DPDK Community Lab To manage your email subscriptions, visit: https://lab.dpdk.org/results/dashboard/preferences/subscriptions/