From mboxrd@z Thu Jan 1 00:00:00 1970 Return-Path: Received: from mails.dpdk.org (mails.dpdk.org [217.70.189.124]) by inbox.dpdk.org (Postfix) with ESMTP id B07F6488F3 for ; Thu, 9 Oct 2025 19:47:25 +0200 (CEST) Received: from mails.dpdk.org (localhost [127.0.0.1]) by mails.dpdk.org (Postfix) with ESMTP id AB80F4027A; Thu, 9 Oct 2025 19:47:25 +0200 (CEST) Received: from mail-pg1-f226.google.com (mail-pg1-f226.google.com [209.85.215.226]) by mails.dpdk.org (Postfix) with ESMTP id 030554027A for ; Thu, 9 Oct 2025 19:47:25 +0200 (CEST) Received: by mail-pg1-f226.google.com with SMTP id 41be03b00d2f7-b6271ea3a6fso828217a12.0 for ; Thu, 09 Oct 2025 10:47:24 -0700 (PDT) DKIM-Signature: v=1; a=rsa-sha256; c=relaxed/relaxed; d=iol.unh.edu; s=unh-iol; t=1760032044; x=1760636844; darn=dpdk.org; h=references:in-reply-to:cc:to:from:subject:message-id:date:from:to :cc:subject:date:message-id:reply-to; bh=EuarJB06bbyzBkFdvic7XZr2A4Ph4CMBwo0lyXhMNPM=; b=Y6TPtFeRLTivP2ci60mjFoZUFbSi6xuH6bvLkqQQjWNJalyHmAPT8oDLe7MESlRizO OnsK1G7tPGmrPorEUXJuWWiT6WtnGIPOE3oequ0oG3YcXy6Ydt4wthMOf8LKGXilnWRb TsHIQzRroOWvr3Jf71pUePX4jXCuaAbyGtxog= X-Google-DKIM-Signature: v=1; a=rsa-sha256; c=relaxed/relaxed; d=1e100.net; s=20230601; t=1760032044; x=1760636844; h=references:in-reply-to:cc:to:from:subject:message-id:date :x-gm-message-state:from:to:cc:subject:date:message-id:reply-to; bh=EuarJB06bbyzBkFdvic7XZr2A4Ph4CMBwo0lyXhMNPM=; b=SZbaQcwe8ghy6Kx+iTdatgzTEQuUaKz2RGM9ruHpDCySW7Ze1+9dr+doTGs2V5AC/L lfX2/Bw1I/raS9/ud3T3WuKEc7jwYsvroLpcEQZjpcYjBTl5pWb+GtAf2fhPbesjMM0C h3FQ9kY+bk6dGEYAI+UxkRGJQqzvQhTaz/MlpfUay/zlPY8nWIOuJDJJzgdi+o13kn1m VDgx7uX2Nvp3ZV1HSNrPpRykxH5J02eBsiBB2HgwlqFQEEA0pzCOfxKYDLdKNg47j0x+ NoHQkw255TTcldDIByDxAWiZVoGgovpsrD+fsSmSK8Cko28+M6GEvxVGPIz79G7DgQPm ARmA== X-Gm-Message-State: AOJu0YwbHXBkkrYj+hS1Zrr0URb/cmSxc2sxvKdB2pfNca/g7D7ndpMm 4ZMwgQ0ksq37vQybBhz3Jo4Mez5LIGofB4na5GeKqXzrpMCyCABve+MaF1Cw//jOXGSC7Ii2uAS Z6BSQafu2SjQpuNAwYeHzZBzCNFctTfQv2SUhIDx0XInNH2z2iwcmPt0nvofV X-Gm-Gg: ASbGncvtMwvZa+gaWUQHSow5/0QpI1NU86g3VTKRjWFnUA/gbpaGRDGbzmcg1msQgmQ ZMjxKWuH6yY1AncmMX3FWa2mVZ87+mttZ3aR77ZGgI/YWoZcakJyqFJhIhzML+xvNdfjvHEWxYc yaVZm+W71r1S29DQGMHCtTdXS2i0CGzmdKLRJA/yowykSrH7DiLabyRrv/abM8Vh2FMPWhvUBrZ 68UcYvNTZeeI0k0p7agavRvEuAWShjSIz2yNnS+s44v+Zf+NnVH02b7UzH8etbjnsGt55NtSlJn 2EvNtfJkhO8FqUKqhNylWRSAsiPEyPocO432jeFdKBEUOK/2WXQ4jtE= X-Google-Smtp-Source: AGHT+IHI9l9iz9lVJTtr4AXNMgN5ucb66+nDBmZDz0EjtKFq66h7Kk7vkvOUbljcUXfqIebYh96fFn8z3qq7 X-Received: by 2002:a17:903:2381:b0:28e:7ab2:811c with SMTP id d9443c01a7336-290272e4bc1mr103709185ad.45.1760032044126; Thu, 09 Oct 2025 10:47:24 -0700 (PDT) Received: from postal.iol.unh.edu (postal.iol.unh.edu. [2606:4100:3880:1234::84]) by smtp-relay.gmail.com with ESMTPS id d9443c01a7336-29034e2c79bsm2935765ad.30.2025.10.09.10.47.24 (version=TLS1_2 cipher=ECDHE-ECDSA-AES128-GCM-SHA256 bits=128/128); Thu, 09 Oct 2025 10:47:24 -0700 (PDT) X-Relaying-Domain: iol.unh.edu Date: Thu, 09 Oct 2025 10:47:24 -0700 (PDT) Message-ID: <68e7f52c.170a0220.1e1f97.f535SMTPIN_ADDED_MISSING@mx.google.com> Received: from [172.21.0.2] (unknown [172.18.0.240]) by postal.iol.unh.edu (Postfix) with ESMTP id 95B9E604D420; Thu, 9 Oct 2025 13:47:23 -0400 (EDT) Subject: |SUCCESS| pw157352 [PATCH] [v1] net/mlx5: fix age checking crash From: dpdklab@iol.unh.edu To: Test Report Cc: dpdk-test-reports@iol.unh.edu In-Reply-To: <20251009022847.100823-1-rongweil@nvidia.com> References: <20251009022847.100823-1-rongweil@nvidia.com> Content-Type: text/plain X-BeenThere: test-report@dpdk.org X-Mailman-Version: 2.1.29 Precedence: list List-Id: automatic DPDK test reports List-Unsubscribe: , List-Archive: List-Post: List-Help: List-Subscribe: , Errors-To: test-report-bounces@dpdk.org Test-Label: iol-compile-arm64-testing Test-Status: SUCCESS http://dpdk.org/patch/157352 _Testing PASS_ Submitter: Rongwei Liu Date: Thursday, October 09 2025 02:28:46 DPDK git baseline: Repo:dpdk-next-net-mlx Branch: master CommitID:2374f33e1d964e100895fd294966380c46f0886d 157352 --> testing pass Upstream job id: Generic-DPDK-Compile-Meson#432729 Test environment and result as below: +------------------------------+--------------------+ | Environment | dpdk_meson_compile | +==============================+====================+ | Ubuntu 20.04 | PASS | +------------------------------+--------------------+ | Red Hat Enterprise Linux 9.5 | PASS | +------------------------------+--------------------+ | Debian GNU/Linux 12 | PASS | +------------------------------+--------------------+ | Fedora Linux 42 | PASS | +------------------------------+--------------------+ | Ubuntu 22.04 | PASS | +------------------------------+--------------------+ | Ubuntu 24.04 | PASS | +------------------------------+--------------------+ | CentOS Stream 9 | PASS | +------------------------------+--------------------+ | CentOS Stream 10 | PASS | +------------------------------+--------------------+ Ubuntu 20.04 Kernel: 5.15 Compiler: aarch64-linux-gnu-gcc gcc (Ubuntu 9.4.0-1ubuntu1~20.04.2) 9.4.0 Red Hat Enterprise Linux 9.5 Kernel: 5.4 Compiler: gcc gcc (GCC) 11.5.0 20240719 (Red Hat 11.5.0-2) Debian GNU/Linux 12 Kernel: 5.4 Compiler: gcc gcc (Debian 12.2.0-14+deb12u1) 12.2.0 Fedora Linux 42 Kernel: 5.4 Compiler: gcc gcc (GCC) 15.2.1 20250808 (Red Hat 15.2.1-1) Ubuntu 22.04 Kernel: 5.4 Compiler: gcc gcc (Ubuntu 11.4.0-1ubuntu1~22.04) 11.4.0 Ubuntu 24.04 Kernel: 5.4 Compiler: gcc gcc (Ubuntu 13.3.0-6ubuntu2~24.04) 13.3.0 CentOS Stream 9 Kernel: 5.4 Compiler: gcc gcc (GCC) 11.5.0 20240719 (Red Hat 11.5.0-11) CentOS Stream 10 Kernel: 5.4 Compiler: gcc gcc (GCC) 14.2.1 20250110 (Red Hat 14.2.1-8) To view detailed results, visit: https://lab.dpdk.org/results/dashboard/patchsets/34240/ UNH-IOL DPDK Community Lab To manage your email subscriptions, visit: https://lab.dpdk.org/results/dashboard/preferences/subscriptions/