From mboxrd@z Thu Jan 1 00:00:00 1970 Return-Path: Received: from mails.dpdk.org (mails.dpdk.org [217.70.189.124]) by inbox.dpdk.org (Postfix) with ESMTP id 6ED44488F3 for ; Thu, 9 Oct 2025 19:56:29 +0200 (CEST) Received: from mails.dpdk.org (localhost [127.0.0.1]) by mails.dpdk.org (Postfix) with ESMTP id 6A0B84027A; Thu, 9 Oct 2025 19:56:29 +0200 (CEST) Received: from mail-pg1-f226.google.com (mail-pg1-f226.google.com [209.85.215.226]) by mails.dpdk.org (Postfix) with ESMTP id 064BF4027A for ; Thu, 9 Oct 2025 19:56:29 +0200 (CEST) Received: by mail-pg1-f226.google.com with SMTP id 41be03b00d2f7-b49c1c130c9so808172a12.0 for ; Thu, 09 Oct 2025 10:56:28 -0700 (PDT) DKIM-Signature: v=1; a=rsa-sha256; c=relaxed/relaxed; d=iol.unh.edu; s=unh-iol; t=1760032588; x=1760637388; darn=dpdk.org; h=references:in-reply-to:cc:to:from:subject:message-id:date:from:to :cc:subject:date:message-id:reply-to; bh=vbD/0bGm4+BRwgosKdkmFXRLA6R8CnVhu/yPHGY16so=; b=Mgo2JZHVf3MIrJPe2+tblaDO28gKVcs7Fm9Vc1m2FhcIGzug/q+j469sM6kIyzcu3/ osFMP6RPMam1qWxCqQWD27FREZcsDpXj9wQ6//M8kHc/bmilZ5cTjcRzgL34OwUTtq0i lQBzUyOUMtyrQA2rZ1hUpnPjS0USihbam+4WQ= X-Google-DKIM-Signature: v=1; a=rsa-sha256; c=relaxed/relaxed; d=1e100.net; s=20230601; t=1760032588; x=1760637388; h=references:in-reply-to:cc:to:from:subject:message-id:date :x-gm-message-state:from:to:cc:subject:date:message-id:reply-to; bh=vbD/0bGm4+BRwgosKdkmFXRLA6R8CnVhu/yPHGY16so=; b=ilP2UYflMw9+RnSbHezHR6i2RtMgNYveMJFGXmFnC12qrf4ZX72/yDhLOquaIDpoQx wPXQSOC5HYXvQqH2f5CZLlhrD2ZSOuqtaQS7UWyAqCrr9a1wPoNNpxQHa/WAQOJL2e2Z dejjkVmO+UWgw/LsWN8Kk2nw6bu3ah3wfMnMi9qHjgF3LEhDVyKXgvgddhnb6+JL5xhX heLBnkUayvpqzwwUZOOq83xFlCeSng8EWV+nGJEFROnSLh/PBErZUzkR0gf2U/abF0dH jsrHJ2qvbJbgjjI/rZvcesBWnzO49eeBNBUXR25rNUK7mzr+bSqfCxYIdL4FnVyULTmg tAVQ== X-Gm-Message-State: AOJu0Yx0rbjK08NDPGKygus1r7nk5aV2W+G3nUWpRDED/Z/4HpBkyBqW AlFNl5KiqXEiUazGT9xs1RtoFd8UIq8J1gkN1gUySiNZXjHeZjGL48qd1orXkF5xzYa2vX8lDT9 p5LSb984Uu9h/FnYUsEcaEzPtrVvgTxVEgVfrNunfsxUp X-Gm-Gg: ASbGncuJTDFEDj8teuX6fpT45VuVtLnRo/rd+vrGUj35Rd5vRSpB/IpEgKnOPs22shk keXdPvQz4eKh4wmdytVkk/kbhmnuQ7q2KriHg0hfYxYxK3V08+5gHhDmgxMziPc2Ne3L+ryI/zX pJ++FYulitTRTTB9ghIe6la2MIoNb0v4hE49hJK0TNfVlirt/gEE76bT0UHo0fK0JwTthiehLM9 onnjIj/c2StWwuvc1V27s1C+OGCUZou12jZ6HN4BtyAlVDkpvfuYoTXoMV+WcXGVG/jm12QyJ/C Ay3JBwhitQFMMy6HbezNK7YOCUh4pOxfweBbrPP6NGlb3UcK4UpAcrE86AxI1OrL2w93Z9WsFm4 mgA== X-Google-Smtp-Source: AGHT+IFsbyAmeNnFoeujADvYpGU5oTQ7Bkk8BEstUtU4GROMpQRZluGtAQZsn0QOh5QzTf3vOUQ1oFGwSwvC X-Received: by 2002:a17:903:46ce:b0:27d:6f49:feb8 with SMTP id d9443c01a7336-29027238ecemr112265265ad.16.1760032588204; Thu, 09 Oct 2025 10:56:28 -0700 (PDT) Received: from postal.iol.unh.edu (postal.iol.unh.edu. [132.177.123.84]) by smtp-relay.gmail.com with ESMTPS id d9443c01a7336-29034f81fb2sm2751605ad.69.2025.10.09.10.56.28 (version=TLS1_2 cipher=ECDHE-ECDSA-AES128-GCM-SHA256 bits=128/128); Thu, 09 Oct 2025 10:56:28 -0700 (PDT) X-Relaying-Domain: iol.unh.edu Date: Thu, 09 Oct 2025 10:56:28 -0700 (PDT) Message-ID: <68e7f74c.170a0220.92cb4.e448SMTPIN_ADDED_MISSING@mx.google.com> Received: from [172.21.0.2] (unknown [172.18.0.240]) by postal.iol.unh.edu (Postfix) with ESMTP id 649FA604D420; Thu, 9 Oct 2025 13:56:27 -0400 (EDT) Subject: |SUCCESS| pw157357-157356 [PATCH] [v3,2/2] net/iavf: add restore com From: dpdklab@iol.unh.edu To: Test Report Cc: dpdk-test-reports@iol.unh.edu, Bruce Richardson In-Reply-To: <20251009102835.926479-2-ciara.loftus@intel.com> References: <20251009102835.926479-2-ciara.loftus@intel.com> Content-Type: text/plain X-BeenThere: test-report@dpdk.org X-Mailman-Version: 2.1.29 Precedence: list List-Id: automatic DPDK test reports List-Unsubscribe: , List-Archive: List-Post: List-Help: List-Subscribe: , Errors-To: test-report-bounces@dpdk.org Test-Label: iol-compile-amd64-testing Test-Status: SUCCESS http://dpdk.org/patch/157356 _Testing PASS_ Submitter: Loftus, Ciara Date: Thursday, October 09 2025 10:28:35 DPDK git baseline: Repo:dpdk-next-net-intel Branch: master CommitID:21c1fe280a2480dcd7edbb3e51cc2f9a37c1c6e0 157357-157356 --> testing pass Upstream job id: Generic-DPDK-Compile-Meson#432900 Test environment and result as below: +---------------------+--------------------+-------------------------+-------------------+----------------------+-------------------+ | Environment | dpdk_meson_compile | dpdk_llvm_clang_compile | dpdk_msvc_compile | dpdk_mingw64_compile | dpdk_compile_spdk | +=====================+====================+=========================+===================+======================+===================+ | Ubuntu 20.04 | PASS | SKIPPED | SKIPPED | SKIPPED | SKIPPED | +---------------------+--------------------+-------------------------+-------------------+----------------------+-------------------+ | FreeBSD 14.2 | PASS | SKIPPED | SKIPPED | SKIPPED | SKIPPED | +---------------------+--------------------+-------------------------+-------------------+----------------------+-------------------+ | CentOS Stream 9 | PASS | SKIPPED | SKIPPED | SKIPPED | PASS | +---------------------+--------------------+-------------------------+-------------------+----------------------+-------------------+ | Windows Server 2022 | SKIPPED | PASS | PASS | PASS | SKIPPED | +---------------------+--------------------+-------------------------+-------------------+----------------------+-------------------+ Ubuntu 20.04 Kernel: 4.19 Compiler: gcc gcc (Ubuntu 9.4.0-1ubuntu1~20.04.2) 9.4.0 FreeBSD 14.2 Kernel: 14.2-RELEASE Compiler: clang 18.1.6 CentOS Stream 9 Kernel: 5.15 Compiler: gcc gcc (GCC) 11.5.0 20240719 (Red Hat 11.5.0-11) Windows Server 2022 Kernel: 10.0.20348.2031 Compiler: clang 15.0.7, gcc 14.1.0 (MinGW), and MSVC VS 19.39.33521 To view detailed results, visit: https://lab.dpdk.org/results/dashboard/patchsets/34244/ UNH-IOL DPDK Community Lab To manage your email subscriptions, visit: https://lab.dpdk.org/results/dashboard/preferences/subscriptions/