From mboxrd@z Thu Jan 1 00:00:00 1970 Return-Path: Received: from mails.dpdk.org (mails.dpdk.org [217.70.189.124]) by inbox.dpdk.org (Postfix) with ESMTP id E302D488F4 for ; Thu, 9 Oct 2025 20:01:10 +0200 (CEST) Received: from mails.dpdk.org (localhost [127.0.0.1]) by mails.dpdk.org (Postfix) with ESMTP id CE90D4027A; Thu, 9 Oct 2025 20:01:10 +0200 (CEST) Received: from mail-ot1-f100.google.com (mail-ot1-f100.google.com [209.85.210.100]) by mails.dpdk.org (Postfix) with ESMTP id 9A6D44027A for ; Thu, 9 Oct 2025 20:01:09 +0200 (CEST) Received: by mail-ot1-f100.google.com with SMTP id 46e09a7af769-7c0e357ab51so1051865a34.2 for ; Thu, 09 Oct 2025 11:01:09 -0700 (PDT) DKIM-Signature: v=1; a=rsa-sha256; c=relaxed/relaxed; d=iol.unh.edu; s=unh-iol; t=1760032869; x=1760637669; darn=dpdk.org; h=references:in-reply-to:cc:to:from:subject:message-id:date:from:to :cc:subject:date:message-id:reply-to; bh=WYClwq2wT0LzEgVLi00ZXX/A/Y92pQtm2Qo3k0xy61s=; b=NPPOl/69fJmHoRaFIyzmB0rkknwzHswckeST7/1Pr0c5Ct9g584iEORWYdw8baj8SM l62uD70TAUGyupWJNeVX5Munz70TPCemiufUjsV3pKe0ZQ7P7VpQdBPMbKDB+nYEkZTK UbSCvlBqoVbcgKIfRMT7R/jATLexCCGlAy4yo= X-Google-DKIM-Signature: v=1; a=rsa-sha256; c=relaxed/relaxed; d=1e100.net; s=20230601; t=1760032869; x=1760637669; h=references:in-reply-to:cc:to:from:subject:message-id:date :x-gm-message-state:from:to:cc:subject:date:message-id:reply-to; bh=WYClwq2wT0LzEgVLi00ZXX/A/Y92pQtm2Qo3k0xy61s=; b=BF8WPqYphcwt23ZtduO8kxvai5IS8RM8kqYrz8VdqWh33VPwRENgqF5lzfmjH7gczQ +M7ckQbGbkPXbUy3xjOCTJEPnPMCusXR9ju2TEfc8dFoWFFYzzJNXulw7XaQGHDhyfMK 1+SlxvrtKK59w1R3q/2/rF96CgygegwmWNXE/0tG2NEGKpmxE0ph3DuTwV5zA+jK+bbJ ZwlNX4AVcxQlDG9X1exvHB2JT4a2OwhS0+eY9jq0WJQo0X9rNtg8OlB2IbzNJC+BWWu/ oRYUX9h5HOT/WuKVI/oohCffQ1qNzo7Gnvz0Y7vGi14KRwOle027mbwbTvtis+sjaJwh I9Mw== X-Gm-Message-State: AOJu0YyjLDcO2TS4QeI+jxIW1OdO3Elij7c5MoRuYjINS5KX6H3cbxXP VZ2Owqy14TIcfXAITAEnnwyWqj71aD1vTIi1b0uhDJbZAMmaJJ3H7+OyuVOUhnvZNhBGoGgkZlV CH8o/8l2V/Ng8KMQGOaAKPa7qeITIO9GOivlvJchCMCRi X-Gm-Gg: ASbGncuPjWV95/nE1g+FVeC1W3sLknnhrep9wmXn+GqzUYqNBInUii3hafMFk0UhMMZ WoF/wxQ73EcANH+yNl2HpeE9xDIRc2LrX6TzZ2pKWuVm1O9SgBTksSvRp0EgPpsr5Ki27Bv/1zL q75KyY/LNOWUJzyHr5ctVc1qJNvn6ou6mSqSDF8tfWXGZ//sgNB/BFVpjeWuSP0klIQ1Om7bsIx Qn7M+ky24Q9bOfJM/5N8VgbibFLi4YaxlwgmcCi/khZVEFdivsugaYBwT0GFDHnXZEF06z1LXYK 9bEmVZAJIKgopujq2VMpfqZj5cko3kiAjhPcG6Iw5On1m9Zn7AKYmJ8VYTChaUJEXi0BQI1TNGw qkg== X-Google-Smtp-Source: AGHT+IFmfWAyP/hwTjfqtmsOuRqoRmM4TuXH8/fT/iJCy7Gbw1RVbvEEMw6lconjx926rAs19Jp0r5b1Ni8f X-Received: by 2002:a05:6830:2785:b0:757:1232:764a with SMTP id 46e09a7af769-7c0df783354mr5376442a34.10.1760032868368; Thu, 09 Oct 2025 11:01:08 -0700 (PDT) Received: from postal.iol.unh.edu (postal.iol.unh.edu. [132.177.123.84]) by smtp-relay.gmail.com with ESMTPS id 46e09a7af769-7c0f90b2b4esm11791a34.4.2025.10.09.11.01.08 (version=TLS1_2 cipher=ECDHE-ECDSA-AES128-GCM-SHA256 bits=128/128); Thu, 09 Oct 2025 11:01:08 -0700 (PDT) X-Relaying-Domain: iol.unh.edu Date: Thu, 09 Oct 2025 11:01:08 -0700 (PDT) Message-ID: <68e7f864.050a0220.292f98.0a5bSMTPIN_ADDED_MISSING@mx.google.com> Received: from [172.21.0.3] (unknown [172.18.0.240]) by postal.iol.unh.edu (Postfix) with ESMTP id D2605604D420; Thu, 9 Oct 2025 14:01:07 -0400 (EDT) Subject: |SUCCESS| pw157357-157356 [PATCH] [v3,2/2] net/iavf: add restore com From: dpdklab@iol.unh.edu To: Test Report Cc: dpdk-test-reports@iol.unh.edu, Bruce Richardson In-Reply-To: <20251009102835.926479-2-ciara.loftus@intel.com> References: <20251009102835.926479-2-ciara.loftus@intel.com> Content-Type: text/plain X-BeenThere: test-report@dpdk.org X-Mailman-Version: 2.1.29 Precedence: list List-Id: automatic DPDK test reports List-Unsubscribe: , List-Archive: List-Post: List-Help: List-Subscribe: , Errors-To: test-report-bounces@dpdk.org Test-Label: iol-compile-amd64-testing Test-Status: SUCCESS http://dpdk.org/patch/157356 _Testing PASS_ Submitter: Loftus, Ciara Date: Thursday, October 09 2025 10:28:35 DPDK git baseline: Repo:dpdk-next-net-intel Branch: master CommitID:21c1fe280a2480dcd7edbb3e51cc2f9a37c1c6e0 157357-157356 --> testing pass Upstream job id: Generic-DPDK-Compile-Meson#432901 Test environment and result as below: +---------------------+--------------------+-------------------------+-------------------+----------------------+-------------------+ | Environment | dpdk_meson_compile | dpdk_llvm_clang_compile | dpdk_msvc_compile | dpdk_mingw64_compile | dpdk_compile_spdk | +=====================+====================+=========================+===================+======================+===================+ | Ubuntu 20.04 | PASS | SKIPPED | SKIPPED | SKIPPED | SKIPPED | +---------------------+--------------------+-------------------------+-------------------+----------------------+-------------------+ | FreeBSD 14.2 | PASS | SKIPPED | SKIPPED | SKIPPED | SKIPPED | +---------------------+--------------------+-------------------------+-------------------+----------------------+-------------------+ | CentOS Stream 9 | PASS | SKIPPED | SKIPPED | SKIPPED | PASS | +---------------------+--------------------+-------------------------+-------------------+----------------------+-------------------+ | CentOS Stream 10 | PASS | SKIPPED | SKIPPED | SKIPPED | SKIPPED | +---------------------+--------------------+-------------------------+-------------------+----------------------+-------------------+ | Windows Server 2022 | SKIPPED | PASS | PASS | PASS | SKIPPED | +---------------------+--------------------+-------------------------+-------------------+----------------------+-------------------+ Ubuntu 20.04 Kernel: 4.19 Compiler: gcc gcc (Ubuntu 9.4.0-1ubuntu1~20.04.2) 9.4.0 FreeBSD 14.2 Kernel: 14.2-RELEASE Compiler: clang 18.1.6 CentOS Stream 9 Kernel: 5.15 Compiler: gcc gcc (GCC) 11.5.0 20240719 (Red Hat 11.5.0-11) CentOS Stream 10 Kernel: 5.15 Compiler: gcc gcc (GCC) 14.2.1 20250110 (Red Hat 14.2.1-8) Windows Server 2022 Kernel: 10.0.20348.2031 Compiler: clang 15.0.7, gcc 14.1.0 (MinGW), and MSVC VS 19.39.33521 To view detailed results, visit: https://lab.dpdk.org/results/dashboard/patchsets/34244/ UNH-IOL DPDK Community Lab To manage your email subscriptions, visit: https://lab.dpdk.org/results/dashboard/preferences/subscriptions/