From mboxrd@z Thu Jan 1 00:00:00 1970 Return-Path: Received: from mails.dpdk.org (mails.dpdk.org [217.70.189.124]) by inbox.dpdk.org (Postfix) with ESMTP id A0287488F4 for ; Thu, 9 Oct 2025 20:10:08 +0200 (CEST) Received: from mails.dpdk.org (localhost [127.0.0.1]) by mails.dpdk.org (Postfix) with ESMTP id 98BE14027A; Thu, 9 Oct 2025 20:10:08 +0200 (CEST) Received: from mail-yx1-f97.google.com (mail-yx1-f97.google.com [74.125.224.97]) by mails.dpdk.org (Postfix) with ESMTP id 5256A4027A for ; Thu, 9 Oct 2025 20:10:07 +0200 (CEST) Received: by mail-yx1-f97.google.com with SMTP id 956f58d0204a3-63bcdf5f241so1945931d50.0 for ; Thu, 09 Oct 2025 11:10:07 -0700 (PDT) DKIM-Signature: v=1; a=rsa-sha256; c=relaxed/relaxed; d=iol.unh.edu; s=unh-iol; t=1760033406; x=1760638206; darn=dpdk.org; h=references:in-reply-to:cc:to:from:subject:message-id:date:from:to :cc:subject:date:message-id:reply-to; bh=d7GIi1gE/Ntz4Uals4BcTre9CP7YaDB6qS2OTeTneq8=; b=DRZ/my5sU4OzdmyPAOqlDiZ4E7+qd2I2kE1wKdq6zb0gXbOB7gNPoW+wLqjct7jlhv nKgfJ4TecUkprNpaGbQ0MP6nnzkPd1ffRA29Z23KKZEtyeoOi9419ycEhDRlzj5q7+vX s9bg3YFn21OemJ6JPaZx7ZB75DW8LwUv1Do+Y= X-Google-DKIM-Signature: v=1; a=rsa-sha256; c=relaxed/relaxed; d=1e100.net; s=20230601; t=1760033406; x=1760638206; h=references:in-reply-to:cc:to:from:subject:message-id:date :x-gm-message-state:from:to:cc:subject:date:message-id:reply-to; bh=d7GIi1gE/Ntz4Uals4BcTre9CP7YaDB6qS2OTeTneq8=; b=wK4Sjb+Z8G4a2wyxA8pTXlPDadxjhjN11mAISgpPVaGHO7jAlCOarH63iY2pxeQXh2 eXS83/dzA7a9DJx2TJXYHCnqZd4mXzHXWfmJxDLe4v2RupTLqZQRMXxKBn29ewxdCC9S +U5G+UKLppzNRoCqx3OdQaVzSLlXPsqfdZVvbO/hYoeddmzg8oIfvGnpQVfP9q7kY9Kt rCfmyl7s2KdARIf5Nshf+AoAwLyfIU2zsRTxYMM8dM38pG3v3fJVPj9pxS/4qHTpJDW6 hpZlbkh/NjyqA2mGd2q1uKVIc+XFvZ2W5+TeLqsWtsl5idjxA+WveWEA4tj7KYNqt1sV H/NQ== X-Gm-Message-State: AOJu0YywI32+7CvBX1uZbItW7ZS43bgyIHa7u7yePERM/A3G3ltAoDiG +TePz0XcuZtvjTKdTzHRXR/n7+FMpdobK/7ARWHFquv+8awh0SAJHjQcf0sn2AVMS0t4QeTPSQw 33qyt+29NTAVHV91BF4fBpEBnkVtgEuVlwqFHC/wBl/iL X-Gm-Gg: ASbGnctov0rAUiKmffHxojbckcQWolVxMiEq1n09Sia5w7hCv9hhDDli84jz63DxxiK 2s/RcZvr9FW6P5ropFA2WNYNJwAVS7zQsap4lJRn40Zkm30n/wVFNTZVKjY20qJD0hxU51Gu58e smDxQpoDyGFku46Wog78LWCL3PKxJGvRQ6miI3OYN4BOa+8mOD5hS8FLCJUyIHKLsoI2qfJ1P0R comb0/TqI4VtY0v9ZcAmz82IvKZJjJv8uBv1cBtUkCDLoNTVEPZTrYaDPCzqx1uota6vvS17BtX 8uLw2EE1uxFqey044kOpv6cgAq8XYmmzkVLLafXhc8TNEjCSGZybCZjOP7TtVJG06KSbk/FfOPT 4vw== X-Google-Smtp-Source: AGHT+IFFMQ1ubrMX9tTEPL4LG2OGhC48sd0yXV1MT167m/W7aIbof4rLlbm+OCXRPqPPJKcwkp6XCgO7/oE+ X-Received: by 2002:a53:dc8a:0:b0:633:bc86:a1d2 with SMTP id 956f58d0204a3-63ccc27e209mr6303367d50.0.1760033406469; Thu, 09 Oct 2025 11:10:06 -0700 (PDT) Received: from postal.iol.unh.edu (postal.iol.unh.edu. [132.177.123.84]) by smtp-relay.gmail.com with ESMTPS id 00721157ae682-7810707b076sm90987b3.38.2025.10.09.11.10.06 (version=TLS1_2 cipher=ECDHE-ECDSA-AES128-GCM-SHA256 bits=128/128); Thu, 09 Oct 2025 11:10:06 -0700 (PDT) X-Relaying-Domain: iol.unh.edu Date: Thu, 09 Oct 2025 11:10:06 -0700 (PDT) Message-ID: <68e7fa7e.050a0220.77470.078aSMTPIN_ADDED_MISSING@mx.google.com> Received: from [172.21.0.2] (unknown [172.18.0.240]) by postal.iol.unh.edu (Postfix) with ESMTP id 227EC6051830; Thu, 9 Oct 2025 14:10:06 -0400 (EDT) Subject: |SUCCESS| pw157357-157356 [PATCH] [v3,2/2] net/iavf: add restore com From: dpdklab@iol.unh.edu To: Test Report Cc: dpdk-test-reports@iol.unh.edu, Bruce Richardson In-Reply-To: <20251009102835.926479-2-ciara.loftus@intel.com> References: <20251009102835.926479-2-ciara.loftus@intel.com> Content-Type: text/plain X-BeenThere: test-report@dpdk.org X-Mailman-Version: 2.1.29 Precedence: list List-Id: automatic DPDK test reports List-Unsubscribe: , List-Archive: List-Post: List-Help: List-Subscribe: , Errors-To: test-report-bounces@dpdk.org Test-Label: iol-compile-amd64-testing Test-Status: SUCCESS http://dpdk.org/patch/157356 _Testing PASS_ Submitter: Loftus, Ciara Date: Thursday, October 09 2025 10:28:35 DPDK git baseline: Repo:dpdk-next-net-intel Branch: master CommitID:21c1fe280a2480dcd7edbb3e51cc2f9a37c1c6e0 157357-157356 --> testing pass Upstream job id: Generic-DPDK-Compile-Meson#432902 Test environment and result as below: +---------------------+--------------------+-------------------------+-------------------+----------------------+-------------------+ | Environment | dpdk_meson_compile | dpdk_llvm_clang_compile | dpdk_msvc_compile | dpdk_mingw64_compile | dpdk_compile_spdk | +=====================+====================+=========================+===================+======================+===================+ | Ubuntu 20.04 | PASS | SKIPPED | SKIPPED | SKIPPED | SKIPPED | +---------------------+--------------------+-------------------------+-------------------+----------------------+-------------------+ | FreeBSD 14.2 | PASS | SKIPPED | SKIPPED | SKIPPED | SKIPPED | +---------------------+--------------------+-------------------------+-------------------+----------------------+-------------------+ | CentOS Stream 9 | PASS | SKIPPED | SKIPPED | SKIPPED | PASS | +---------------------+--------------------+-------------------------+-------------------+----------------------+-------------------+ | CentOS Stream 10 | PASS | SKIPPED | SKIPPED | SKIPPED | SKIPPED | +---------------------+--------------------+-------------------------+-------------------+----------------------+-------------------+ | Debian GNU/Linux 12 | PASS | SKIPPED | SKIPPED | SKIPPED | PASS | +---------------------+--------------------+-------------------------+-------------------+----------------------+-------------------+ | Windows Server 2022 | SKIPPED | PASS | PASS | PASS | SKIPPED | +---------------------+--------------------+-------------------------+-------------------+----------------------+-------------------+ Ubuntu 20.04 Kernel: 4.19 Compiler: gcc gcc (Ubuntu 9.4.0-1ubuntu1~20.04.2) 9.4.0 FreeBSD 14.2 Kernel: 14.2-RELEASE Compiler: clang 18.1.6 CentOS Stream 9 Kernel: 5.15 Compiler: gcc gcc (GCC) 11.5.0 20240719 (Red Hat 11.5.0-11) CentOS Stream 10 Kernel: 5.15 Compiler: gcc gcc (GCC) 14.2.1 20250110 (Red Hat 14.2.1-8) Debian GNU/Linux 12 Kernel: 5.15 Compiler: gcc gcc (Debian 12.2.0-14+deb12u1) 12.2.0 Windows Server 2022 Kernel: 10.0.20348.2031 Compiler: clang 15.0.7, gcc 14.1.0 (MinGW), and MSVC VS 19.39.33521 To view detailed results, visit: https://lab.dpdk.org/results/dashboard/patchsets/34244/ UNH-IOL DPDK Community Lab To manage your email subscriptions, visit: https://lab.dpdk.org/results/dashboard/preferences/subscriptions/