From mboxrd@z Thu Jan 1 00:00:00 1970 Return-Path: Received: from mails.dpdk.org (mails.dpdk.org [217.70.189.124]) by inbox.dpdk.org (Postfix) with ESMTP id 584FD488F4 for ; Thu, 9 Oct 2025 20:50:51 +0200 (CEST) Received: from mails.dpdk.org (localhost [127.0.0.1]) by mails.dpdk.org (Postfix) with ESMTP id 3A4804027A; Thu, 9 Oct 2025 20:50:51 +0200 (CEST) Received: from mail-pg1-f225.google.com (mail-pg1-f225.google.com [209.85.215.225]) by mails.dpdk.org (Postfix) with ESMTP id C59254027A for ; Thu, 9 Oct 2025 20:50:49 +0200 (CEST) Received: by mail-pg1-f225.google.com with SMTP id 41be03b00d2f7-b5515eaefceso1102214a12.2 for ; Thu, 09 Oct 2025 11:50:49 -0700 (PDT) DKIM-Signature: v=1; a=rsa-sha256; c=relaxed/relaxed; d=iol.unh.edu; s=unh-iol; t=1760035849; x=1760640649; darn=dpdk.org; h=references:in-reply-to:cc:to:from:subject:message-id:date:from:to :cc:subject:date:message-id:reply-to; bh=ILikN0l025ruIdcTrGYY3y/faXzLZqtucEnKNjFzHG4=; b=PG7OaB8lqOgBsJiCtmR/VVzUTOSh9p9HSrVbquaSFsaUgq8ikceWer5de8AF5+2+/K sk+VsDaBDJQN72xEjBGNQ3+6StMCHg1C8flRqlmnfPnieJ3fDV45mLfSRe8OIJy/Jxqo gGL0MC8VeHTicipSfN7VU3UyeGJXF2AqDqWNc= X-Google-DKIM-Signature: v=1; a=rsa-sha256; c=relaxed/relaxed; d=1e100.net; s=20230601; t=1760035849; x=1760640649; h=references:in-reply-to:cc:to:from:subject:message-id:date :x-gm-message-state:from:to:cc:subject:date:message-id:reply-to; bh=ILikN0l025ruIdcTrGYY3y/faXzLZqtucEnKNjFzHG4=; b=Z6El9BBKgLqrJIBIPbHogNApFZB51ymTkEBrus5MiEFJBX7Rz9rF/HzGA/1f+wuZ7X z26X19OKL6S5w2PQZDr/ftKJhv48pMZ765QyTNuo+BmJr8+D1xQcEiBaKq3SeFeHfG9o SY9/1/m4VkDcJNjp5mh2TJITYC6MvXAGYE7Onqy4NYJ1z8Rk7KdhRTpO5TJYiZPIPSo+ CN7B6kNxrHL5oAbuWyayvOjJsNAeHCJLt8rioarjg2TNfAG1prR22i1FzFozCFOcZ/cr rhnw+GM3r4rkrPsgu22bHEPAohfy5V6pIiIPHl5b28PuAvk0/sBjL2aOwAKbXUvxdOcN XtuA== X-Gm-Message-State: AOJu0YyORZrlXidDSG7f+XWmErGTGlg63ZIRqDIExdus4MoF5vyKrzUJ nvmBqZnm8KSHkgbzJv2T6+PKdkAfmfOqT2pqOcttPuvVVDLves7b3uC9RQLXd1sKKVzNXqxyNGH XL1DngKehImLUtZgNPWzxUYu1eO2+4eKceFLRHJM6Q3Oj X-Gm-Gg: ASbGncvXpT1GhQBFAnTA1eYCZwtgYpd5O3/vc8/7/84dFaT14ykhkIzBqD+640zvFwO yngaZLmFEyu9edrEMNfNZg4qU56VcngBzMNqugS1iTLCKhPbKyrHBmYJjfM9AAckjGYYOhuFtEK Mok7mnDYfjrT1tSVeiD9FXeeoUA6TZAOGno0EVM+vr44zX1+6F4K4ghIRKlYrEkF1K4LL/eLD0t dM90ECpA3AZYIAFwduIw1ceWJ+5eCcGnWtbxEOpEXB4V4vcQxhp2C1Vaaz6N35Jsv2fSLKUhqlR tEkR/41zvgGAl5FGW6PzyZ4o7fI30pyAYtBGL1UB70eZwIoSr8MQSlfJ3pgvmmLa9FAu6gkpxIu ugw== X-Google-Smtp-Source: AGHT+IGvcbC8FdZw8nJB9sw3NnDLYxMv4SXpjO1Ykouq8BpFHV/uR/ipcLFjAb6DWtYjGYtblJPSk27xr1bI X-Received: by 2002:a17:902:e94e:b0:26f:7db2:3e1e with SMTP id d9443c01a7336-290273ffbe6mr106365715ad.47.1760035848863; Thu, 09 Oct 2025 11:50:48 -0700 (PDT) Received: from postal.iol.unh.edu (postal.iol.unh.edu. [132.177.123.84]) by smtp-relay.gmail.com with ESMTPS id d9443c01a7336-29034e2c79bsm3047395ad.30.2025.10.09.11.50.48 (version=TLS1_2 cipher=ECDHE-ECDSA-AES128-GCM-SHA256 bits=128/128); Thu, 09 Oct 2025 11:50:48 -0700 (PDT) X-Relaying-Domain: iol.unh.edu Date: Thu, 09 Oct 2025 11:50:48 -0700 (PDT) Message-ID: <68e80408.170a0220.1e1f97.feabSMTPIN_ADDED_MISSING@mx.google.com> Received: from [172.21.0.2] (unknown [172.18.0.240]) by postal.iol.unh.edu (Postfix) with ESMTP id 43D8B604D420; Thu, 9 Oct 2025 14:50:48 -0400 (EDT) Subject: |SUCCESS| pw157352 [PATCH] [v1] net/mlx5: fix age checking crash From: dpdklab@iol.unh.edu To: Test Report Cc: dpdk-test-reports@iol.unh.edu In-Reply-To: <20251009022847.100823-1-rongweil@nvidia.com> References: <20251009022847.100823-1-rongweil@nvidia.com> Content-Type: text/plain X-BeenThere: test-report@dpdk.org X-Mailman-Version: 2.1.29 Precedence: list List-Id: automatic DPDK test reports List-Unsubscribe: , List-Archive: List-Post: List-Help: List-Subscribe: , Errors-To: test-report-bounces@dpdk.org Test-Label: iol-unit-arm64-testing Test-Status: SUCCESS http://dpdk.org/patch/157352 _Testing PASS_ Submitter: Rongwei Liu Date: Thursday, October 09 2025 02:28:46 DPDK git baseline: Repo:dpdk-next-net-mlx Branch: master CommitID:2374f33e1d964e100895fd294966380c46f0886d 157352 --> testing pass Upstream job id: Generic-Unit-Test-DPDK#379721 Test environment and result as below: +------------------------------+------------------------------+--------------+---------------------------+----------------+ | Environment | cryptodev_sw_snow3g_autotest | lpm_autotest | cryptodev_sw_zuc_autotest | dpdk_unit_test | +==============================+==============================+==============+===========================+================+ | Debian 12 (arm) | PASS | SKIPPED | PASS | SKIPPED | +------------------------------+------------------------------+--------------+---------------------------+----------------+ | Ubuntu 20.04 | SKIPPED | PASS | SKIPPED | PASS | +------------------------------+------------------------------+--------------+---------------------------+----------------+ | Ubuntu 24.04 | SKIPPED | SKIPPED | SKIPPED | PASS | +------------------------------+------------------------------+--------------+---------------------------+----------------+ | Fedora Linux 41 | SKIPPED | SKIPPED | SKIPPED | PASS | +------------------------------+------------------------------+--------------+---------------------------+----------------+ | Ubuntu 22.04 | SKIPPED | SKIPPED | SKIPPED | PASS | +------------------------------+------------------------------+--------------+---------------------------+----------------+ | CentOS Stream 10 | SKIPPED | SKIPPED | SKIPPED | PASS | +------------------------------+------------------------------+--------------+---------------------------+----------------+ | Fedora Linux 42 | SKIPPED | SKIPPED | SKIPPED | PASS | +------------------------------+------------------------------+--------------+---------------------------+----------------+ | CentOS Stream 9 | SKIPPED | SKIPPED | SKIPPED | PASS | +------------------------------+------------------------------+--------------+---------------------------+----------------+ | Fedora Linux 40 | SKIPPED | SKIPPED | SKIPPED | PASS | +------------------------------+------------------------------+--------------+---------------------------+----------------+ | Debian GNU/Linux 12 | SKIPPED | SKIPPED | SKIPPED | PASS | +------------------------------+------------------------------+--------------+---------------------------+----------------+ | Red Hat Enterprise Linux 9.5 | SKIPPED | SKIPPED | SKIPPED | PASS | +------------------------------+------------------------------+--------------+---------------------------+----------------+ Debian 12 (arm) Kernel: Depends on container host Compiler: gcc (Debian 12.2.0-14) 12.2.0 Ubuntu 20.04 Kernel: 5.4 Compiler: gcc gcc (Ubuntu 9.4.0-1ubuntu1~20.04.2) 9.4.0 Ubuntu 24.04 Kernel: 5.4 Compiler: gcc gcc (Ubuntu 13.3.0-6ubuntu2~24.04) 13.3.0 Fedora Linux 41 Kernel: 5.4 Compiler: gcc gcc (GCC) 14.3.1 20250523 (Red Hat 14.3.1-1) Ubuntu 22.04 Kernel: 5.4 Compiler: gcc gcc (Ubuntu 11.4.0-1ubuntu1~22.04) 11.4.0 CentOS Stream 10 Kernel: 5.4 Compiler: gcc gcc (GCC) 14.2.1 20250110 (Red Hat 14.2.1-8) Fedora Linux 42 Kernel: 5.4 Compiler: clang gcc (GCC) 15.2.1 20250808 (Red Hat 15.2.1-1) CentOS Stream 9 Kernel: 5.4 Compiler: gcc gcc (GCC) 11.5.0 20240719 (Red Hat 11.5.0-11) Fedora Linux 40 Kernel: 5.4 Compiler: gcc gcc (GCC) 14.2.1 20240912 (Red Hat 14.2.1-3) Debian GNU/Linux 12 Kernel: 5.4 Compiler: gcc gcc (Debian 12.2.0-14+deb12u1) 12.2.0 Red Hat Enterprise Linux 9.5 Kernel: 5.4 Compiler: gcc gcc (GCC) 11.5.0 20240719 (Red Hat 11.5.0-2) To view detailed results, visit: https://lab.dpdk.org/results/dashboard/patchsets/34240/ UNH-IOL DPDK Community Lab To manage your email subscriptions, visit: https://lab.dpdk.org/results/dashboard/preferences/subscriptions/