From mboxrd@z Thu Jan 1 00:00:00 1970 Return-Path: Received: from mails.dpdk.org (mails.dpdk.org [217.70.189.124]) by inbox.dpdk.org (Postfix) with ESMTP id 1E769488F4 for ; Thu, 9 Oct 2025 20:59:19 +0200 (CEST) Received: from mails.dpdk.org (localhost [127.0.0.1]) by mails.dpdk.org (Postfix) with ESMTP id E4B034027A; Thu, 9 Oct 2025 20:59:18 +0200 (CEST) Received: from mail-qv1-f100.google.com (mail-qv1-f100.google.com [209.85.219.100]) by mails.dpdk.org (Postfix) with ESMTP id 4C6004027A for ; Thu, 9 Oct 2025 20:59:17 +0200 (CEST) Received: by mail-qv1-f100.google.com with SMTP id 6a1803df08f44-7970e8d1cfeso16968856d6.1 for ; Thu, 09 Oct 2025 11:59:17 -0700 (PDT) DKIM-Signature: v=1; a=rsa-sha256; c=relaxed/relaxed; d=iol.unh.edu; s=unh-iol; t=1760036356; x=1760641156; darn=dpdk.org; h=references:in-reply-to:cc:to:from:subject:message-id:date:from:to :cc:subject:date:message-id:reply-to; bh=OSatdv9M4JstO+A0NSr+Nz292DbNC/gY23V4va/mfNY=; b=LkePiy5IbbaWCnCtU7FHQpy7M8rys4u4+pXV1TFm5LnNZATIbmwOrSpjeqTJF9fzi6 IechSmX+sFBUDRZirHbhZaFRhoeH8UHxQTj1/aIKUd8Naz2N/pFnTYDQSXipHa07GenY kfVr3LY/sld2YvXVuxjgr4ZJ6h9q+20H+Z/WI= X-Google-DKIM-Signature: v=1; a=rsa-sha256; c=relaxed/relaxed; d=1e100.net; s=20230601; t=1760036356; x=1760641156; h=references:in-reply-to:cc:to:from:subject:message-id:date :x-gm-message-state:from:to:cc:subject:date:message-id:reply-to; bh=OSatdv9M4JstO+A0NSr+Nz292DbNC/gY23V4va/mfNY=; b=IzkzSAIKJmHoCjoqA8kpNzxZkyHzBpEnLhqigOBrbT4zpapta7WS561oz3sFHOoltO duNw0rbRs9Qp837Hm3yFtxSH8YzVrx9eoa1Lq7GGcVXCotnW3JbL9Ecry5qho0TBb1H+ LCjqdpv7RJ1Z3DM6/i8ouc/xItbwD8h7CJPakS+Ac1Xsp+ztH/trIlnkmalmtifDRGB0 v6hDmJpU/IiMYUXpsaYPAgkLK2F3aPchHT14prDWTqUCNgZarfkqRPo81A35EITdURQV XtwvRQ6Zyd7M7Xu7oMxzhEJ8TsgO8gZ7DWdW4hk7gSk0VlAiWwi1vvAMn0hAxpDrJYdJ zjlQ== X-Gm-Message-State: AOJu0YxZu5flQ3nW1jPkWnKd+gAYKLEWwLG+jTb69nd/JNleku0Pc7DL ZPbDLHQqf18QpAShyV9SJy0xi4XX2M4F5aGAZzyfl2sgTJ7L2T/+86TDaRC8/y9B7mmru6brEOI GxOzvfUfFwq9JfFYHH2GAH7BTgWZACnKWfT8HV8wkXbRc X-Gm-Gg: ASbGncvDLQbSh9fRqV5zsFb30FFBia0sbajcFLFoPt+ulgU5d4jxV4qDFjVFPZnIyDk rJixLMf1xIOmv3c9vH7DNpSOLCAmiBpw8r5MHDMCgrfcwUEzw1UHQXzVsTWztn0vRDd0kTzMjow q2KbPWBuw8/ZNyFivtmOE4zAlsHG52oTySmBJTB3K8XbC1qKjZP5+aOLF0KtE5igT/rsV82XzYm pcqzTANg6x5f3ZwZiOXbxJMHaXs7zIlxYy4rHkYcfV8Xj+L8zjGNcXW7FROmWxO7CEmYFIHV6Dw Y0W+xl/XFqAIXF/OO6wzHpcPg5sPCJ7kdq0lk9WKXZpFSem7kwgaBn4YRyGIDRz0uIoefGn8khK ozA== X-Google-Smtp-Source: AGHT+IGUgejkvnba3WPhm1W6gFwJaOtLhzrDDDcIt0gmrLb1ptbe69Hak9beqAT+AHk8llHir4qD4I3JVeBF X-Received: by 2002:ad4:5f89:0:b0:870:ab6b:105 with SMTP id 6a1803df08f44-87b21000e6cmr107542426d6.3.1760036356486; Thu, 09 Oct 2025 11:59:16 -0700 (PDT) Received: from postal.iol.unh.edu (postal.iol.unh.edu. [132.177.123.84]) by smtp-relay.gmail.com with ESMTPS id 6a1803df08f44-87bc354d0a9sm106506d6.26.2025.10.09.11.59.16 (version=TLS1_2 cipher=ECDHE-ECDSA-AES128-GCM-SHA256 bits=128/128); Thu, 09 Oct 2025 11:59:16 -0700 (PDT) X-Relaying-Domain: iol.unh.edu Date: Thu, 09 Oct 2025 11:59:16 -0700 (PDT) Message-ID: <68e80604.050a0220.369362.08acSMTPIN_ADDED_MISSING@mx.google.com> Received: from [172.21.0.3] (unknown [172.18.0.240]) by postal.iol.unh.edu (Postfix) with ESMTP id 34EC5604D420; Thu, 9 Oct 2025 14:59:16 -0400 (EDT) Subject: |SUCCESS| pw157357-157356 [PATCH] [v3,2/2] net/iavf: add restore com From: dpdklab@iol.unh.edu To: Test Report Cc: dpdk-test-reports@iol.unh.edu, Bruce Richardson In-Reply-To: <20251009102835.926479-2-ciara.loftus@intel.com> References: <20251009102835.926479-2-ciara.loftus@intel.com> Content-Type: text/plain X-BeenThere: test-report@dpdk.org X-Mailman-Version: 2.1.29 Precedence: list List-Id: automatic DPDK test reports List-Unsubscribe: , List-Archive: List-Post: List-Help: List-Subscribe: , Errors-To: test-report-bounces@dpdk.org Test-Label: iol-compile-amd64-testing Test-Status: SUCCESS http://dpdk.org/patch/157356 _Testing PASS_ Submitter: Loftus, Ciara Date: Thursday, October 09 2025 10:28:35 DPDK git baseline: Repo:dpdk-next-net-intel Branch: master CommitID:21c1fe280a2480dcd7edbb3e51cc2f9a37c1c6e0 157357-157356 --> testing pass Upstream job id: Generic-DPDK-Compile-Meson#432912 Test environment and result as below: +-------------------------------+--------------------+-------------------------+-------------------+----------------------+-------------------+------------------+ | Environment | dpdk_meson_compile | dpdk_llvm_clang_compile | dpdk_msvc_compile | dpdk_mingw64_compile | dpdk_compile_spdk | dpdk_compile_ovs | +===============================+====================+=========================+===================+======================+===================+==================+ | Ubuntu 20.04 | PASS | SKIPPED | SKIPPED | SKIPPED | SKIPPED | SKIPPED | +-------------------------------+--------------------+-------------------------+-------------------+----------------------+-------------------+------------------+ | FreeBSD 14.2 | PASS | SKIPPED | SKIPPED | SKIPPED | SKIPPED | SKIPPED | +-------------------------------+--------------------+-------------------------+-------------------+----------------------+-------------------+------------------+ | CentOS Stream 9 | PASS | SKIPPED | SKIPPED | SKIPPED | PASS | SKIPPED | +-------------------------------+--------------------+-------------------------+-------------------+----------------------+-------------------+------------------+ | CentOS Stream 10 | PASS | SKIPPED | SKIPPED | SKIPPED | SKIPPED | SKIPPED | +-------------------------------+--------------------+-------------------------+-------------------+----------------------+-------------------+------------------+ | Debian GNU/Linux 12 | PASS | SKIPPED | SKIPPED | SKIPPED | PASS | SKIPPED | +-------------------------------+--------------------+-------------------------+-------------------+----------------------+-------------------+------------------+ | Fedora Linux 42 | PASS | SKIPPED | SKIPPED | SKIPPED | PASS | PASS | +-------------------------------+--------------------+-------------------------+-------------------+----------------------+-------------------+------------------+ | openSUSE Leap 15.6 | PASS | SKIPPED | SKIPPED | SKIPPED | SKIPPED | SKIPPED | +-------------------------------+--------------------+-------------------------+-------------------+----------------------+-------------------+------------------+ | Red Hat Enterprise Linux 8.10 | PASS | SKIPPED | SKIPPED | SKIPPED | SKIPPED | SKIPPED | +-------------------------------+--------------------+-------------------------+-------------------+----------------------+-------------------+------------------+ | Red Hat Enterprise Linux 9.5 | PASS | SKIPPED | SKIPPED | SKIPPED | SKIPPED | SKIPPED | +-------------------------------+--------------------+-------------------------+-------------------+----------------------+-------------------+------------------+ | Ubuntu 22.04 | PASS | SKIPPED | SKIPPED | SKIPPED | PASS | SKIPPED | +-------------------------------+--------------------+-------------------------+-------------------+----------------------+-------------------+------------------+ | Ubuntu 24.04 | PASS | SKIPPED | SKIPPED | SKIPPED | PASS | PASS | +-------------------------------+--------------------+-------------------------+-------------------+----------------------+-------------------+------------------+ | Alpine Linux 3.22.0 | PASS | SKIPPED | SKIPPED | SKIPPED | SKIPPED | SKIPPED | +-------------------------------+--------------------+-------------------------+-------------------+----------------------+-------------------+------------------+ | Windows Server 2022 | SKIPPED | PASS | PASS | PASS | SKIPPED | SKIPPED | +-------------------------------+--------------------+-------------------------+-------------------+----------------------+-------------------+------------------+ Ubuntu 20.04 Kernel: 4.19 Compiler: gcc gcc (Ubuntu 9.4.0-1ubuntu1~20.04.2) 9.4.0 FreeBSD 14.2 Kernel: 14.2-RELEASE Compiler: clang 18.1.6 CentOS Stream 9 Kernel: 5.15 Compiler: gcc gcc (GCC) 11.5.0 20240719 (Red Hat 11.5.0-11) CentOS Stream 10 Kernel: 5.15 Compiler: gcc gcc (GCC) 14.2.1 20250110 (Red Hat 14.2.1-8) Debian GNU/Linux 12 Kernel: 5.15 Compiler: gcc gcc (Debian 12.2.0-14+deb12u1) 12.2.0 Fedora Linux 42 Kernel: 5.15 Compiler: clang gcc (GCC) 15.2.1 20250808 (Red Hat 15.2.1-1) openSUSE Leap 15.6 Kernel: 5.15 Compiler: gcc gcc (SUSE Linux) 7.5.0 Red Hat Enterprise Linux 8.10 Kernel: 5.15 Compiler: gcc gcc (GCC) 8.5.0 20210514 (Red Hat 8.5.0-22) Red Hat Enterprise Linux 9.5 Kernel: 5.15 Compiler: gcc gcc (GCC) 11.5.0 20240719 (Red Hat 11.5.0-2) Ubuntu 22.04 Kernel: 5.15 Compiler: gcc gcc (Ubuntu 11.4.0-1ubuntu1~22.04) 11.4.0 Ubuntu 24.04 Kernel: 5.15 Compiler: gcc gcc (Ubuntu 13.3.0-6ubuntu2~24.04) 13.3.0 Alpine Linux 3.22.0 Kernel: 5.15 Compiler: gcc gcc (Alpine 14.2.0) 14.2.0 Windows Server 2022 Kernel: 10.0.20348.2031 Compiler: clang 15.0.7, gcc 14.1.0 (MinGW), and MSVC VS 19.39.33521 To view detailed results, visit: https://lab.dpdk.org/results/dashboard/patchsets/34244/ UNH-IOL DPDK Community Lab To manage your email subscriptions, visit: https://lab.dpdk.org/results/dashboard/preferences/subscriptions/