From mboxrd@z Thu Jan 1 00:00:00 1970 Return-Path: Received: from mails.dpdk.org (mails.dpdk.org [217.70.189.124]) by inbox.dpdk.org (Postfix) with ESMTP id 3A7C6488F4 for ; Thu, 9 Oct 2025 21:09:13 +0200 (CEST) Received: from mails.dpdk.org (localhost [127.0.0.1]) by mails.dpdk.org (Postfix) with ESMTP id 362C74064C; Thu, 9 Oct 2025 21:09:13 +0200 (CEST) Received: from mail-vk1-f225.google.com (mail-vk1-f225.google.com [209.85.221.225]) by mails.dpdk.org (Postfix) with ESMTP id ED2F040297 for ; Thu, 9 Oct 2025 21:09:11 +0200 (CEST) Received: by mail-vk1-f225.google.com with SMTP id 71dfb90a1353d-554a7e98e19so900709e0c.3 for ; Thu, 09 Oct 2025 12:09:11 -0700 (PDT) DKIM-Signature: v=1; a=rsa-sha256; c=relaxed/relaxed; d=iol.unh.edu; s=unh-iol; t=1760036951; x=1760641751; darn=dpdk.org; h=cc:to:from:subject:message-id:date:from:to:cc:subject:date :message-id:reply-to; bh=upVBIvFL0gLkn0vJX6+2vBfL2ku+LPZQz32xrnBLuGY=; b=Dpc8H0xxVP6ApgHPZd2gDq8CaOSuxHrzins3XBSu03fUwdQuxQIvRTBJnyBrxK1yq4 ebMHDloHSLqaz7wdnzHnhh4KjcUpk5KI491m2zqTGHA0ndB9W3IDbUXzT1km4D/YyZQQ 4sLHsGjbv2TiOxa4zlW9d7rY7VdJ7rAEojsj4= X-Google-DKIM-Signature: v=1; a=rsa-sha256; c=relaxed/relaxed; d=1e100.net; s=20230601; t=1760036951; x=1760641751; h=cc:to:from:subject:message-id:date:x-gm-message-state:from:to:cc :subject:date:message-id:reply-to; bh=upVBIvFL0gLkn0vJX6+2vBfL2ku+LPZQz32xrnBLuGY=; b=QET73Qo2+cco27TrPfcmFf4PQKldxbgb9JPTvrzZkcmcrjy2I8tB+sDg6RAOpU89AM uefogKR3vgrl2PqqVmWFkbOJ3yMIx7X0Aa5F2c5gPfDd6752CAiXbO32OD8SLddHHAfS q6zAraqqa20GW/gEPIimlkFn66xFRyGwMHa41BCz1elk7sjYfUafxRoW7wqorHPH2uQy cEn71pAxu/JQd5mkR/JeyzuVpmfkOhusg5pBnTPWUkEnzUL2MDXTv4Z2UGrUL3unXUaY KLWShulkXvXg8CEjugxDB9BK3W/rrUVEYDTdVVyMu09TUgyYwM2DOjwIfDfR0rWqDkAM IU/A== X-Gm-Message-State: AOJu0YwBplYjb7840QaZfSvrXv2yJ+vOjNUBiiZkYQGWBGHTrmTLwRsj A3Lrs3P3tOvdcB7jNywHuxeJPNzNmJUH3iu3xQg/Pt1lwAgRsCDcwInBNEGiOUqijFbiqfDu+oO hr4nHkf7x3l6cIMsopdYR+PbSO8XaHz1BJDEI7lkOEBfO7SGySlZq X-Gm-Gg: ASbGncsH+ZJFxMfLy1kbbomR09ZADdZFdUt+ocL9A0TQGclRny1ffUCHU1opwRf0Qo4 VcXB/KSEScT48aSRCfOmcUL5NG3MukAyxTVlZXIhPEYi9sXcc3JMS6LnbxPJ6nojQL/w5T34nYX GDlgBfTN2cM+ZmkIN5lsZ/gMJgziOJPWDXYsTZixsh+2FW8hq9arIEgdVp9rJ6b71ta3hWHYUwV h3ofVGMQLY/4lSrjVBKGPSCYPQavaqR8vcD7VtGNDYXv1/YMWJ/q/pwBhd1/mkPfay/aV4OekyV UypbrRaMoWmQeoHpCjPoj0bfrUZ8dZAbWZXplbn2WFBCYjjeeshFVus= X-Google-Smtp-Source: AGHT+IFQ4WnbBkeUve8RNvOJtIWu7lbeWyhXxA8PH551m3ZBQYYFNJ6r0bBVBE/RzGavvCzPlCpdWKuvGZyY X-Received: by 2002:a05:6122:4695:b0:535:e35d:49f4 with SMTP id 71dfb90a1353d-554b8ba0b60mr3679210e0c.11.1760036951326; Thu, 09 Oct 2025 12:09:11 -0700 (PDT) Received: from postal.iol.unh.edu (postal.iol.unh.edu. [2606:4100:3880:1234::84]) by smtp-relay.gmail.com with ESMTPS id a1e0cc1a2514c-930bf794b72sm3056241.6.2025.10.09.12.09.11 (version=TLS1_2 cipher=ECDHE-ECDSA-AES128-GCM-SHA256 bits=128/128); Thu, 09 Oct 2025 12:09:11 -0700 (PDT) X-Relaying-Domain: iol.unh.edu Date: Thu, 09 Oct 2025 12:09:11 -0700 (PDT) Message-ID: <68e80857.050a0220.59b86.0267SMTPIN_ADDED_MISSING@mx.google.com> Received: from [172.21.0.2] (unknown [172.18.0.240]) by postal.iol.unh.edu (Postfix) with ESMTP id 058706051830; Thu, 9 Oct 2025 15:09:11 -0400 (EDT) Subject: |SUCCESS| [GIT MASTER] b287e404643aeab5bb5db084c142789df187844e From: dpdklab@iol.unh.edu To: Test Report Cc: dpdk-test-reports@iol.unh.edu, Xueming Li , Christian Ehrhardt , Kevin Traynor , Luca Boccassi Content-Type: text/plain X-BeenThere: test-report@dpdk.org X-Mailman-Version: 2.1.29 Precedence: list List-Id: automatic DPDK test reports List-Unsubscribe: , List-Archive: List-Post: List-Help: List-Subscribe: , Errors-To: test-report-bounces@dpdk.org _Testing PASS_ Branch: tags/v24.11 b287e404643aeab5bb5db084c142789df187844e --> testing pass Upstream job id: Generic-DPDK-Compile-Meson#432762 Test environment and result as below: +------------------------------+--------------------+ | Environment | dpdk_meson_compile | +==============================+====================+ | Red Hat Enterprise Linux 9.5 | PASS | +------------------------------+--------------------+ | Ubuntu 20.04 | PASS | +------------------------------+--------------------+ | Fedora Linux 42 | PASS | +------------------------------+--------------------+ | Debian GNU/Linux 12 | PASS | +------------------------------+--------------------+ | Ubuntu 22.04 | PASS | +------------------------------+--------------------+ | Ubuntu 24.04 | PASS | +------------------------------+--------------------+ | CentOS Stream 9 | PASS | +------------------------------+--------------------+ | CentOS Stream 10 | PASS | +------------------------------+--------------------+ Red Hat Enterprise Linux 9.5 Kernel: 5.4 Compiler: gcc gcc (GCC) 11.5.0 20240719 (Red Hat 11.5.0-2) Ubuntu 20.04 Kernel: 5.15 Compiler: aarch64-linux-gnu-gcc gcc (Ubuntu 9.4.0-1ubuntu1~20.04.2) 9.4.0 Fedora Linux 42 Kernel: 5.4 Compiler: gcc gcc (GCC) 15.2.1 20250808 (Red Hat 15.2.1-1) Debian GNU/Linux 12 Kernel: 5.4 Compiler: gcc gcc (Debian 12.2.0-14+deb12u1) 12.2.0 Ubuntu 22.04 Kernel: 5.4 Compiler: gcc gcc (Ubuntu 11.4.0-1ubuntu1~22.04) 11.4.0 Ubuntu 24.04 Kernel: 5.4 Compiler: gcc gcc (Ubuntu 13.3.0-6ubuntu2~24.04) 13.3.0 CentOS Stream 9 Kernel: 5.4 Compiler: gcc gcc (GCC) 11.5.0 20240719 (Red Hat 11.5.0-11) CentOS Stream 10 Kernel: 5.4 Compiler: gcc gcc (GCC) 14.2.1 20250110 (Red Hat 14.2.1-8) To view detailed results, visit: https://lab.dpdk.org/results/dashboard/tarballs/35151/ UNH-IOL DPDK Community Lab To manage your email subscriptions, visit: https://lab.dpdk.org/results/dashboard/preferences/subscriptions/