From mboxrd@z Thu Jan 1 00:00:00 1970 Return-Path: Received: from mails.dpdk.org (mails.dpdk.org [217.70.189.124]) by inbox.dpdk.org (Postfix) with ESMTP id 85ACF488F4 for ; Thu, 9 Oct 2025 21:49:58 +0200 (CEST) Received: from mails.dpdk.org (localhost [127.0.0.1]) by mails.dpdk.org (Postfix) with ESMTP id 7C5EE4027A; Thu, 9 Oct 2025 21:49:58 +0200 (CEST) Received: from mail-il1-f226.google.com (mail-il1-f226.google.com [209.85.166.226]) by mails.dpdk.org (Postfix) with ESMTP id 985124027A for ; Thu, 9 Oct 2025 21:49:56 +0200 (CEST) Received: by mail-il1-f226.google.com with SMTP id e9e14a558f8ab-42f7a4bf805so14557795ab.2 for ; Thu, 09 Oct 2025 12:49:56 -0700 (PDT) DKIM-Signature: v=1; a=rsa-sha256; c=relaxed/relaxed; d=iol.unh.edu; s=unh-iol; t=1760039396; x=1760644196; darn=dpdk.org; h=cc:to:from:subject:message-id:date:from:to:cc:subject:date :message-id:reply-to; bh=45efcteHf+9YfFAadgUlJKK7Rx6R/I0znF2BXrASiyo=; b=RLnaCS2KU5lJS2I2OdmDVNPVMd1JbZEMrCpZWA9FR7fjFwTpIwqSHOBvhql/IEwg+u ml+nSHCkJWr7g/psbjmLavHQNmlkIMkJygHAN8B28qr1lgIh2G5LuApC/ypz8IdJhU7c iPnE71A/p9FFupBl8PsvgWBn7FUL9PTas+/eI= X-Google-DKIM-Signature: v=1; a=rsa-sha256; c=relaxed/relaxed; d=1e100.net; s=20230601; t=1760039396; x=1760644196; h=cc:to:from:subject:message-id:date:x-gm-message-state:from:to:cc :subject:date:message-id:reply-to; bh=45efcteHf+9YfFAadgUlJKK7Rx6R/I0znF2BXrASiyo=; b=mcUmPWGce9l+1pbewBX6Csl09OMHcVK03HpSRhKpTF+JlF3PHDXXnDcRbupAxbmaG6 Ij9R5X0A1ZSVZy0ieim6fDmShfSAxWVa/gqA+XvX8ijFa+zZupl5u+9PnbJg6OnrB78i fXm0B97kdTGBOgR3I17t3uQkyfisqciQ5G0PjFoeK55luIn45a4N3zh1AJiLp6iXA+go rg3ni743eaUtN3HEZb7lLJjvWy4A73M0sCf+lKSCFdT37NKi/MBTDR09z5TH7fnLKj7K xRTGshYqWwG90WkIxl7Y7AD0PdYo9zh3MV4mFE0RPN5/LoNAN6VUmvBIOKBpwLQyetgI 1Ocg== X-Gm-Message-State: AOJu0YyLSzM0Yi/W0CgRxXJBcuLEcsYMtB9DOvhV+4TpUJ3Xg2hed0mx K5HKdv0npAzZ7b9Ed3nk9qMu2znVKGQKuGxBOTj69UfPVrlZs5cgTo5NmrojpeAmjFDZhER1Kpy xw7AIWDxR2NgZe7RLggysaVBZZOaI0oL1qyEe X-Gm-Gg: ASbGnctpYoNR8SX0EhoeAonOhi9NsFTg/VKP2p2pR3cOeMygd1yC8jxRDmE2CM8rZx4 PzdWCCwria+TB+SWPEneBGxAzej2pxqJl6PzrqJRCwvBPDstfQyVjcKGf2GToJaQ3JDxyHxNnQt Gv97+EcNxJI4XjFBVo1XWQRaWgIgTf+sybtSVUhZ2Q/UTM/+vk1/+0xW0a8Jx7BpQPtGsdCbXma +IdeuFb7PW/2EXwiilIJXSdzAbp4xxNMm+KmBvmrzjpBJRdbrOjtCkQGo60ggNsYyVvcVF2WXrm xz9xPi5aL2Dr4iOzlQw0TaVCfHD9WzDpQi3Osbfvx9TqEHD4IjQEPPNlHkctdMUzFvaxz6lNmRs zZg== X-Google-Smtp-Source: AGHT+IFIEXVMpr8XDYaHypzhieqRZkNFwSN7QUqGfjswZ6leeyPtbPB+1uuc8dgFJWYIYkWsHoHcV4zxXI9Q X-Received: by 2002:a05:6e02:1986:b0:42e:729a:4b0d with SMTP id e9e14a558f8ab-42f873d1f85mr77759555ab.20.1760039395887; Thu, 09 Oct 2025 12:49:55 -0700 (PDT) Received: from postal.iol.unh.edu (postal.iol.unh.edu. [132.177.123.84]) by smtp-relay.gmail.com with ESMTPS id 8926c6da1cb9f-58f71469ae0sm22207173.27.2025.10.09.12.49.55 (version=TLS1_2 cipher=ECDHE-ECDSA-AES128-GCM-SHA256 bits=128/128); Thu, 09 Oct 2025 12:49:55 -0700 (PDT) X-Relaying-Domain: iol.unh.edu Date: Thu, 09 Oct 2025 12:49:55 -0700 (PDT) Message-ID: <68e811e3.050a0220.d229b.12e2SMTPIN_ADDED_MISSING@mx.google.com> Received: from [172.21.0.3] (unknown [172.18.0.240]) by postal.iol.unh.edu (Postfix) with ESMTP id 7348B604D420; Thu, 9 Oct 2025 15:49:55 -0400 (EDT) Subject: |SUCCESS| [GIT MASTER] 3b43ce3f4a54468e7ef65760c2fd7b4d6ee6d9fc From: dpdklab@iol.unh.edu To: Test Report Cc: dpdk-test-reports@iol.unh.edu, Xueming Li , Christian Ehrhardt , Kevin Traynor , Luca Boccassi Content-Type: text/plain X-BeenThere: test-report@dpdk.org X-Mailman-Version: 2.1.29 Precedence: list List-Id: automatic DPDK test reports List-Unsubscribe: , List-Archive: List-Post: List-Help: List-Subscribe: , Errors-To: test-report-bounces@dpdk.org _Testing PASS_ Branch: tags/v22.11 3b43ce3f4a54468e7ef65760c2fd7b4d6ee6d9fc --> testing pass Upstream job id: Generic-DPDK-Compile-Meson#432801 Test environment and result as below: +------------------------------+--------------------+ | Environment | dpdk_meson_compile | +==============================+====================+ | Red Hat Enterprise Linux 9.5 | PASS | +------------------------------+--------------------+ | Ubuntu 20.04 | PASS | +------------------------------+--------------------+ | Debian GNU/Linux 12 | PASS | +------------------------------+--------------------+ | Fedora Linux 42 | PASS | +------------------------------+--------------------+ | Ubuntu 22.04 | PASS | +------------------------------+--------------------+ | Ubuntu 24.04 | PASS | +------------------------------+--------------------+ | CentOS Stream 9 | PASS | +------------------------------+--------------------+ | CentOS Stream 10 | PASS | +------------------------------+--------------------+ Red Hat Enterprise Linux 9.5 Kernel: 5.4 Compiler: gcc gcc (GCC) 11.5.0 20240719 (Red Hat 11.5.0-2) Ubuntu 20.04 Kernel: 5.15 Compiler: aarch64-linux-gnu-gcc gcc (Ubuntu 9.4.0-1ubuntu1~20.04.2) 9.4.0 Debian GNU/Linux 12 Kernel: 5.4 Compiler: gcc gcc (Debian 12.2.0-14+deb12u1) 12.2.0 Fedora Linux 42 Kernel: 5.4 Compiler: gcc gcc (GCC) 15.2.1 20250808 (Red Hat 15.2.1-1) Ubuntu 22.04 Kernel: 5.4 Compiler: gcc gcc (Ubuntu 11.4.0-1ubuntu1~22.04) 11.4.0 Ubuntu 24.04 Kernel: 5.4 Compiler: gcc gcc (Ubuntu 13.3.0-6ubuntu2~24.04) 13.3.0 CentOS Stream 9 Kernel: 5.4 Compiler: gcc gcc (GCC) 11.5.0 20240719 (Red Hat 11.5.0-11) CentOS Stream 10 Kernel: 5.4 Compiler: gcc gcc (GCC) 14.2.1 20250110 (Red Hat 14.2.1-8) To view detailed results, visit: https://lab.dpdk.org/results/dashboard/tarballs/35152/ UNH-IOL DPDK Community Lab To manage your email subscriptions, visit: https://lab.dpdk.org/results/dashboard/preferences/subscriptions/