automatic DPDK test reports
 help / color / mirror / Atom feed
From: dpdklab@iol.unh.edu
To: Test Report <test-report@dpdk.org>
Cc: dpdk-test-reports@iol.unh.edu
Subject: |WARNING| pw157370-157390 [PATCH] [v11,21/21] eal: allow lcore remap
Date: Thu, 09 Oct 2025 12:59:38 -0700 (PDT)	[thread overview]
Message-ID: <68e8142a.050a0220.21bd6a.15c3SMTPIN_ADDED_MISSING@mx.google.com> (raw)
In-Reply-To: <20251009130056.2630343-22-bruce.richardson@intel.com>

Test-Label: iol-compile-amd64-testing
Test-Status: WARNING
http://dpdk.org/patch/157390

_Testing issues_

Submitter: Bruce Richardson <bruce.richardson@intel.com>
Date: Thursday, October 09 2025 13:00:56 
DPDK git baseline: Repo:dpdk
  Branch: master
  CommitID:2b403dd8fb37d0ba13723e44ffc7ee2c2795f838

157370-157390 --> testing issues

Upstream job id: Generic-DPDK-Compile-Meson#432940

Test environment and result as below:

+---------------------+-------------------------+--------------------+-------------------+----------------------+-------------------+
|     Environment     | dpdk_llvm_clang_compile | dpdk_meson_compile | dpdk_msvc_compile | dpdk_mingw64_compile | dpdk_compile_spdk |
+=====================+=========================+====================+===================+======================+===================+
| Windows Server 2022 | PASS                    | SKIPPED            | PASS              | PASS                 | SKIPPED           |
+---------------------+-------------------------+--------------------+-------------------+----------------------+-------------------+
| Ubuntu 20.04        | SKIPPED                 | PASS               | SKIPPED           | SKIPPED              | SKIPPED           |
+---------------------+-------------------------+--------------------+-------------------+----------------------+-------------------+
| FreeBSD 14.2        | SKIPPED                 | PASS               | SKIPPED           | SKIPPED              | SKIPPED           |
+---------------------+-------------------------+--------------------+-------------------+----------------------+-------------------+
| CentOS Stream 9     | SKIPPED                 | PASS               | SKIPPED           | SKIPPED              | WARN              |
+---------------------+-------------------------+--------------------+-------------------+----------------------+-------------------+
| CentOS Stream 10    | SKIPPED                 | PEND               | SKIPPED           | SKIPPED              | SKIPPED           |
+---------------------+-------------------------+--------------------+-------------------+----------------------+-------------------+
| Debian GNU/Linux 12 | SKIPPED                 | PEND               | SKIPPED           | SKIPPED              | PEND              |
+---------------------+-------------------------+--------------------+-------------------+----------------------+-------------------+

==== 20 line log output for CentOS Stream 9 (dpdk_compile_spdk): ====
 --- Failed to get log output --- 
==== End log output ====

Windows Server 2022
	Kernel: 10.0.20348.2031
	Compiler: clang 15.0.7, gcc 14.1.0 (MinGW), and MSVC VS 19.39.33521

Ubuntu 20.04
	Kernel: 4.19
	Compiler: gcc gcc (Ubuntu 9.4.0-1ubuntu1~20.04.2) 9.4.0

FreeBSD 14.2
	Kernel: 14.2-RELEASE
	Compiler: clang 18.1.6

CentOS Stream 9
	Kernel: 5.15
	Compiler: gcc gcc (GCC) 11.5.0 20240719 (Red Hat 11.5.0-11)

CentOS Stream 10
	Kernel: 5.15
	Compiler: gcc gcc (GCC) 14.2.1 20250110 (Red Hat 14.2.1-8)

Debian GNU/Linux 12
	Kernel: 5.15
	Compiler: gcc gcc (Debian 12.2.0-14+deb12u1) 12.2.0

To view detailed results, visit:
https://lab.dpdk.org/results/dashboard/patchsets/34246/

UNH-IOL DPDK Community Lab

To manage your email subscriptions, visit: 
https://lab.dpdk.org/results/dashboard/preferences/subscriptions/

  parent reply	other threads:[~2025-10-09 19:59 UTC|newest]

Thread overview: 23+ messages / expand[flat|nested]  mbox.gz  Atom feed  top
     [not found] <20251009130056.2630343-22-bruce.richardson@intel.com>
2025-10-09 12:30 ` |SUCCESS| pw157370-157390 [PATCH v11 21/21] eal: allow lcore remapping with autodetected core affinity qemudev
2025-10-09 12:35 ` qemudev
2025-10-09 13:04 ` |SUCCESS| pw157390 " checkpatch
2025-10-09 13:29 ` |PENDING| pw157370-157390 [PATCH] [v11,21/21] eal: allow lcore remap dpdklab
2025-10-09 13:33 ` |SUCCESS| " dpdklab
2025-10-09 13:34 ` |PENDING| " dpdklab
2025-10-09 13:37 ` |SUCCESS| " dpdklab
2025-10-09 13:41 ` |PENDING| " dpdklab
2025-10-09 13:50 ` |SUCCESS| " dpdklab
2025-10-09 13:50 ` |PENDING| " dpdklab
2025-10-09 13:52 ` |SUCCESS| " dpdklab
2025-10-09 13:54 ` dpdklab
2025-10-09 13:58 ` dpdklab
2025-10-09 13:59 ` dpdklab
2025-10-09 14:12 ` dpdklab
2025-10-09 14:15 ` dpdklab
2025-10-09 14:17 ` dpdklab
2025-10-09 14:22 ` dpdklab
2025-10-09 14:59 ` |SUCCESS| pw157390 [PATCH v11 21/21] eal: allow lcore remapping with autodetected core affinity 0-day Robot
2025-10-09 14:59 ` 0-day Robot
2025-10-09 19:59 ` dpdklab [this message]
2025-10-09 20:44 ` |WARNING| pw157370-157390 [PATCH] [v11,21/21] eal: allow lcore remap dpdklab
2025-10-09 20:45 ` |PENDING| " dpdklab

Reply instructions:

You may reply publicly to this message via plain-text email
using any one of the following methods:

* Save the following mbox file, import it into your mail client,
  and reply-to-all from there: mbox

  Avoid top-posting and favor interleaved quoting:
  https://en.wikipedia.org/wiki/Posting_style#Interleaved_style

* Reply using the --to, --cc, and --in-reply-to
  switches of git-send-email(1):

  git send-email \
    --in-reply-to=68e8142a.050a0220.21bd6a.15c3SMTPIN_ADDED_MISSING@mx.google.com \
    --to=dpdklab@iol.unh.edu \
    --cc=dpdk-test-reports@iol.unh.edu \
    --cc=test-report@dpdk.org \
    /path/to/YOUR_REPLY

  https://kernel.org/pub/software/scm/git/docs/git-send-email.html

* If your mail client supports setting the In-Reply-To header
  via mailto: links, try the mailto: link
Be sure your reply has a Subject: header at the top and a blank line before the message body.
This is a public inbox, see mirroring instructions
for how to clone and mirror all data and code used for this inbox;
as well as URLs for NNTP newsgroup(s).