From mboxrd@z Thu Jan 1 00:00:00 1970 Return-Path: Received: from mails.dpdk.org (mails.dpdk.org [217.70.189.124]) by inbox.dpdk.org (Postfix) with ESMTP id 875E6488F4 for ; Thu, 9 Oct 2025 21:59:39 +0200 (CEST) Received: from mails.dpdk.org (localhost [127.0.0.1]) by mails.dpdk.org (Postfix) with ESMTP id 57B824027A; Thu, 9 Oct 2025 21:59:39 +0200 (CEST) Received: from mail-il1-f228.google.com (mail-il1-f228.google.com [209.85.166.228]) by mails.dpdk.org (Postfix) with ESMTP id E6B404027A for ; Thu, 9 Oct 2025 21:59:38 +0200 (CEST) Received: by mail-il1-f228.google.com with SMTP id e9e14a558f8ab-42f91d225c9so4790755ab.0 for ; Thu, 09 Oct 2025 12:59:38 -0700 (PDT) DKIM-Signature: v=1; a=rsa-sha256; c=relaxed/relaxed; d=iol.unh.edu; s=unh-iol; t=1760039978; x=1760644778; darn=dpdk.org; h=references:in-reply-to:cc:to:from:subject:message-id:date:from:to :cc:subject:date:message-id:reply-to; bh=Yiw9coUozCx4EdxJpt9FX/9lLK/nO3u4G+BekAmVgNM=; b=GKYH4eXOilKDp/sRu3uwxO0IRO4EotKkvwyt5yFv0xVgB88QpKl/Bnzu8qrtwaDXPC yX8NuqzTRkCGddfDZmWuhpMX4TtSp5X5teZguOEpoUnomhxczsfmb1VqiCug9nrWBGPJ uW4gt4Cu8lCpyAbX5jw/HMJ4+i3yU2BF/EkJo= X-Google-DKIM-Signature: v=1; a=rsa-sha256; c=relaxed/relaxed; d=1e100.net; s=20230601; t=1760039978; x=1760644778; h=references:in-reply-to:cc:to:from:subject:message-id:date :x-gm-message-state:from:to:cc:subject:date:message-id:reply-to; bh=Yiw9coUozCx4EdxJpt9FX/9lLK/nO3u4G+BekAmVgNM=; b=OHZXF8W7joZ+YytnwckYbR25J1X6AJ4Nt2XlpWH2OG3s1pEYGoZmVUpFBpKcIH0If7 jIHmIDqxQTJb2SGVypmEIvpg6qPgO99k/g9We9jl5RChCockWwiniGmYSzuKXKvy/6c8 F10pF614jpHR08b3clg0tcPQInVtk7X5ZgklfZNHutXEfgUL7W4u4OC0wTufEwsgM5gi Wx8ZeiBCuezYbefZ1D2/2D49f1wSz5lBF0x5y//Ail22NCIGoQqWm3TEncDI+uw6H++W Ea1JinetKLPCSseHaVf+G32Qt3b3UpYkB8Btua2TJKntV6cAMTT7grtn4QoQPtSm5HuO 6l+A== X-Gm-Message-State: AOJu0Yy7oZYPqwA+4f7UReQAMNrh+NwBF5lnlxezoXfQvrqE5R/e2RCs QVGA+vcfTqGoKioTegsch/lqPY6hHm3bORLGuRziAocZld+BmRb8bH6005aR2S4qAZ4zhtuXEYX +i+a0npVvkh0309FCICdrgt+a4v3Xt5SZsr8x7SStMd3N X-Gm-Gg: ASbGncsSGN4GWwD1WqZ/yrVrKJfbuI1qiSXiQ/R2HY4FUf+MipSMos3tBZv0Vb0UNGH p6CTdNiol3C0uSwBQcGd2HKS2ckM8Gow5FRUquRqNB0/Z3SMt+8IzXlvIRWl07dMGzhanSv+lzJ yYO7l2tsqe4Jo17Ho0/tNr1So+++JaeptItSAFQEYYTAC3vKi5I9RgalcpK74S2yh/6XI81YZ4P corBWyHcLwogl73ZmbOKG0mgXbFebPb4AxUIeUyL9aAHqmIMUo0Xe4/d9Oy+64bSWN/+EJ77RfH sOLQ/TB/5glUVHYaP8HAGXbSTb+gtZTaIHFOihwHy/NRq7ASnRGDzFJocXMAveloqdP49Qsh5ha abw== X-Google-Smtp-Source: AGHT+IE91FsDqZea4F09sJtpA1DniWTLvcvkyWwv7bb6/q7fCpO3xPL+A0oA4CsNfah2Mn24xmvgnVxKCxdA X-Received: by 2002:a05:6e02:4813:b0:42f:7d6f:7a72 with SMTP id e9e14a558f8ab-42f7d6f8053mr135867855ab.5.1760039978159; Thu, 09 Oct 2025 12:59:38 -0700 (PDT) Received: from postal.iol.unh.edu (postal.iol.unh.edu. [132.177.123.84]) by smtp-relay.gmail.com with ESMTPS id 8926c6da1cb9f-58f71e18851sm25266173.37.2025.10.09.12.59.38 (version=TLS1_2 cipher=ECDHE-ECDSA-AES128-GCM-SHA256 bits=128/128); Thu, 09 Oct 2025 12:59:38 -0700 (PDT) X-Relaying-Domain: iol.unh.edu Date: Thu, 09 Oct 2025 12:59:38 -0700 (PDT) Message-ID: <68e8142a.050a0220.21bd6a.15c3SMTPIN_ADDED_MISSING@mx.google.com> Received: from [172.21.0.3] (unknown [172.18.0.240]) by postal.iol.unh.edu (Postfix) with ESMTP id B9CDE604D420; Thu, 9 Oct 2025 15:59:37 -0400 (EDT) Subject: |WARNING| pw157370-157390 [PATCH] [v11,21/21] eal: allow lcore remap From: dpdklab@iol.unh.edu To: Test Report Cc: dpdk-test-reports@iol.unh.edu In-Reply-To: <20251009130056.2630343-22-bruce.richardson@intel.com> References: <20251009130056.2630343-22-bruce.richardson@intel.com> Content-Type: text/plain X-BeenThere: test-report@dpdk.org X-Mailman-Version: 2.1.29 Precedence: list List-Id: automatic DPDK test reports List-Unsubscribe: , List-Archive: List-Post: List-Help: List-Subscribe: , Errors-To: test-report-bounces@dpdk.org Test-Label: iol-compile-amd64-testing Test-Status: WARNING http://dpdk.org/patch/157390 _Testing issues_ Submitter: Bruce Richardson Date: Thursday, October 09 2025 13:00:56 DPDK git baseline: Repo:dpdk Branch: master CommitID:2b403dd8fb37d0ba13723e44ffc7ee2c2795f838 157370-157390 --> testing issues Upstream job id: Generic-DPDK-Compile-Meson#432940 Test environment and result as below: +---------------------+-------------------------+--------------------+-------------------+----------------------+-------------------+ | Environment | dpdk_llvm_clang_compile | dpdk_meson_compile | dpdk_msvc_compile | dpdk_mingw64_compile | dpdk_compile_spdk | +=====================+=========================+====================+===================+======================+===================+ | Windows Server 2022 | PASS | SKIPPED | PASS | PASS | SKIPPED | +---------------------+-------------------------+--------------------+-------------------+----------------------+-------------------+ | Ubuntu 20.04 | SKIPPED | PASS | SKIPPED | SKIPPED | SKIPPED | +---------------------+-------------------------+--------------------+-------------------+----------------------+-------------------+ | FreeBSD 14.2 | SKIPPED | PASS | SKIPPED | SKIPPED | SKIPPED | +---------------------+-------------------------+--------------------+-------------------+----------------------+-------------------+ | CentOS Stream 9 | SKIPPED | PASS | SKIPPED | SKIPPED | WARN | +---------------------+-------------------------+--------------------+-------------------+----------------------+-------------------+ | CentOS Stream 10 | SKIPPED | PEND | SKIPPED | SKIPPED | SKIPPED | +---------------------+-------------------------+--------------------+-------------------+----------------------+-------------------+ | Debian GNU/Linux 12 | SKIPPED | PEND | SKIPPED | SKIPPED | PEND | +---------------------+-------------------------+--------------------+-------------------+----------------------+-------------------+ ==== 20 line log output for CentOS Stream 9 (dpdk_compile_spdk): ==== --- Failed to get log output --- ==== End log output ==== Windows Server 2022 Kernel: 10.0.20348.2031 Compiler: clang 15.0.7, gcc 14.1.0 (MinGW), and MSVC VS 19.39.33521 Ubuntu 20.04 Kernel: 4.19 Compiler: gcc gcc (Ubuntu 9.4.0-1ubuntu1~20.04.2) 9.4.0 FreeBSD 14.2 Kernel: 14.2-RELEASE Compiler: clang 18.1.6 CentOS Stream 9 Kernel: 5.15 Compiler: gcc gcc (GCC) 11.5.0 20240719 (Red Hat 11.5.0-11) CentOS Stream 10 Kernel: 5.15 Compiler: gcc gcc (GCC) 14.2.1 20250110 (Red Hat 14.2.1-8) Debian GNU/Linux 12 Kernel: 5.15 Compiler: gcc gcc (Debian 12.2.0-14+deb12u1) 12.2.0 To view detailed results, visit: https://lab.dpdk.org/results/dashboard/patchsets/34246/ UNH-IOL DPDK Community Lab To manage your email subscriptions, visit: https://lab.dpdk.org/results/dashboard/preferences/subscriptions/