From mboxrd@z Thu Jan 1 00:00:00 1970 Return-Path: Received: from mails.dpdk.org (mails.dpdk.org [217.70.189.124]) by inbox.dpdk.org (Postfix) with ESMTP id 21CD0488F5 for ; Thu, 9 Oct 2025 22:19:23 +0200 (CEST) Received: from mails.dpdk.org (localhost [127.0.0.1]) by mails.dpdk.org (Postfix) with ESMTP id F397B4027A; Thu, 9 Oct 2025 22:19:22 +0200 (CEST) Received: from mail-qv1-f98.google.com (mail-qv1-f98.google.com [209.85.219.98]) by mails.dpdk.org (Postfix) with ESMTP id 526534027A for ; Thu, 9 Oct 2025 22:19:22 +0200 (CEST) Received: by mail-qv1-f98.google.com with SMTP id 6a1803df08f44-8738c6fdbe8so18357476d6.1 for ; Thu, 09 Oct 2025 13:19:22 -0700 (PDT) DKIM-Signature: v=1; a=rsa-sha256; c=relaxed/relaxed; d=iol.unh.edu; s=unh-iol; t=1760041161; x=1760645961; darn=dpdk.org; h=references:in-reply-to:cc:to:from:subject:message-id:date:from:to :cc:subject:date:message-id:reply-to; bh=fHgSf89uDH6RHzxsz3XF53Ayj8KCkvD1+amllzC7JGc=; b=UVcJ17cNCDyjp1doar8h0LoDH239lBFxR+EzA9+E1/ib4SME454eh2MFSizBkAeGCA /OuU4mJuoJD50+HaubavByXBy6ZD/+CBgK4qjn0XQm3o5G8fEhwqcBHYnApR0/1GLI8B sy6/BRUMsVy7ALWitKUz5YYor92v+rLq62Pyc= X-Google-DKIM-Signature: v=1; a=rsa-sha256; c=relaxed/relaxed; d=1e100.net; s=20230601; t=1760041161; x=1760645961; h=references:in-reply-to:cc:to:from:subject:message-id:date :x-gm-message-state:from:to:cc:subject:date:message-id:reply-to; bh=fHgSf89uDH6RHzxsz3XF53Ayj8KCkvD1+amllzC7JGc=; b=uEgeJ0wLQ7h9pxxWcsqNENAIHyTjz30EDaJtfOJj5M7U3tAgI1tRWKOLJzSpM6iw1o pGots/yLeQgYhxcqodgP2IiCS3hEfihOjaPPKZji5iT4vZSeLLVyXp6fiTQQzJ7wG7zO luGbyQrH6cyW0nUJz3UIGVDe/KBpOLaog0FTuxsz1/9EcKXKB/Gvy7F0+NXx+FKhmUfA tje8qeJ6+TiwfQN9YpaHzWgzLsRQJrEN6ZDuPKeGn+KJ0d8tRWCuGB0l5dk+XYvHoeaJ 5qgfQtzE1Ar+CNxPQxbl4GSuAeXnpxd9SUgZLxWmFAODtqvUazw4RBov9N9b3RbmTTKM kp6Q== X-Gm-Message-State: AOJu0YzAWEP6/rxAhm/vx3bqhapHtYtY0/YsNBIfTcFEFc+pqMf3VQIp 3f3PuegnfA0a3IT+jHn8hR+PcYf2RM8tcwF2nBH27AUkqD1aqHZPNRqVFwF5jRiyZ6e/FTQuh7m BTnbTEVFmpqqfJDh63fFNlY3YoELGAnGd4SE12y71Ah0+ X-Gm-Gg: ASbGncsIiHQjq5RmG1ICOK3XlZgPPoQ0g1V4HGI4yo8TUlUAoox0bnq3S8K7yX4xgBY nfzaKltikL8zSobCj4FcXtQH+BtDFRPT4EceJltuVuNvvsxa2hb+UPX7TA1KxkvJ/FvM5I6lDIu nXuSiQOAtvIpB1+M7fguKEEQasCGNLW2tG+RWTxH4FNedctRtdPJNGK/FRwWN9gu1Zx1KajazNd D5CzT+WBtphJrJOaH0sLOq+1h5pVFaCZtZCpvE0sKxPmWeNmLrGTKVSUIy+enpyGUzf1htVgkg8 qbDUTjwodF+eMMtmDMFhXw54vVU3prQiMydleeNsH/6GC+QQUzT3Qgq7TGjQk65XPX2H2grFYi2 /Cw== X-Google-Smtp-Source: AGHT+IGWik+RQaQBAZMfWDVEq4PXXAPTgtqxuh04Hh/yJaYbfv/gsjvWqGYBwJC4PRf+MXTNZQiRI8jF4+Bs X-Received: by 2002:a05:6214:f21:b0:78e:2582:fe4 with SMTP id 6a1803df08f44-87b3eda6a94mr120480976d6.30.1760041161617; Thu, 09 Oct 2025 13:19:21 -0700 (PDT) Received: from postal.iol.unh.edu (postal.iol.unh.edu. [132.177.123.84]) by smtp-relay.gmail.com with ESMTPS id 6a1803df08f44-87bc3450c21sm240166d6.7.2025.10.09.13.19.21 (version=TLS1_2 cipher=ECDHE-ECDSA-AES128-GCM-SHA256 bits=128/128); Thu, 09 Oct 2025 13:19:21 -0700 (PDT) X-Relaying-Domain: iol.unh.edu Date: Thu, 09 Oct 2025 13:19:21 -0700 (PDT) Message-ID: <68e818c9.050a0220.239d35.14a8SMTPIN_ADDED_MISSING@mx.google.com> Received: from [172.21.0.3] (unknown [172.18.0.240]) by postal.iol.unh.edu (Postfix) with ESMTP id 574CC604D420; Thu, 9 Oct 2025 16:19:21 -0400 (EDT) Subject: |SUCCESS| pw157358-157369 [PATCH] [v1,12/12] net/enetc: Add MAC and From: dpdklab@iol.unh.edu To: Test Report Cc: dpdk-test-reports@iol.unh.edu, Stephen Hemminger In-Reply-To: <20251009111633.3585957-13-vanshika.shukla@nxp.com> References: <20251009111633.3585957-13-vanshika.shukla@nxp.com> Content-Type: text/plain X-BeenThere: test-report@dpdk.org X-Mailman-Version: 2.1.29 Precedence: list List-Id: automatic DPDK test reports List-Unsubscribe: , List-Archive: List-Post: List-Help: List-Subscribe: , Errors-To: test-report-bounces@dpdk.org Test-Label: iol-compile-amd64-testing Test-Status: SUCCESS http://dpdk.org/patch/157369 _Testing PASS_ Submitter: Vanshika Shukla Date: Thursday, October 09 2025 11:16:33 DPDK git baseline: Repo:dpdk-next-net Branch: master CommitID:c04bbd131b2c14b3049bf86d3ef367b34e6fdf1e 157358-157369 --> testing pass Upstream job id: Generic-DPDK-Compile-Meson#432930 Test environment and result as below: +-------------------------------+--------------------+-------------------------+-------------------+----------------------+-------------------+------------------+ | Environment | dpdk_meson_compile | dpdk_llvm_clang_compile | dpdk_msvc_compile | dpdk_mingw64_compile | dpdk_compile_spdk | dpdk_compile_ovs | +===============================+====================+=========================+===================+======================+===================+==================+ | Ubuntu 20.04 | PASS | SKIPPED | SKIPPED | SKIPPED | SKIPPED | SKIPPED | +-------------------------------+--------------------+-------------------------+-------------------+----------------------+-------------------+------------------+ | FreeBSD 14.2 | PASS | SKIPPED | SKIPPED | SKIPPED | SKIPPED | SKIPPED | +-------------------------------+--------------------+-------------------------+-------------------+----------------------+-------------------+------------------+ | CentOS Stream 9 | PASS | SKIPPED | SKIPPED | SKIPPED | PASS | SKIPPED | +-------------------------------+--------------------+-------------------------+-------------------+----------------------+-------------------+------------------+ | CentOS Stream 10 | PASS | SKIPPED | SKIPPED | SKIPPED | SKIPPED | SKIPPED | +-------------------------------+--------------------+-------------------------+-------------------+----------------------+-------------------+------------------+ | Debian GNU/Linux 12 | PASS | SKIPPED | SKIPPED | SKIPPED | PASS | SKIPPED | +-------------------------------+--------------------+-------------------------+-------------------+----------------------+-------------------+------------------+ | Fedora Linux 42 | PASS | SKIPPED | SKIPPED | SKIPPED | PASS | PASS | +-------------------------------+--------------------+-------------------------+-------------------+----------------------+-------------------+------------------+ | openSUSE Leap 15.6 | PASS | SKIPPED | SKIPPED | SKIPPED | SKIPPED | SKIPPED | +-------------------------------+--------------------+-------------------------+-------------------+----------------------+-------------------+------------------+ | Red Hat Enterprise Linux 8.10 | PASS | SKIPPED | SKIPPED | SKIPPED | SKIPPED | SKIPPED | +-------------------------------+--------------------+-------------------------+-------------------+----------------------+-------------------+------------------+ | Red Hat Enterprise Linux 9.5 | PASS | SKIPPED | SKIPPED | SKIPPED | SKIPPED | SKIPPED | +-------------------------------+--------------------+-------------------------+-------------------+----------------------+-------------------+------------------+ | Ubuntu 22.04 | PASS | SKIPPED | SKIPPED | SKIPPED | PASS | SKIPPED | +-------------------------------+--------------------+-------------------------+-------------------+----------------------+-------------------+------------------+ | Ubuntu 24.04 | PASS | SKIPPED | SKIPPED | SKIPPED | PASS | PASS | +-------------------------------+--------------------+-------------------------+-------------------+----------------------+-------------------+------------------+ | Alpine Linux 3.22.0 | PASS | SKIPPED | SKIPPED | SKIPPED | SKIPPED | SKIPPED | +-------------------------------+--------------------+-------------------------+-------------------+----------------------+-------------------+------------------+ | Windows Server 2022 | SKIPPED | PASS | PASS | PASS | SKIPPED | SKIPPED | +-------------------------------+--------------------+-------------------------+-------------------+----------------------+-------------------+------------------+ Ubuntu 20.04 Kernel: 4.19 Compiler: gcc gcc (Ubuntu 9.4.0-1ubuntu1~20.04.2) 9.4.0 FreeBSD 14.2 Kernel: 14.2-RELEASE Compiler: clang 18.1.6 CentOS Stream 9 Kernel: 5.15 Compiler: gcc gcc (GCC) 11.5.0 20240719 (Red Hat 11.5.0-11) CentOS Stream 10 Kernel: 5.15 Compiler: gcc gcc (GCC) 14.2.1 20250110 (Red Hat 14.2.1-8) Debian GNU/Linux 12 Kernel: 5.15 Compiler: gcc gcc (Debian 12.2.0-14+deb12u1) 12.2.0 Fedora Linux 42 Kernel: 5.15 Compiler: clang gcc (GCC) 15.2.1 20250808 (Red Hat 15.2.1-1) openSUSE Leap 15.6 Kernel: 5.15 Compiler: gcc gcc (SUSE Linux) 7.5.0 Red Hat Enterprise Linux 8.10 Kernel: 5.15 Compiler: gcc gcc (GCC) 8.5.0 20210514 (Red Hat 8.5.0-22) Red Hat Enterprise Linux 9.5 Kernel: 5.15 Compiler: gcc gcc (GCC) 11.5.0 20240719 (Red Hat 11.5.0-2) Ubuntu 22.04 Kernel: 5.15 Compiler: gcc gcc (Ubuntu 11.4.0-1ubuntu1~22.04) 11.4.0 Ubuntu 24.04 Kernel: 5.15 Compiler: gcc gcc (Ubuntu 13.3.0-6ubuntu2~24.04) 13.3.0 Alpine Linux 3.22.0 Kernel: 5.15 Compiler: gcc gcc (Alpine 14.2.0) 14.2.0 Windows Server 2022 Kernel: 10.0.20348.2031 Compiler: clang 15.0.7, gcc 14.1.0 (MinGW), and MSVC VS 19.39.33521 To view detailed results, visit: https://lab.dpdk.org/results/dashboard/patchsets/34245/ UNH-IOL DPDK Community Lab To manage your email subscriptions, visit: https://lab.dpdk.org/results/dashboard/preferences/subscriptions/