From mboxrd@z Thu Jan 1 00:00:00 1970 Return-Path: Received: from mails.dpdk.org (mails.dpdk.org [217.70.189.124]) by inbox.dpdk.org (Postfix) with ESMTP id 886D5488F5 for ; Thu, 9 Oct 2025 22:34:56 +0200 (CEST) Received: from mails.dpdk.org (localhost [127.0.0.1]) by mails.dpdk.org (Postfix) with ESMTP id 632EF4014F; Thu, 9 Oct 2025 22:34:56 +0200 (CEST) Received: from mail-yw1-f226.google.com (mail-yw1-f226.google.com [209.85.128.226]) by mails.dpdk.org (Postfix) with ESMTP id 53B8A4014F for ; Thu, 9 Oct 2025 22:34:55 +0200 (CEST) Received: by mail-yw1-f226.google.com with SMTP id 00721157ae682-780fe73cb41so7386997b3.2 for ; Thu, 09 Oct 2025 13:34:55 -0700 (PDT) DKIM-Signature: v=1; a=rsa-sha256; c=relaxed/relaxed; d=iol.unh.edu; s=unh-iol; t=1760042093; x=1760646893; darn=dpdk.org; h=references:in-reply-to:cc:to:from:subject:message-id:date:from:to :cc:subject:date:message-id:reply-to; bh=9bOsiMl1zgrCFBhhe/QtvFFX79ZNVO6Vy5gi4yX4qyA=; b=X3f+RBEtOIei9HLYGv9gKFHCfAbOIGvoGlTwVVlDkwmn72x9P304PDPjwnR3qS10cp lRAStAbf3d4Bi7IMVdLCdcC/UifgCEPRRZbwyaxCJk1yhvjXhj+uUeX+Ak2UNfSG2gCk 75lMFKcXUPc74dAM73BEmQf2x4A2dtg4S0tcM= X-Google-DKIM-Signature: v=1; a=rsa-sha256; c=relaxed/relaxed; d=1e100.net; s=20230601; t=1760042093; x=1760646893; h=references:in-reply-to:cc:to:from:subject:message-id:date :x-gm-message-state:from:to:cc:subject:date:message-id:reply-to; bh=9bOsiMl1zgrCFBhhe/QtvFFX79ZNVO6Vy5gi4yX4qyA=; b=DLhCAtwX2BzNT8Ahg0m7coZH8Z+MCwnjgFWg59wBEK2JKWdtfdasl8LGjE78ZesY+J KuM0r/o4chyedWFT6wrvekE7Byv3w5n20BKgqcU3gKk5ZTp35DL+1qJw7k84rsYHBwsg r40yQBnzqq6AnB3mB8gCiQ3U2zSi9QM0RaRljl/BXCRKouvQOxClqfk0WVfYeHv1iDj8 gi8KZGC4QoG2unvkmQYCQcwaPrNvwPqaQkASl+3E4nLHytethX0JDYAWkFXiUzUDucsb pA5EdmIQTKXhupKYZD30BCpdrLWaB3j9KQRSN7ASeUnIifABIXTMCCVczRWQXwmmnLtB dLPg== X-Gm-Message-State: AOJu0YyqTte4yxdTRplDuR6hvcioc6byXUsSJ8r/GQLexBdIa343flEv Qg+3JvaoYAo2YgrJY23jd20a8yyg85BUgsWR0CfJX1krH/4GECESV2HnZJvdWqMd8T/YPP/Ct56 cxYZVMrdZ+fksIu3xxPu3lKlwJw/UjIuX+Iiq83akvodFAxOhO5gsZ/fb6uho X-Gm-Gg: ASbGncvjo/jTwFR4v9/HLh7MiqtA6O/YQlXGDn0MOPePEac0KCc0x1Cv/PMG2j97fHu xrqz0m15SLzYib0Qp7EETT2hjiknMyp/JXE3rAfYdi/GPtNKVpKWmwTdRB7FLSnnTsABJzJ/tKu XcMapJ4/4GCV0NLjLR3w+QApzTYVRc7FaDPdCBDBLzWFHXFt1Rxun9+d/dG7e0SrXyAePvO2s7h uhbuYHJ+0W1IY+DJrRFwJNdEsKrco6G21FqWkX2i4esp7Iwti9fFmRt9doPaGvfnNHzV7ZvaNYq AphjIsFBJdbeXUZZu3MeMWMMio9MOIxJBUy0e3KashU7PptwCrfUgjU= X-Google-Smtp-Source: AGHT+IHMTpiUqMiQCmwyD/Qjz2LQOClMoKE80D635I9PYADLkKei5u8z3K0ASHmQPxGiuMvLFedNgSHOm7Xm X-Received: by 2002:a05:690c:368e:b0:781:64f:314b with SMTP id 00721157ae682-781064f7421mr10148557b3.55.1760042093300; Thu, 09 Oct 2025 13:34:53 -0700 (PDT) Received: from postal.iol.unh.edu (postal.iol.unh.edu. [2606:4100:3880:1234::84]) by smtp-relay.gmail.com with ESMTPS id 00721157ae682-78107050bf6sm279617b3.31.2025.10.09.13.34.53 (version=TLS1_2 cipher=ECDHE-ECDSA-AES128-GCM-SHA256 bits=128/128); Thu, 09 Oct 2025 13:34:53 -0700 (PDT) X-Relaying-Domain: iol.unh.edu Date: Thu, 09 Oct 2025 13:34:53 -0700 (PDT) Message-ID: <68e81c6d.050a0220.298348.17dcSMTPIN_ADDED_MISSING@mx.google.com> Received: from [172.21.0.2] (unknown [172.18.0.240]) by postal.iol.unh.edu (Postfix) with ESMTP id 002B1604D420; Thu, 9 Oct 2025 16:34:52 -0400 (EDT) Subject: |SUCCESS| pw157353 [PATCH] [v2] net/mlx5: fix age checking crash From: dpdklab@iol.unh.edu To: Test Report Cc: dpdk-test-reports@iol.unh.edu In-Reply-To: <20251009062924.138382-1-rongweil@nvidia.com> References: <20251009062924.138382-1-rongweil@nvidia.com> Content-Type: text/plain X-BeenThere: test-report@dpdk.org X-Mailman-Version: 2.1.29 Precedence: list List-Id: automatic DPDK test reports List-Unsubscribe: , List-Archive: List-Post: List-Help: List-Subscribe: , Errors-To: test-report-bounces@dpdk.org Test-Label: iol-compile-arm64-testing Test-Status: SUCCESS http://dpdk.org/patch/157353 _Testing PASS_ Submitter: Rongwei Liu Date: Thursday, October 09 2025 06:29:24 DPDK git baseline: Repo:dpdk-next-net-mlx Branch: master CommitID:2374f33e1d964e100895fd294966380c46f0886d 157353 --> testing pass Upstream job id: Generic-DPDK-Compile-Meson#432843 Test environment and result as below: +------------------------------+--------------------+ | Environment | dpdk_meson_compile | +==============================+====================+ | Red Hat Enterprise Linux 9.5 | PASS | +------------------------------+--------------------+ | Ubuntu 20.04 | PASS | +------------------------------+--------------------+ | Debian GNU/Linux 12 | PASS | +------------------------------+--------------------+ | Fedora Linux 42 | PASS | +------------------------------+--------------------+ | Ubuntu 22.04 | PASS | +------------------------------+--------------------+ | Ubuntu 24.04 | PASS | +------------------------------+--------------------+ | CentOS Stream 9 | PASS | +------------------------------+--------------------+ | CentOS Stream 10 | PASS | +------------------------------+--------------------+ Red Hat Enterprise Linux 9.5 Kernel: 5.4 Compiler: gcc gcc (GCC) 11.5.0 20240719 (Red Hat 11.5.0-2) Ubuntu 20.04 Kernel: 5.15 Compiler: aarch64-linux-gnu-gcc gcc (Ubuntu 9.4.0-1ubuntu1~20.04.2) 9.4.0 Debian GNU/Linux 12 Kernel: 5.4 Compiler: gcc gcc (Debian 12.2.0-14+deb12u1) 12.2.0 Fedora Linux 42 Kernel: 5.4 Compiler: gcc gcc (GCC) 15.2.1 20250808 (Red Hat 15.2.1-1) Ubuntu 22.04 Kernel: 5.4 Compiler: gcc gcc (Ubuntu 11.4.0-1ubuntu1~22.04) 11.4.0 Ubuntu 24.04 Kernel: 5.4 Compiler: gcc gcc (Ubuntu 13.3.0-6ubuntu2~24.04) 13.3.0 CentOS Stream 9 Kernel: 5.4 Compiler: gcc gcc (GCC) 11.5.0 20240719 (Red Hat 11.5.0-11) CentOS Stream 10 Kernel: 5.4 Compiler: gcc gcc (GCC) 14.2.1 20250110 (Red Hat 14.2.1-8) To view detailed results, visit: https://lab.dpdk.org/results/dashboard/patchsets/34242/ UNH-IOL DPDK Community Lab To manage your email subscriptions, visit: https://lab.dpdk.org/results/dashboard/preferences/subscriptions/