From mboxrd@z Thu Jan 1 00:00:00 1970 Return-Path: Received: from mails.dpdk.org (mails.dpdk.org [217.70.189.124]) by inbox.dpdk.org (Postfix) with ESMTP id 5620E488F5 for ; Thu, 9 Oct 2025 22:43:51 +0200 (CEST) Received: from mails.dpdk.org (localhost [127.0.0.1]) by mails.dpdk.org (Postfix) with ESMTP id 4A4BE4014F; Thu, 9 Oct 2025 22:43:51 +0200 (CEST) Received: from mail-pl1-f228.google.com (mail-pl1-f228.google.com [209.85.214.228]) by mails.dpdk.org (Postfix) with ESMTP id 998BE4014F for ; Thu, 9 Oct 2025 22:43:49 +0200 (CEST) Received: by mail-pl1-f228.google.com with SMTP id d9443c01a7336-28832ad6f64so15825615ad.1 for ; Thu, 09 Oct 2025 13:43:49 -0700 (PDT) DKIM-Signature: v=1; a=rsa-sha256; c=relaxed/relaxed; d=iol.unh.edu; s=unh-iol; t=1760042629; x=1760647429; darn=dpdk.org; h=cc:to:from:subject:message-id:date:from:to:cc:subject:date :message-id:reply-to; bh=BWbl6e0ZP6sg85B7jctGtAOzgAcY94/RjO7wewZg3lQ=; b=LGmHJbSRfYWy2ZsMYSF1lX3WStFKb6sx1WNEOr6Ww8+DcM+jGDRuX7mfk1VTlgji+e /Z90tiGmGfSkokwL5Iq58OntUkczHszTpm9d78BAIGv+V9OpnGbKTuaNkZSHpch0HyVv nj4yDApbvWgvVqTUooOK2INeMhWrlnh3yGMWk= X-Google-DKIM-Signature: v=1; a=rsa-sha256; c=relaxed/relaxed; d=1e100.net; s=20230601; t=1760042629; x=1760647429; h=cc:to:from:subject:message-id:date:x-gm-message-state:from:to:cc :subject:date:message-id:reply-to; bh=BWbl6e0ZP6sg85B7jctGtAOzgAcY94/RjO7wewZg3lQ=; b=vycJ0sZQzy4EruaoTz8A5FYbR98fat1MAC5An6ouZSaNRbia679tP0fqIQEaYAiOx7 x9Rpy94QT+G4SThl2vX3nr2SaH0/zs3xgt7d16s2FnyeUWx3bXSF00pZ8jlm97Kx+Gg0 oDcG7vZO/ADHI9FL0oRjNGT8Ih8XSPUOAOx8Pb/rZQrVvRKEMCFVN46ATOADiUF06VT6 EYVPUyLQzgWiX2ur1B+/zz2Oz3F93PIUuv1eDeW/vHMpRbtni9kAZInXAbcxWjywN3KZ Z/dwJ6eLVfPFl7C1EHwFVu8/zkCyR7VyRLge6j/Uhe6VnllMmb6exFNarMC8Jaa7oR6X EqZA== X-Gm-Message-State: AOJu0YwlvjnJL268pH6Ls6gBe2xwyjlduLSRm1U17cBTZMYlLxxEeeqJ wJcNNXsfvOYjrsgzm096Nh7oJXnh2GYyEnOvDnOAbGUTX3B9HQ0oJ+0PWwsZAtp1zLyKu5tBh5p qx7i6SRA/dLfk7utAC3ULRoAa9cr6DWGka2A6 X-Gm-Gg: ASbGnctOSESHm6U1+/pVjVD+sYvrkxOK/WzP9ejmgB7pq0R8zEtQji2heuXh5Ugr288 jRSKK+/1p6zSfXgcp18Xdb221KdxmknQxu5+dyZq4weMLqCR4BzZheceHHfqm+zs/UcyWQp6qbM pFvxQPFf1OKO4O3v0YuVj3rW/eZswz+Ug6ZhLvJ042owDM6SoffqE+wXL670bMCiydaQamU/IdA PdbZOlr/fiGB7EPUpv4tRdQ/vAQI2D0AL3wT41xlpGLY0mxKSgxjTQzEbpVPi9nZ092huZm/U15 PlwXNk25lTQt7hJT0CwkQx3gCXTG8lLYeKHRv23TuYpfGQEt/0wVxzMZ/Hf6Kq2ieXIkxDadOGI bJQ== X-Google-Smtp-Source: AGHT+IH105ClmrrFwudVKo85ibnAKRoIKrsQ3vNfGGaK+rE1am1QfYwWyvF4Q0Ho3aKNNGq3cMYfzOc/kwxN X-Received: by 2002:a17:902:e943:b0:26c:bcb5:1573 with SMTP id d9443c01a7336-29027303192mr106702375ad.53.1760042628625; Thu, 09 Oct 2025 13:43:48 -0700 (PDT) Received: from postal.iol.unh.edu (postal.iol.unh.edu. [132.177.123.84]) by smtp-relay.gmail.com with ESMTPS id d9443c01a7336-29034e23280sm2973695ad.21.2025.10.09.13.43.48 (version=TLS1_2 cipher=ECDHE-ECDSA-AES128-GCM-SHA256 bits=128/128); Thu, 09 Oct 2025 13:43:48 -0700 (PDT) X-Relaying-Domain: iol.unh.edu Date: Thu, 09 Oct 2025 13:43:48 -0700 (PDT) Message-ID: <68e81e84.170a0220.1f9ff3.f612SMTPIN_ADDED_MISSING@mx.google.com> Received: from [172.21.0.2] (unknown [172.18.0.240]) by postal.iol.unh.edu (Postfix) with ESMTP id D03C2604D420; Thu, 9 Oct 2025 16:43:47 -0400 (EDT) Subject: |WARNING| [GIT MASTER] 62f583c49bf67dd4d6733ece14e55fe6839e66d1 From: dpdklab@iol.unh.edu To: Test Report Cc: dpdk-test-reports@iol.unh.edu, Xueming Li , Christian Ehrhardt , Kevin Traynor , Luca Boccassi Content-Type: text/plain X-BeenThere: test-report@dpdk.org X-Mailman-Version: 2.1.29 Precedence: list List-Id: automatic DPDK test reports List-Unsubscribe: , List-Archive: List-Post: List-Help: List-Subscribe: , Errors-To: test-report-bounces@dpdk.org _Testing issues_ Branch: tags/v23.11 62f583c49bf67dd4d6733ece14e55fe6839e66d1 --> testing issues Upstream job id: Generic-Unit-Test-DPDK#379771 Test environment and result as below: +------------------------------+------------------------------+---------------------------+--------------+----------------+ | Environment | cryptodev_sw_snow3g_autotest | cryptodev_sw_zuc_autotest | lpm_autotest | dpdk_unit_test | +==============================+==============================+===========================+==============+================+ | Debian 12 (arm) | PASS | PASS | SKIPPED | SKIPPED | +------------------------------+------------------------------+---------------------------+--------------+----------------+ | Ubuntu 20.04 | SKIPPED | SKIPPED | PASS | PASS | +------------------------------+------------------------------+---------------------------+--------------+----------------+ | CentOS Stream 9 | SKIPPED | SKIPPED | SKIPPED | PASS | +------------------------------+------------------------------+---------------------------+--------------+----------------+ | Fedora Linux 40 | SKIPPED | SKIPPED | SKIPPED | PASS | +------------------------------+------------------------------+---------------------------+--------------+----------------+ | Debian GNU/Linux 12 | SKIPPED | SKIPPED | SKIPPED | PASS | +------------------------------+------------------------------+---------------------------+--------------+----------------+ | CentOS Stream 10 | SKIPPED | SKIPPED | SKIPPED | PASS | +------------------------------+------------------------------+---------------------------+--------------+----------------+ | Fedora Linux 41 | SKIPPED | SKIPPED | SKIPPED | PASS | +------------------------------+------------------------------+---------------------------+--------------+----------------+ | Fedora Linux 42 | SKIPPED | SKIPPED | SKIPPED | PASS | +------------------------------+------------------------------+---------------------------+--------------+----------------+ | Ubuntu 22.04 | SKIPPED | SKIPPED | SKIPPED | PASS | +------------------------------+------------------------------+---------------------------+--------------+----------------+ | Red Hat Enterprise Linux 9.5 | SKIPPED | SKIPPED | SKIPPED | PASS | +------------------------------+------------------------------+---------------------------+--------------+----------------+ | Ubuntu 24.04 | SKIPPED | SKIPPED | SKIPPED | PASS | +------------------------------+------------------------------+---------------------------+--------------+----------------+ Debian 12 (arm) Kernel: Depends on container host Compiler: gcc (Debian 12.2.0-14) 12.2.0 Ubuntu 20.04 Kernel: 5.4 Compiler: gcc gcc (Ubuntu 9.4.0-1ubuntu1~20.04.2) 9.4.0 CentOS Stream 9 Kernel: 5.4 Compiler: gcc gcc (GCC) 11.5.0 20240719 (Red Hat 11.5.0-11) Fedora Linux 40 Kernel: 5.4 Compiler: gcc gcc (GCC) 14.2.1 20240912 (Red Hat 14.2.1-3) Debian GNU/Linux 12 Kernel: 5.4 Compiler: gcc gcc (Debian 12.2.0-14+deb12u1) 12.2.0 CentOS Stream 10 Kernel: 5.4 Compiler: gcc gcc (GCC) 14.2.1 20250110 (Red Hat 14.2.1-8) Fedora Linux 41 Kernel: 5.4 Compiler: clang gcc (GCC) 14.3.1 20250523 (Red Hat 14.3.1-1) Fedora Linux 42 Kernel: 5.4 Compiler: gcc gcc (GCC) 15.2.1 20250808 (Red Hat 15.2.1-1) Ubuntu 22.04 Kernel: 5.15 Compiler: gcc gcc (Ubuntu 11.4.0-1ubuntu1~22.04.2) 11.4.0 Red Hat Enterprise Linux 9.5 Kernel: 5.4 Compiler: gcc gcc (GCC) 11.5.0 20240719 (Red Hat 11.5.0-2) Ubuntu 24.04 Kernel: 5.4 Compiler: gcc gcc (Ubuntu 13.3.0-6ubuntu2~24.04) 13.3.0 To view detailed results, visit: https://lab.dpdk.org/results/dashboard/tarballs/35150/ UNH-IOL DPDK Community Lab To manage your email subscriptions, visit: https://lab.dpdk.org/results/dashboard/preferences/subscriptions/