From mboxrd@z Thu Jan 1 00:00:00 1970 Return-Path: Received: from mails.dpdk.org (mails.dpdk.org [217.70.189.124]) by inbox.dpdk.org (Postfix) with ESMTP id 7C829488F5 for ; Fri, 10 Oct 2025 00:43:34 +0200 (CEST) Received: from mails.dpdk.org (localhost [127.0.0.1]) by mails.dpdk.org (Postfix) with ESMTP id 58DFF402A0; Fri, 10 Oct 2025 00:43:34 +0200 (CEST) Received: from mail-yx1-f100.google.com (mail-yx1-f100.google.com [74.125.224.100]) by mails.dpdk.org (Postfix) with ESMTP id 3866E402A0 for ; Fri, 10 Oct 2025 00:43:33 +0200 (CEST) Received: by mail-yx1-f100.google.com with SMTP id 956f58d0204a3-63bcfcb800aso1693380d50.0 for ; Thu, 09 Oct 2025 15:43:33 -0700 (PDT) DKIM-Signature: v=1; a=rsa-sha256; c=relaxed/relaxed; d=iol.unh.edu; s=unh-iol; t=1760049812; x=1760654612; darn=dpdk.org; h=references:in-reply-to:cc:to:from:subject:message-id:date:from:to :cc:subject:date:message-id:reply-to; bh=Gs9gV0LJsYRsEKePQ4UNJSkPOvUNzZ5Nf6CYIxmX5KQ=; b=cUG4yuwuZdn7u1/LCojoJaKe3ELNBeRzsaDg1YKqLIqZbRlG5stpj1zC35KHQTey+n PIEjavfPAl7vx8EWPHVXH4xUH5eFj0bL4ZbYTgCDFBy90o4FrmA6VnMOJznDgXT6jbxC +TAjkEil5bfeTx4MCQVTA1xelwt9Zy0o59rvo= X-Google-DKIM-Signature: v=1; a=rsa-sha256; c=relaxed/relaxed; d=1e100.net; s=20230601; t=1760049812; x=1760654612; h=references:in-reply-to:cc:to:from:subject:message-id:date :x-gm-message-state:from:to:cc:subject:date:message-id:reply-to; bh=Gs9gV0LJsYRsEKePQ4UNJSkPOvUNzZ5Nf6CYIxmX5KQ=; b=PQYTcAoXmzDR9TslOJ5JgUHjnzoPX1DzrSGqg845MMmaW91yUhoamq8U6LgZHJ+FZS Yu5VsdjA4JGy3yDIVl0PoSyChDfEehXUxHl/oP2mRCsAIKKAUZZ6jc3fM0s8DTGoGkwC OMW/rr/sSiw4o4rf30O0oVM61Nzw6cuhMN22bNm5ZcxBS6Gbj6pU2FEe5F6XWLeT8dT5 sVxkMpf3Lvy0H1GclyDGy4XcR4XMk+8cwV6xH/NJx+qOxR3yKICg70+r7mZgv+9hgkyx z4MFA2YZnGQ4LQXUbeu0PEsOKEynqfL6l4td2uG56rTzOSz+BIEnWlZfJ1p74nrjkurA 3s3A== X-Gm-Message-State: AOJu0Yw5WO+gSHDQ3pd4uQCF1uenBhE8TXQGWpNPdNnoebR+/m2CFgw6 qf8fy5E9BXAyah6sE7HzU73STSC7X+ngdq5JnBuFb3gcA8WDqyS2KIBYcHa2cj2pQ9hvCmICBmv q5HO9n1fpbyegNTu1sujddpoWGrxxygyy3Otopsmjnskb7hzB+NiGWSag3b+q X-Gm-Gg: ASbGncvdPcHaydcTpN/N6QXWZ7hNuIGaill9uofHPW+ucTTsN+MpA9UR8FQ0BItepZs tAjGm8dMZRko3NNOT9QGN9gPrXyRVFHJDllVktyrx8GrF1igqhcRorQmBo1Mzq1hlWNm5DeySyj 4DhZRRSfQw9vnS0AVyc4KL+vNeiqvBQtD8x0mTq2egw6aQWRRbS1Ex8QhrhWu+QEobOFqJWd4a7 5FTbw7ZOlcpJPgoXHDc0Zyp1hiIIVmRjRbWN9RhBdOzPK6/sk7lFJC0rVhzg94seE3pmLKzKn3X gbYR+gLu4EqI1sMMqlGhdQiLP9wXGGoPs/3vn1eFR5fD7OMooQDWUB0= X-Google-Smtp-Source: AGHT+IGaB71RHbjz0DYPpw+f99v3Fi/vdAwwpmcq9NrkT2E1rCqU3cD3M76d+mB05hhZtmib/eeS9eyds52J X-Received: by 2002:a05:690e:4d0:b0:63b:9347:1a5f with SMTP id 956f58d0204a3-63ccb8f453bmr6191012d50.40.1760049812446; Thu, 09 Oct 2025 15:43:32 -0700 (PDT) Received: from postal.iol.unh.edu (postal.iol.unh.edu. [2606:4100:3880:1234::84]) by smtp-relay.gmail.com with ESMTPS id 956f58d0204a3-63cd952df8bsm186993d50.6.2025.10.09.15.43.32 (version=TLS1_2 cipher=ECDHE-ECDSA-AES128-GCM-SHA256 bits=128/128); Thu, 09 Oct 2025 15:43:32 -0700 (PDT) X-Relaying-Domain: iol.unh.edu Date: Thu, 09 Oct 2025 15:43:32 -0700 (PDT) Message-ID: <68e83a94.530a0220.c42ff.9a2bSMTPIN_ADDED_MISSING@mx.google.com> Received: from [172.21.0.2] (unknown [172.18.0.240]) by postal.iol.unh.edu (Postfix) with ESMTP id D1F226050A61; Thu, 9 Oct 2025 18:43:31 -0400 (EDT) Subject: |SUCCESS| pw157355 [PATCH] [v3] net/mlx5: fix age checking crash From: dpdklab@iol.unh.edu To: Test Report Cc: dpdk-test-reports@iol.unh.edu In-Reply-To: <20251009091810.174004-1-rongweil@nvidia.com> References: <20251009091810.174004-1-rongweil@nvidia.com> Content-Type: text/plain X-BeenThere: test-report@dpdk.org X-Mailman-Version: 2.1.29 Precedence: list List-Id: automatic DPDK test reports List-Unsubscribe: , List-Archive: List-Post: List-Help: List-Subscribe: , Errors-To: test-report-bounces@dpdk.org Test-Label: iol-compile-arm64-testing Test-Status: SUCCESS http://dpdk.org/patch/157355 _Testing PASS_ Submitter: Rongwei Liu Date: Thursday, October 09 2025 09:18:10 DPDK git baseline: Repo:dpdk-next-net-mlx Branch: master CommitID:2374f33e1d964e100895fd294966380c46f0886d 157355 --> testing pass Upstream job id: Generic-DPDK-Compile-Meson#432868 Test environment and result as below: +------------------------------+--------------------+ | Environment | dpdk_meson_compile | +==============================+====================+ | Red Hat Enterprise Linux 9.5 | PASS | +------------------------------+--------------------+ | Ubuntu 20.04 | PASS | +------------------------------+--------------------+ | Debian GNU/Linux 12 | PASS | +------------------------------+--------------------+ | Fedora Linux 42 | PASS | +------------------------------+--------------------+ | Ubuntu 22.04 | PASS | +------------------------------+--------------------+ | Ubuntu 24.04 | PASS | +------------------------------+--------------------+ | CentOS Stream 9 | PASS | +------------------------------+--------------------+ | CentOS Stream 10 | PASS | +------------------------------+--------------------+ Red Hat Enterprise Linux 9.5 Kernel: 5.4 Compiler: gcc gcc (GCC) 11.5.0 20240719 (Red Hat 11.5.0-2) Ubuntu 20.04 Kernel: 5.15 Compiler: aarch64-linux-gnu-gcc gcc (Ubuntu 9.4.0-1ubuntu1~20.04.2) 9.4.0 Debian GNU/Linux 12 Kernel: 5.4 Compiler: gcc gcc (Debian 12.2.0-14+deb12u1) 12.2.0 Fedora Linux 42 Kernel: 5.4 Compiler: gcc gcc (GCC) 15.2.1 20250808 (Red Hat 15.2.1-1) Ubuntu 22.04 Kernel: 5.4 Compiler: gcc gcc (Ubuntu 11.4.0-1ubuntu1~22.04) 11.4.0 Ubuntu 24.04 Kernel: 5.4 Compiler: gcc gcc (Ubuntu 13.3.0-6ubuntu2~24.04) 13.3.0 CentOS Stream 9 Kernel: 5.4 Compiler: gcc gcc (GCC) 11.5.0 20240719 (Red Hat 11.5.0-11) CentOS Stream 10 Kernel: 5.4 Compiler: gcc gcc (GCC) 14.2.1 20250110 (Red Hat 14.2.1-8) To view detailed results, visit: https://lab.dpdk.org/results/dashboard/patchsets/34243/ UNH-IOL DPDK Community Lab To manage your email subscriptions, visit: https://lab.dpdk.org/results/dashboard/preferences/subscriptions/