From mboxrd@z Thu Jan 1 00:00:00 1970 Return-Path: Received: from mails.dpdk.org (mails.dpdk.org [217.70.189.124]) by inbox.dpdk.org (Postfix) with ESMTP id 7E4EE488F5 for ; Fri, 10 Oct 2025 00:43:45 +0200 (CEST) Received: from mails.dpdk.org (localhost [127.0.0.1]) by mails.dpdk.org (Postfix) with ESMTP id 75C14402A0; Fri, 10 Oct 2025 00:43:45 +0200 (CEST) Received: from mail-yw1-f226.google.com (mail-yw1-f226.google.com [209.85.128.226]) by mails.dpdk.org (Postfix) with ESMTP id 6F10C402A0 for ; Fri, 10 Oct 2025 00:43:44 +0200 (CEST) Received: by mail-yw1-f226.google.com with SMTP id 00721157ae682-71d60157747so15147847b3.0 for ; Thu, 09 Oct 2025 15:43:44 -0700 (PDT) DKIM-Signature: v=1; a=rsa-sha256; c=relaxed/relaxed; d=iol.unh.edu; s=unh-iol; t=1760049824; x=1760654624; darn=dpdk.org; h=references:in-reply-to:cc:to:from:subject:message-id:date:from:to :cc:subject:date:message-id:reply-to; bh=BEvuPuRdjTDdezwokSjIP8ZRohfPcdk90h51tKgfzFo=; b=Uy4zCbkAuKr9ktX9ZIZ32QeyW8YIsJISEMWWW7qixfIMZTRe+FoJTo4ShGUzRAwu7S feFnu5SAS4mU8XTMVCFOKUarhWH9mYboYDDKbivULdT3SHpwGOeojV8VzBc/hTjEiDas gCnyfLRt4obHibsoxMPBWXP6iwXMbMsXPT7m0= X-Google-DKIM-Signature: v=1; a=rsa-sha256; c=relaxed/relaxed; d=1e100.net; s=20230601; t=1760049824; x=1760654624; h=references:in-reply-to:cc:to:from:subject:message-id:date :x-gm-message-state:from:to:cc:subject:date:message-id:reply-to; bh=BEvuPuRdjTDdezwokSjIP8ZRohfPcdk90h51tKgfzFo=; b=jfFedv81BAxaqeGjXdj6ur0SdvgV4p8SDRkidHc65vqjxi3otEy/HKjz5/r/DrHf1v JqYmKxbWgyKleDQpzm9BSVuD+QnrEfMF/fi8zRG7aqTUUheT3m84Hulf/omOBPEgyYzA UVZ6f8N3twQ1iL+JkNgQdkYRBs5sjeb6jHHj2w5oTJgvJx8Mnj8vdBo6DdzwmoV9Fo0E pVid5y1ykPjEYHV/4XmAyQWGvtCZfUko69FYlXBSce19pbQuS/hzLshwsYqNk8eoGK10 LlM3ox+eEJLeRRucfZbOUTx4TGjFtMT6p/rf4ny2jdjYsDOyBDMTwYZNAvrZXsP+DNKS 6CPw== X-Gm-Message-State: AOJu0Yx/UQqc8vOUSeJIuCLX4/ixhfrRaMxeTOOLEIQ3pzJPf5HlObuy NVeQOySd9OM+9DGZmHTF2xIxtXVlh08VHFSn4UhIUIvuQkLzozfJYgOFKZeLou0Bcd5K++hRaPL OR/H1xl9KQfj4WZkQm8lHfKRd9miXmiL5dy3QxKfJqWKviPkHgqik/L4TYQzm X-Gm-Gg: ASbGncviLXTxs7LlmREIr+R00abO1GV4pKEuQqggKcy0V6JLEYfDpEFRxO527taQg3D LH35D8NcXLhGn/YqZ6ZWlpXztnaEvadfIgYBPhDOs2GaXyjZ/LS23zBfX4aizBia44A6sTWoGEy HoHy0K/+b1+jkVo9dtICMKaU2nRrwRmvvjsPpCgfrivbGE91sICmJzljZwTw1T0B85+8kJGGxHt CNUnY+fBs+ASqFAGyEqU7O15AaagopprcahJKJJll5fSeAKzyEQqIPJYP0UeKiKJEgzcqaW2G1R SCGgvHS0tHCLhbdagmatJoysM81mlXIXHMUgEesI2xHg9jieeznhuzE= X-Google-Smtp-Source: AGHT+IF3RYsXQ1rWJZneppYvEAY+Ox+ETB0xSOrtHcWe2csRyRmjiCVTmRbPSzJ45hfldVMVYkzP7FaSsu9j X-Received: by 2002:a53:d5c6:0:b0:636:18e6:2584 with SMTP id 956f58d0204a3-63ccb935b88mr7029906d50.47.1760049823715; Thu, 09 Oct 2025 15:43:43 -0700 (PDT) Received: from postal.iol.unh.edu (postal.iol.unh.edu. [2606:4100:3880:1234::84]) by smtp-relay.gmail.com with ESMTPS id 956f58d0204a3-63ce9ff3ccbsm55477d50.4.2025.10.09.15.43.43 (version=TLS1_2 cipher=ECDHE-ECDSA-AES128-GCM-SHA256 bits=128/128); Thu, 09 Oct 2025 15:43:43 -0700 (PDT) X-Relaying-Domain: iol.unh.edu Date: Thu, 09 Oct 2025 15:43:43 -0700 (PDT) Message-ID: <68e83a9f.050a0220.2c0ecd.305bSMTPIN_ADDED_MISSING@mx.google.com> Received: from [172.21.0.2] (unknown [172.18.0.240]) by postal.iol.unh.edu (Postfix) with ESMTP id 65F7C6050A61; Thu, 9 Oct 2025 18:43:43 -0400 (EDT) Subject: |SUCCESS| pw157355 [PATCH] [v3] net/mlx5: fix age checking crash From: dpdklab@iol.unh.edu To: Test Report Cc: dpdk-test-reports@iol.unh.edu In-Reply-To: <20251009091810.174004-1-rongweil@nvidia.com> References: <20251009091810.174004-1-rongweil@nvidia.com> Content-Type: text/plain X-BeenThere: test-report@dpdk.org X-Mailman-Version: 2.1.29 Precedence: list List-Id: automatic DPDK test reports List-Unsubscribe: , List-Archive: List-Post: List-Help: List-Subscribe: , Errors-To: test-report-bounces@dpdk.org Test-Label: iol-compile-arm64-testing Test-Status: SUCCESS http://dpdk.org/patch/157355 _Testing PASS_ Submitter: Rongwei Liu Date: Thursday, October 09 2025 09:18:10 DPDK git baseline: Repo:dpdk-next-net-mlx Branch: master CommitID:2374f33e1d964e100895fd294966380c46f0886d 157355 --> testing pass Upstream job id: Generic-DPDK-Compile-Meson#432870 Test environment and result as below: +------------------------------+--------------------+ | Environment | dpdk_meson_compile | +==============================+====================+ | Red Hat Enterprise Linux 9.5 | PASS | +------------------------------+--------------------+ | Ubuntu 20.04 | PASS | +------------------------------+--------------------+ | Debian GNU/Linux 12 | PASS | +------------------------------+--------------------+ | Fedora Linux 42 | PASS | +------------------------------+--------------------+ | Ubuntu 22.04 | PASS | +------------------------------+--------------------+ | Ubuntu 24.04 | PASS | +------------------------------+--------------------+ | CentOS Stream 9 | PASS | +------------------------------+--------------------+ | CentOS Stream 10 | PASS | +------------------------------+--------------------+ Red Hat Enterprise Linux 9.5 Kernel: 5.4 Compiler: gcc gcc (GCC) 11.5.0 20240719 (Red Hat 11.5.0-2) Ubuntu 20.04 Kernel: 5.15 Compiler: aarch64-linux-gnu-gcc gcc (Ubuntu 9.4.0-1ubuntu1~20.04.2) 9.4.0 Debian GNU/Linux 12 Kernel: 5.4 Compiler: gcc gcc (Debian 12.2.0-14+deb12u1) 12.2.0 Fedora Linux 42 Kernel: 5.4 Compiler: gcc gcc (GCC) 15.2.1 20250808 (Red Hat 15.2.1-1) Ubuntu 22.04 Kernel: 5.4 Compiler: gcc gcc (Ubuntu 11.4.0-1ubuntu1~22.04) 11.4.0 Ubuntu 24.04 Kernel: 5.4 Compiler: gcc gcc (Ubuntu 13.3.0-6ubuntu2~24.04) 13.3.0 CentOS Stream 9 Kernel: 5.4 Compiler: gcc gcc (GCC) 11.5.0 20240719 (Red Hat 11.5.0-11) CentOS Stream 10 Kernel: 5.4 Compiler: gcc gcc (GCC) 14.2.1 20250110 (Red Hat 14.2.1-8) To view detailed results, visit: https://lab.dpdk.org/results/dashboard/patchsets/34243/ UNH-IOL DPDK Community Lab To manage your email subscriptions, visit: https://lab.dpdk.org/results/dashboard/preferences/subscriptions/