From mboxrd@z Thu Jan 1 00:00:00 1970 Return-Path: Received: from mails.dpdk.org (mails.dpdk.org [217.70.189.124]) by inbox.dpdk.org (Postfix) with ESMTP id A4754488F5 for ; Fri, 10 Oct 2025 00:44:25 +0200 (CEST) Received: from mails.dpdk.org (localhost [127.0.0.1]) by mails.dpdk.org (Postfix) with ESMTP id 9C763402A0; Fri, 10 Oct 2025 00:44:25 +0200 (CEST) Received: from mail-pf1-f227.google.com (mail-pf1-f227.google.com [209.85.210.227]) by mails.dpdk.org (Postfix) with ESMTP id 3B2AC402A0 for ; Fri, 10 Oct 2025 00:44:24 +0200 (CEST) Received: by mail-pf1-f227.google.com with SMTP id d2e1a72fcca58-781997d195aso1064376b3a.3 for ; Thu, 09 Oct 2025 15:44:24 -0700 (PDT) DKIM-Signature: v=1; a=rsa-sha256; c=relaxed/relaxed; d=iol.unh.edu; s=unh-iol; t=1760049863; x=1760654663; darn=dpdk.org; h=references:in-reply-to:cc:to:from:subject:message-id:date:from:to :cc:subject:date:message-id:reply-to; bh=uQ+1eWBzj4dXN9YkJl+/JVxXJGeBVLfBU8TwZxkcq78=; b=LmXCFv6l1KzvS4FArC4hmiBfsNxofIZCLs8mYBxeCcmmdFBd0b77Y6dqpvqTn/K7Ie yFDgehnLXM5Cxu8ggUygeD86jYUNjYWi/M0JT3DFEwGYITJ3HvLrCv7eO40nTJg9iOeo +R7uoIQgQ5X12F8k05cXu3NToAyOh5Q3vttyI= X-Google-DKIM-Signature: v=1; a=rsa-sha256; c=relaxed/relaxed; d=1e100.net; s=20230601; t=1760049863; x=1760654663; h=references:in-reply-to:cc:to:from:subject:message-id:date :x-gm-message-state:from:to:cc:subject:date:message-id:reply-to; bh=uQ+1eWBzj4dXN9YkJl+/JVxXJGeBVLfBU8TwZxkcq78=; b=vri1+F4kSgjDlty81GPaJXKLh2Z65noLcrm6ZFvrm/fKxQgBoi1dwN2W/NkxWvty+0 L6UNu0QJjmEfDJHrXkE9tEp/LIER1xinyUpr+kQKHDiVbxn/kMH+Ui4S0gSUy/egieRG 7dHwidrh/0g3U6ckN233cjKej7KaUv8Rabi1fS5NHxBtnnRnUaf04fv4KK32TGHYVBjI IRX3Wtb50UABfgLBKtbgLUbOxevpsQsbDV4YuYQVFbJ4fhi6X0T9kgdAHQ3K/kT1Jhrm z9PJ4Cp3N6Nttc1bbFdLzwp/2UwRqWYgwEr5rXUqLB/RqZuUsxS/rl3WFEm+x9exNxwE CFpw== X-Gm-Message-State: AOJu0Yy6TANZshwrxwUhCQx0FQKrqYBqNgSCbLk+bJd4rkrhGd+khi+4 XHmIyzfOVxMjfzV2427BZDgHPkBTTqZHeujgDUr+6fXPqB0kR8K33xv0dYVXXbgBA0U1/qXx2Zl 3WFBMzS/3ijznKlMD9D26s+ZLFrpClDrteObS8mkceJn1qw0yByFMpE36gRJS X-Gm-Gg: ASbGncufwvCi/BwBExWJZyYC4WHCbbAhjIe5pG83YxzV18x7T7HjdpuK8J1AE/38hKp JC8a0g799LtXSw+GcqM395WLLPOJroBKl51/GliBcXAUPDiBrQhHrIuFWkuBq/UVxDglofMzZK4 bfprE5yVN4a6NTSyX3FrJVHYyMv0IyXEUT6LCZagPEotLn+Nq6ZkAnrMwGexAGrqNv7nhFZKU8g 29vgEbBz23+eYiuYUF5QaZCOhTtroZMyue9jX+pSU8Haf+ZyjX4+eQZazQio5YC2FphBETy+h0y IQUTGKlNcq/NrCpVfvbiuXvF/nzSWV5nvJh4ozcrQzMq/UcEr4tNe6E= X-Google-Smtp-Source: AGHT+IFGBN2YkTqOzvfCAgWMOCxR6NqB0FYShpzDWDk3dpdNgl8cZu/Nk75ln8UhvFki4vPuVRz78PTGoibu X-Received: by 2002:a05:6a20:1588:b0:249:3006:7573 with SMTP id adf61e73a8af0-32da81345f2mr11552955637.5.1760049863232; Thu, 09 Oct 2025 15:44:23 -0700 (PDT) Received: from postal.iol.unh.edu (postal.iol.unh.edu. [2606:4100:3880:1234::84]) by smtp-relay.gmail.com with ESMTPS id 41be03b00d2f7-b678df0fd68sm51148a12.11.2025.10.09.15.44.23 (version=TLS1_2 cipher=ECDHE-ECDSA-AES128-GCM-SHA256 bits=128/128); Thu, 09 Oct 2025 15:44:23 -0700 (PDT) X-Relaying-Domain: iol.unh.edu Date: Thu, 09 Oct 2025 15:44:23 -0700 (PDT) Message-ID: <68e83ac7.050a0220.340a4.2ca5SMTPIN_ADDED_MISSING@mx.google.com> Received: from [172.21.0.2] (unknown [172.18.0.240]) by postal.iol.unh.edu (Postfix) with ESMTP id 83D4B6050A61; Thu, 9 Oct 2025 18:44:22 -0400 (EDT) Subject: |SUCCESS| pw157357-157356 [PATCH] [v3,2/2] net/iavf: add restore com From: dpdklab@iol.unh.edu To: Test Report Cc: dpdk-test-reports@iol.unh.edu, Bruce Richardson In-Reply-To: <20251009102835.926479-2-ciara.loftus@intel.com> References: <20251009102835.926479-2-ciara.loftus@intel.com> Content-Type: text/plain X-BeenThere: test-report@dpdk.org X-Mailman-Version: 2.1.29 Precedence: list List-Id: automatic DPDK test reports List-Unsubscribe: , List-Archive: List-Post: List-Help: List-Subscribe: , Errors-To: test-report-bounces@dpdk.org Test-Label: iol-compile-arm64-testing Test-Status: SUCCESS http://dpdk.org/patch/157356 _Testing PASS_ Submitter: Loftus, Ciara Date: Thursday, October 09 2025 10:28:35 DPDK git baseline: Repo:dpdk-next-net-intel Branch: master CommitID:21c1fe280a2480dcd7edbb3e51cc2f9a37c1c6e0 157357-157356 --> testing pass Upstream job id: Generic-DPDK-Compile-Meson#432891 Test environment and result as below: +------------------------------+--------------------+ | Environment | dpdk_meson_compile | +==============================+====================+ | Red Hat Enterprise Linux 9.5 | PASS | +------------------------------+--------------------+ | Ubuntu 20.04 | PASS | +------------------------------+--------------------+ | Debian GNU/Linux 12 | PASS | +------------------------------+--------------------+ | Fedora Linux 42 | PASS | +------------------------------+--------------------+ | Ubuntu 22.04 | PASS | +------------------------------+--------------------+ | Ubuntu 24.04 | PASS | +------------------------------+--------------------+ | CentOS Stream 9 | PASS | +------------------------------+--------------------+ | CentOS Stream 10 | PASS | +------------------------------+--------------------+ Red Hat Enterprise Linux 9.5 Kernel: 5.4 Compiler: gcc gcc (GCC) 11.5.0 20240719 (Red Hat 11.5.0-2) Ubuntu 20.04 Kernel: 5.15 Compiler: aarch64-linux-gnu-gcc gcc (Ubuntu 9.4.0-1ubuntu1~20.04.2) 9.4.0 Debian GNU/Linux 12 Kernel: 5.4 Compiler: gcc gcc (Debian 12.2.0-14+deb12u1) 12.2.0 Fedora Linux 42 Kernel: 5.4 Compiler: gcc gcc (GCC) 15.2.1 20250808 (Red Hat 15.2.1-1) Ubuntu 22.04 Kernel: 5.4 Compiler: gcc gcc (Ubuntu 11.4.0-1ubuntu1~22.04) 11.4.0 Ubuntu 24.04 Kernel: 5.4 Compiler: gcc gcc (Ubuntu 13.3.0-6ubuntu2~24.04) 13.3.0 CentOS Stream 9 Kernel: 5.4 Compiler: gcc gcc (GCC) 11.5.0 20240719 (Red Hat 11.5.0-11) CentOS Stream 10 Kernel: 5.4 Compiler: gcc gcc (GCC) 14.2.1 20250110 (Red Hat 14.2.1-8) To view detailed results, visit: https://lab.dpdk.org/results/dashboard/patchsets/34244/ UNH-IOL DPDK Community Lab To manage your email subscriptions, visit: https://lab.dpdk.org/results/dashboard/preferences/subscriptions/