From mboxrd@z Thu Jan 1 00:00:00 1970 Return-Path: Received: from mails.dpdk.org (mails.dpdk.org [217.70.189.124]) by inbox.dpdk.org (Postfix) with ESMTP id 76792488F5 for ; Fri, 10 Oct 2025 01:15:31 +0200 (CEST) Received: from mails.dpdk.org (localhost [127.0.0.1]) by mails.dpdk.org (Postfix) with ESMTP id 514A2402A0; Fri, 10 Oct 2025 01:15:31 +0200 (CEST) Received: from mail-il1-f226.google.com (mail-il1-f226.google.com [209.85.166.226]) by mails.dpdk.org (Postfix) with ESMTP id 9C248402A0 for ; Fri, 10 Oct 2025 01:15:30 +0200 (CEST) Received: by mail-il1-f226.google.com with SMTP id e9e14a558f8ab-4248b34fc8eso16816015ab.3 for ; Thu, 09 Oct 2025 16:15:30 -0700 (PDT) DKIM-Signature: v=1; a=rsa-sha256; c=relaxed/relaxed; d=iol.unh.edu; s=unh-iol; t=1760051730; x=1760656530; darn=dpdk.org; h=cc:to:from:subject:message-id:date:from:to:cc:subject:date :message-id:reply-to; bh=yYprCKnyjWYW31sbV9a00wVl7+LEsurVCTvE5yL5qNQ=; b=XwGCCHaORlBriHTohHje5zb4rDcGxwhfJMEJCB9q5CGIJROgciQykDCL/I151E2kby kMSnYy2txg0DMfAJ7rnYysPZXTvNxsNqlJrZRAspE0DJPGA2Ewu560jzd8sWARwuOVtf 6GjmmjB5Epc98IojyABrb9m9mbBWzksq2LF3A= X-Google-DKIM-Signature: v=1; a=rsa-sha256; c=relaxed/relaxed; d=1e100.net; s=20230601; t=1760051730; x=1760656530; h=cc:to:from:subject:message-id:date:x-gm-message-state:from:to:cc :subject:date:message-id:reply-to; bh=yYprCKnyjWYW31sbV9a00wVl7+LEsurVCTvE5yL5qNQ=; b=NMVzhOZSUc4zhs6yxxsYLgP4wlxhSQtob839hQ5ChMMPcK1s9ahXyCh8jVXAbvsWfv j/U7vlFaAcoOte/Ek/7EEtSkhtr12nCIw04wPu4fXWJyWliZLqkWRVazYgip6bu8iOxg mX2ypTFSwl4zdSo9t3u6cIUSrAXYfTLA9ZowAduUKXahj7g9jIb602PJRcPcFc91Vh96 IBUOQ1uiIeZxH7jy+mIG8zmjcUntEVHqsNtWDRh+w0MlJiAP0zSTGoMDPjxS7/Yjn+K4 2C32I1YDGiH+GiW6hwpUZUsltJV77OlQAIl+v67pMOdHHawoEvOU7TztyDsmVRAvAhA1 lMxw== X-Gm-Message-State: AOJu0YyjlV3cC5TvtzwBDTsJQIZxAB356vsh7vxvqdoSSmOWknL8HfiY /KAJyi1BJqIkrYEC+SjRV572CoEPAKPMjONqWGW0GgdMqggmFmYrHk0Rn29cYGgrB3qTO7bqACs fB+JP9R+izIN1lZI+aZW91Ja/CMQQznDn4wLN X-Gm-Gg: ASbGncuEetxEPtbHQxTRwgfU0eoDEt9sgC9UiZMgycuOx51VsE+63tESfLdSF54Xi1n InN4IWYOukm/sy4Df055ThoWf/I0PnwoY3WhohbhfUvm7kp4oJ9HQDDdyj3AL/CTQv24MM9lZ62 5/eZl5p1faof+Z15KXGy/H2+D57ODmpfDn4AUUJMz5mT1B7bqffQSCne8ZudsQZTZgrRBYG627A HZwp5rb7RDjdrZZHgH5bUZHEqJTStLIBK1/2SWRpb+IvCZJE6oftnv97mBPvpCwo+5eDgApe2RB SIgqavnlRgvAprNKL2n8dH9vEc3Es1r3TXjBX1f2AVBHW0Nmbu9y51y8exw8v5XeiRbPGdLT14l pWQ== X-Google-Smtp-Source: AGHT+IF3Vrv8LCJ/lXCO+oWemwphtFMUFatt79BBjsUgL0SO2tOTOZrS3QPMBuyHH0KBXbJpw7R6CklgmdRS X-Received: by 2002:a05:6e02:18c7:b0:42f:81ab:1813 with SMTP id e9e14a558f8ab-42f8734fb58mr102934035ab.4.1760051729782; Thu, 09 Oct 2025 16:15:29 -0700 (PDT) Received: from postal.iol.unh.edu (postal.iol.unh.edu. [132.177.123.84]) by smtp-relay.gmail.com with ESMTPS id 8926c6da1cb9f-58f726e727dsm60598173.47.2025.10.09.16.15.29 (version=TLS1_2 cipher=ECDHE-ECDSA-AES128-GCM-SHA256 bits=128/128); Thu, 09 Oct 2025 16:15:29 -0700 (PDT) X-Relaying-Domain: iol.unh.edu Date: Thu, 09 Oct 2025 16:15:29 -0700 (PDT) Message-ID: <68e84211.050a0220.2b9e71.3566SMTPIN_ADDED_MISSING@mx.google.com> Received: from [172.21.0.2] (unknown [172.18.0.240]) by postal.iol.unh.edu (Postfix) with ESMTP id 3A37560003E8; Thu, 9 Oct 2025 19:15:29 -0400 (EDT) Subject: |SUCCESS| [GIT MASTER] b287e404643aeab5bb5db084c142789df187844e From: dpdklab@iol.unh.edu To: Test Report Cc: dpdk-test-reports@iol.unh.edu, Xueming Li , Christian Ehrhardt , Kevin Traynor , Luca Boccassi Content-Type: text/plain X-BeenThere: test-report@dpdk.org X-Mailman-Version: 2.1.29 Precedence: list List-Id: automatic DPDK test reports List-Unsubscribe: , List-Archive: List-Post: List-Help: List-Subscribe: , Errors-To: test-report-bounces@dpdk.org _Testing PASS_ Branch: tags/v24.11 b287e404643aeab5bb5db084c142789df187844e --> testing pass Upstream job id: Generic-Unit-Test-DPDK#379781 Test environment and result as below: +------------------------------+----------------+---------------------------+--------------+------------------------------+ | Environment | dpdk_unit_test | cryptodev_sw_zuc_autotest | lpm_autotest | cryptodev_sw_snow3g_autotest | +==============================+================+===========================+==============+==============================+ | Ubuntu 22.04 | PASS | SKIPPED | SKIPPED | SKIPPED | +------------------------------+----------------+---------------------------+--------------+------------------------------+ | CentOS Stream 9 | PASS | SKIPPED | SKIPPED | SKIPPED | +------------------------------+----------------+---------------------------+--------------+------------------------------+ | Fedora Linux 41 | PASS | SKIPPED | SKIPPED | SKIPPED | +------------------------------+----------------+---------------------------+--------------+------------------------------+ | CentOS Stream 10 | PASS | SKIPPED | SKIPPED | SKIPPED | +------------------------------+----------------+---------------------------+--------------+------------------------------+ | Fedora Linux 40 | PASS | SKIPPED | SKIPPED | SKIPPED | +------------------------------+----------------+---------------------------+--------------+------------------------------+ | Fedora Linux 42 | PASS | SKIPPED | SKIPPED | SKIPPED | +------------------------------+----------------+---------------------------+--------------+------------------------------+ | Debian GNU/Linux 12 | PASS | SKIPPED | SKIPPED | SKIPPED | +------------------------------+----------------+---------------------------+--------------+------------------------------+ | Red Hat Enterprise Linux 9.5 | PASS | SKIPPED | SKIPPED | SKIPPED | +------------------------------+----------------+---------------------------+--------------+------------------------------+ | Ubuntu 24.04 | PASS | SKIPPED | SKIPPED | SKIPPED | +------------------------------+----------------+---------------------------+--------------+------------------------------+ | Ubuntu 20.04 | PASS | SKIPPED | PASS | SKIPPED | +------------------------------+----------------+---------------------------+--------------+------------------------------+ | Debian 12 (arm) | SKIPPED | PASS | SKIPPED | PASS | +------------------------------+----------------+---------------------------+--------------+------------------------------+ Ubuntu 22.04 Kernel: 5.15 Compiler: gcc gcc (Ubuntu 11.4.0-1ubuntu1~22.04.2) 11.4.0 CentOS Stream 9 Kernel: 5.4 Compiler: gcc gcc (GCC) 11.5.0 20240719 (Red Hat 11.5.0-11) Fedora Linux 41 Kernel: 5.4 Compiler: gcc gcc (GCC) 14.3.1 20250523 (Red Hat 14.3.1-1) CentOS Stream 10 Kernel: 5.4 Compiler: gcc gcc (GCC) 14.2.1 20250110 (Red Hat 14.2.1-8) Fedora Linux 40 Kernel: 5.4 Compiler: clang gcc (GCC) 14.2.1 20240912 (Red Hat 14.2.1-3) Fedora Linux 42 Kernel: 5.4 Compiler: gcc gcc (GCC) 15.2.1 20250808 (Red Hat 15.2.1-1) Debian GNU/Linux 12 Kernel: 5.4 Compiler: gcc gcc (Debian 12.2.0-14+deb12u1) 12.2.0 Red Hat Enterprise Linux 9.5 Kernel: 5.4 Compiler: gcc gcc (GCC) 11.5.0 20240719 (Red Hat 11.5.0-2) Ubuntu 24.04 Kernel: 5.4 Compiler: gcc gcc (Ubuntu 13.3.0-6ubuntu2~24.04) 13.3.0 Ubuntu 20.04 Kernel: 5.4 Compiler: gcc gcc (Ubuntu 9.4.0-1ubuntu1~20.04.2) 9.4.0 Debian 12 (arm) Kernel: Depends on container host Compiler: gcc (Debian 12.2.0-14) 12.2.0 To view detailed results, visit: https://lab.dpdk.org/results/dashboard/tarballs/35151/ UNH-IOL DPDK Community Lab To manage your email subscriptions, visit: https://lab.dpdk.org/results/dashboard/preferences/subscriptions/