From mboxrd@z Thu Jan 1 00:00:00 1970 Return-Path: Received: from mails.dpdk.org (mails.dpdk.org [217.70.189.124]) by inbox.dpdk.org (Postfix) with ESMTP id 2FF2E488F5 for ; Fri, 10 Oct 2025 01:23:31 +0200 (CEST) Received: from mails.dpdk.org (localhost [127.0.0.1]) by mails.dpdk.org (Postfix) with ESMTP id 0F7074021E; Fri, 10 Oct 2025 01:23:31 +0200 (CEST) Received: from mail-pg1-f227.google.com (mail-pg1-f227.google.com [209.85.215.227]) by mails.dpdk.org (Postfix) with ESMTP id ED7A14021E for ; Fri, 10 Oct 2025 01:23:29 +0200 (CEST) Received: by mail-pg1-f227.google.com with SMTP id 41be03b00d2f7-b553412a19bso941976a12.1 for ; Thu, 09 Oct 2025 16:23:29 -0700 (PDT) DKIM-Signature: v=1; a=rsa-sha256; c=relaxed/relaxed; d=iol.unh.edu; s=unh-iol; t=1760052209; x=1760657009; darn=dpdk.org; h=references:in-reply-to:cc:to:from:subject:message-id:date:from:to :cc:subject:date:message-id:reply-to; bh=0zIMqtnySiKujTvKaEvYih8wTr5O0LIcEfUlKdylgbU=; b=Ct25Q9MvlKbxxY+M9P3ZUawH9fmGN66cxCeluqieiJ+lLDbZMfBUU+hSYp2ZiF9zWc 1/7rjVLmfClRMeZ/p0tgTlIGKIFZwa7qpzTpUQj/+1sBhcn0kAD9Ij4qA38ot0Aidi/j Z4cEgRd34GteCWJIGkbaP7L38s/lj6Za9ndyg= X-Google-DKIM-Signature: v=1; a=rsa-sha256; c=relaxed/relaxed; d=1e100.net; s=20230601; t=1760052209; x=1760657009; h=references:in-reply-to:cc:to:from:subject:message-id:date :x-gm-message-state:from:to:cc:subject:date:message-id:reply-to; bh=0zIMqtnySiKujTvKaEvYih8wTr5O0LIcEfUlKdylgbU=; b=PODN2kxyqa4OqA69UefPu1wEkLMD2ii0Fe/iTZ4zJJ1Gyp2/qnhb4WDr+GCZyFLvQX SECet5tPalha1VlOtVG9xo1acBApnQ2/RDnX+WTBCCYn2E8EgBEEOVgQPxCze1TbIiFC 1ZOuJ9vCnt8YGeGDHCQ0S0uTILctHm7akRrd/aoPxzFlTqfYrRLA4A1NdyI/onNcT37t 4gg/Lxd1z9zzNSO8SuK4uCBYI9XyHVUPLSCrzDNCviP15t3MzIP81cLLmaykzrzJk3Lq g7sSVYJpFbkr7A3fhtsu5Gwd78HGbpFP2vWDtzya8wm3CzWdlAEMOMsvByOgRd2S7HD5 I+4w== X-Gm-Message-State: AOJu0YxJKdutISTE8+COZEfhHks8ES8LXcbdP+IhVK8jjpnG06tS6dGY aBzGdCJ1vU9RTsiuGh8zlkHjXHqJFci95mFkFK6joM/YV6owGR9sZ7urap/6D831jh8Rg2V2Dmv nDJ8l67D1tso7OzOLF3ypMjtRBfKgXEahLajjE6uhdqV4pPHLwyJVTb5PuhKO X-Gm-Gg: ASbGnctRR96vep7oGnUychW+6tmY43Wp42izPkxjSFPx+n2Kgsv0euCmhZ1+TUAGZ/I gWmsFw6nIm99rkzMb79eR428Tt8/Rrdwei0jpaZt1kBF2eBLMP6Pk6PuC+u+G0HLMknmDYiBInv 8bdOuv90YCLQC5gzDupTjuuacJuNRVL4jaW48zffw7jsTxJMgrmZf76B4avL0tDsyic1pzOdyS3 h/h9X7rEcfMMBbhkGEU0onJ1KHq0beOvPtUFCsYMuc2nC9s+LvPVlISo/7huh9Y4+oXc7BhGMYH 70QI/TUcNcf6sOyUof0R/4fdKpUmvIqh2VnuvdRJprgmAIfo6vZhbxw= X-Google-Smtp-Source: AGHT+IFtz0HTq0NCV0b4KPxktGbOR93GxcW15OtrB01PP3yRFXKTiwbBuD9aHarLxnGAz2YRzHcl36VX/g36 X-Received: by 2002:a17:902:f650:b0:276:305b:14a7 with SMTP id d9443c01a7336-290273ef0ebmr120641935ad.33.1760052208919; Thu, 09 Oct 2025 16:23:28 -0700 (PDT) Received: from postal.iol.unh.edu (postal.iol.unh.edu. [2606:4100:3880:1234::84]) by smtp-relay.gmail.com with ESMTPS id d9443c01a7336-29034e2bec7sm3385015ad.29.2025.10.09.16.23.28 (version=TLS1_2 cipher=ECDHE-ECDSA-AES128-GCM-SHA256 bits=128/128); Thu, 09 Oct 2025 16:23:28 -0700 (PDT) X-Relaying-Domain: iol.unh.edu Date: Thu, 09 Oct 2025 16:23:28 -0700 (PDT) Message-ID: <68e843f0.170a0220.22653a.1c80SMTPIN_ADDED_MISSING@mx.google.com> Received: from [172.21.0.3] (unknown [172.18.0.240]) by postal.iol.unh.edu (Postfix) with ESMTP id 5FEB36051830; Thu, 9 Oct 2025 19:23:28 -0400 (EDT) Subject: |SUCCESS| pw157358-157369 [PATCH] [v1,12/12] net/enetc: Add MAC and From: dpdklab@iol.unh.edu To: Test Report Cc: dpdk-test-reports@iol.unh.edu, Stephen Hemminger In-Reply-To: <20251009111633.3585957-13-vanshika.shukla@nxp.com> References: <20251009111633.3585957-13-vanshika.shukla@nxp.com> Content-Type: text/plain X-BeenThere: test-report@dpdk.org X-Mailman-Version: 2.1.29 Precedence: list List-Id: automatic DPDK test reports List-Unsubscribe: , List-Archive: List-Post: List-Help: List-Subscribe: , Errors-To: test-report-bounces@dpdk.org Test-Label: iol-compile-arm64-testing Test-Status: SUCCESS http://dpdk.org/patch/157369 _Testing PASS_ Submitter: Vanshika Shukla Date: Thursday, October 09 2025 11:16:33 DPDK git baseline: Repo:dpdk-next-net Branch: master CommitID:c04bbd131b2c14b3049bf86d3ef367b34e6fdf1e 157358-157369 --> testing pass Upstream job id: Generic-DPDK-Compile-Meson#432918 Test environment and result as below: +------------------------------+--------------------+ | Environment | dpdk_meson_compile | +==============================+====================+ | Red Hat Enterprise Linux 9.5 | PASS | +------------------------------+--------------------+ | Ubuntu 20.04 | PASS | +------------------------------+--------------------+ | Debian GNU/Linux 12 | PASS | +------------------------------+--------------------+ | Fedora Linux 42 | PASS | +------------------------------+--------------------+ | Ubuntu 22.04 | PASS | +------------------------------+--------------------+ | Ubuntu 24.04 | PASS | +------------------------------+--------------------+ | CentOS Stream 9 | PASS | +------------------------------+--------------------+ | CentOS Stream 10 | PASS | +------------------------------+--------------------+ Red Hat Enterprise Linux 9.5 Kernel: 5.4 Compiler: gcc gcc (GCC) 11.5.0 20240719 (Red Hat 11.5.0-2) Ubuntu 20.04 Kernel: 5.15 Compiler: aarch64-linux-gnu-gcc gcc (Ubuntu 9.4.0-1ubuntu1~20.04.2) 9.4.0 Debian GNU/Linux 12 Kernel: 5.4 Compiler: gcc gcc (Debian 12.2.0-14+deb12u1) 12.2.0 Fedora Linux 42 Kernel: 5.4 Compiler: gcc gcc (GCC) 15.2.1 20250808 (Red Hat 15.2.1-1) Ubuntu 22.04 Kernel: 5.4 Compiler: gcc gcc (Ubuntu 11.4.0-1ubuntu1~22.04) 11.4.0 Ubuntu 24.04 Kernel: 5.4 Compiler: gcc gcc (Ubuntu 13.3.0-6ubuntu2~24.04) 13.3.0 CentOS Stream 9 Kernel: 5.4 Compiler: gcc gcc (GCC) 11.5.0 20240719 (Red Hat 11.5.0-11) CentOS Stream 10 Kernel: 5.4 Compiler: gcc gcc (GCC) 14.2.1 20250110 (Red Hat 14.2.1-8) To view detailed results, visit: https://lab.dpdk.org/results/dashboard/patchsets/34245/ UNH-IOL DPDK Community Lab To manage your email subscriptions, visit: https://lab.dpdk.org/results/dashboard/preferences/subscriptions/