From mboxrd@z Thu Jan 1 00:00:00 1970 Return-Path: Received: from mails.dpdk.org (mails.dpdk.org [217.70.189.124]) by inbox.dpdk.org (Postfix) with ESMTP id 7BD6D488F6 for ; Fri, 10 Oct 2025 02:02:31 +0200 (CEST) Received: from mails.dpdk.org (localhost [127.0.0.1]) by mails.dpdk.org (Postfix) with ESMTP id 42B684014F; Fri, 10 Oct 2025 02:02:31 +0200 (CEST) Received: from mail-oo1-f97.google.com (mail-oo1-f97.google.com [209.85.161.97]) by mails.dpdk.org (Postfix) with ESMTP id 2025C4014F for ; Fri, 10 Oct 2025 02:02:30 +0200 (CEST) Received: by mail-oo1-f97.google.com with SMTP id 006d021491bc7-64a6cff75e9so441548eaf.0 for ; Thu, 09 Oct 2025 17:02:30 -0700 (PDT) DKIM-Signature: v=1; a=rsa-sha256; c=relaxed/relaxed; d=iol.unh.edu; s=unh-iol; t=1760054549; x=1760659349; darn=dpdk.org; h=cc:to:from:subject:message-id:date:from:to:cc:subject:date :message-id:reply-to; bh=ixdyIEueGCK0xKm2vJcRsvsS/a1LLC/fVofYwzufRKk=; b=W8Z9nGImDnvrQDeR77XoZKXey6rWi53FmLc1q/luSSeEmYhYRcys8Gu8o+GJnVBtHQ S1Di+UYTd8qaJpzu0bTrIw9HVGp721Lass79+d/yvtqehU4N/v7uvJ1kkr1yW1fUqeNM lP2H4qvkzq1QFyb0Bt5eOnGsclgiY9smoAwX0= X-Google-DKIM-Signature: v=1; a=rsa-sha256; c=relaxed/relaxed; d=1e100.net; s=20230601; t=1760054549; x=1760659349; h=cc:to:from:subject:message-id:date:x-gm-message-state:from:to:cc :subject:date:message-id:reply-to; bh=ixdyIEueGCK0xKm2vJcRsvsS/a1LLC/fVofYwzufRKk=; b=a+wuFKY7MEPas2RzTI8pJ90fMkXbe5CmUY54Cmdy2grs4QEpzeGKqrnZXOM/1ww5/C /ENsFaeVocko2g+Sk5MYp04z0sg0T07Q+aA63szhz9FXUu2pmxszLsa3bBhNMYW1eWum K1UFZb5F6YmFYChutUxd9o7DZKf71JOkJxnlNKdUmgpfmzTuxSWsaY2hVZI6lggY89fU hPPxUWlBGUZ3I/WrzMLfZC1CljrFS4mV3yY8SH5npSVkxHYJblwGPK/cjqwU1jcMQE5f 1tlO8Qcww1Uz5yYXhAPJiaopyP5vzdKs6LjPWOHnLW0W8VZr47iB40WWDlHkT7PaRlg2 OZog== X-Gm-Message-State: AOJu0YwibuUQE/zXZAhV9I6g0cHSjUPlKzAuNIYnXeG8hA/d9o2MQD5+ ViOm4XQsSJCC6Lz7077njua4VnCJtwrRWfkwl1Ckb0Fg1G1OiR8Ni5PWXUgsNbEePRGy5RLS3Mt sL4ZywWAp/YhvhtM+sqXwX4rmXQzIT73u0IBm X-Gm-Gg: ASbGncu6fHkazdcyADQjXrLCkasWRksavWBpx7+uWmOjL2SKOglLIdvSoFeloX8Oh1q 5/D5fuXOE8gu/PAiwGcq7bRGKdVRXsRJ9PL6DdvrbaKcFQgjBek0cR4YvfXxDYMSSpBA3+pfmUC hh2VnpCkljBkVM21cap3oxmyFTOA9k8c0X1/5h1dDKF/mmee9p4Lw/xnlRjpBak0jNPhzBeOdaT x527ptjriRszX9vxXkpBLacdVlWG6U4Fxn92NvlhjUBRVQxHoquqi2pBXl1LjT9/xtZ+SCO5fxT zxgEggUyt7EOjgjccUIdf8ziyJ4EHjs7DuQVi/vV7asFoGCbBfkbPSLubKbOrMvwwM7wJVj3nu0 ycQ== X-Google-Smtp-Source: AGHT+IE1CUJlgnyXbJvpCi3tCZAA13B34+WAdufAyEIDVtfD7v0YKdVwWq9aDlR7YyJ1FmerVOu9W3uIsz96 X-Received: by 2002:a05:6870:46a9:b0:30b:b045:18df with SMTP id 586e51a60fabf-3c0f8bc5f96mr4806391fac.35.1760054549014; Thu, 09 Oct 2025 17:02:29 -0700 (PDT) Received: from postal.iol.unh.edu (postal.iol.unh.edu. [132.177.123.84]) by smtp-relay.gmail.com with ESMTPS id 586e51a60fabf-3c8c8af25b7sm85740fac.2.2025.10.09.17.02.28 (version=TLS1_2 cipher=ECDHE-ECDSA-AES128-GCM-SHA256 bits=128/128); Thu, 09 Oct 2025 17:02:29 -0700 (PDT) X-Relaying-Domain: iol.unh.edu Date: Thu, 09 Oct 2025 17:02:29 -0700 (PDT) Message-ID: <68e84d15.050a0220.35948.4a3fSMTPIN_ADDED_MISSING@mx.google.com> Received: from [172.21.0.2] (unknown [172.18.0.240]) by postal.iol.unh.edu (Postfix) with ESMTP id 7BCB760003E8; Thu, 9 Oct 2025 20:02:28 -0400 (EDT) Subject: |SUCCESS| [GIT MASTER] 3b43ce3f4a54468e7ef65760c2fd7b4d6ee6d9fc From: dpdklab@iol.unh.edu To: Test Report Cc: dpdk-test-reports@iol.unh.edu, Xueming Li , Christian Ehrhardt , Kevin Traynor , Luca Boccassi Content-Type: text/plain X-BeenThere: test-report@dpdk.org X-Mailman-Version: 2.1.29 Precedence: list List-Id: automatic DPDK test reports List-Unsubscribe: , List-Archive: List-Post: List-Help: List-Subscribe: , Errors-To: test-report-bounces@dpdk.org _Testing PASS_ Branch: tags/v22.11 3b43ce3f4a54468e7ef65760c2fd7b4d6ee6d9fc --> testing pass Upstream job id: Generic-Unit-Test-DPDK#379797 Test environment and result as below: +-----------------+---------------------------+--------------+----------------+------------------------------+ | Environment | cryptodev_sw_zuc_autotest | lpm_autotest | dpdk_unit_test | cryptodev_sw_snow3g_autotest | +=================+===========================+==============+================+==============================+ | Debian 12 (arm) | PASS | SKIPPED | SKIPPED | PASS | +-----------------+---------------------------+--------------+----------------+------------------------------+ | Ubuntu 20.04 | SKIPPED | PASS | SKIPPED | SKIPPED | +-----------------+---------------------------+--------------+----------------+------------------------------+ | Ubuntu 22.04 | SKIPPED | SKIPPED | PASS | SKIPPED | +-----------------+---------------------------+--------------+----------------+------------------------------+ Debian 12 (arm) Kernel: Depends on container host Compiler: gcc (Debian 12.2.0-14) 12.2.0 Ubuntu 20.04 Kernel: 5.4 Compiler: gcc gcc (Ubuntu 9.4.0-1ubuntu1~20.04.2) 9.4.0 Ubuntu 22.04 Kernel: 5.15 Compiler: gcc gcc (Ubuntu 11.4.0-1ubuntu1~22.04.2) 11.4.0 To view detailed results, visit: https://lab.dpdk.org/results/dashboard/tarballs/35152/ UNH-IOL DPDK Community Lab To manage your email subscriptions, visit: https://lab.dpdk.org/results/dashboard/preferences/subscriptions/