From mboxrd@z Thu Jan 1 00:00:00 1970 Return-Path: Received: from mails.dpdk.org (mails.dpdk.org [217.70.189.124]) by inbox.dpdk.org (Postfix) with ESMTP id 5750A488F6 for ; Fri, 10 Oct 2025 02:58:12 +0200 (CEST) Received: from mails.dpdk.org (localhost [127.0.0.1]) by mails.dpdk.org (Postfix) with ESMTP id 4E5354014F; Fri, 10 Oct 2025 02:58:12 +0200 (CEST) Received: from mail-pl1-f227.google.com (mail-pl1-f227.google.com [209.85.214.227]) by mails.dpdk.org (Postfix) with ESMTP id 8E0114014F for ; Fri, 10 Oct 2025 02:58:10 +0200 (CEST) Received: by mail-pl1-f227.google.com with SMTP id d9443c01a7336-28e8c5d64d8so14594815ad.1 for ; Thu, 09 Oct 2025 17:58:10 -0700 (PDT) DKIM-Signature: v=1; a=rsa-sha256; c=relaxed/relaxed; d=iol.unh.edu; s=unh-iol; t=1760057889; x=1760662689; darn=dpdk.org; h=cc:to:from:subject:message-id:date:from:to:cc:subject:date :message-id:reply-to; bh=8Q9oYVvwC6KdYtPj1lJQ0XlacAueAZnrKL5d76NXaH8=; b=anf5MvluFXPn9MfKn6EwLoWVo5Z9rl9ZVcy1FFKH+gjpSm5juZi0MfxfCEgziI2nyI YBeua3zfie+sNxsdp7kz5PklMOZIqqGPlhUwm8y+vGUigybc3elfg4MAEFX9Y9QDBNDb IhloyyNIDyT+r3k31E6Q8byHKNSueNZM9ZyxY= X-Google-DKIM-Signature: v=1; a=rsa-sha256; c=relaxed/relaxed; d=1e100.net; s=20230601; t=1760057889; x=1760662689; h=cc:to:from:subject:message-id:date:x-gm-message-state:from:to:cc :subject:date:message-id:reply-to; bh=8Q9oYVvwC6KdYtPj1lJQ0XlacAueAZnrKL5d76NXaH8=; b=tQOMReDtqMI1ukq9ZGxQ0lw2p+nIOMkU3FpsNPS7tYdZPj2/dUfEYQfLO83KEIyKct aG+3m2mMz0j1944kbcWSe0/kWLGFYefQx7dwtRl0GoxGQG9AYQAYhukkGBAEed6oArSG 0A1T17OQkpUxSTC020J2cJBJglGZaIs+C9Gaa8ZcL1R7OuLa5WmE9M0EeJ+w3IhOmcF9 V1fjoYIQ5VaVkAaGsUKNdP2wHBgGNs1PufFYVVVXFCkuMpLmA7ZUdCjkh64N2XEWeWnJ ISY2ebyCXNxXbjQWhcrBOY44ebtgI2uOViFrV8hKIdtpECyKE4EKy9pFkP8o00q/DkQh +0ig== X-Gm-Message-State: AOJu0YzzTWPqplg3GRsfhzTQ/lVws25fzVQ6MOBm7cZLyj9fj3y2aZ0R OUzrFlBiAv+izayblr2L0qgN3EacsxsdH/eIfnvbiAMoZ+3TvZwM8t3srVPLgfOqWlGItB36EKg VcFtKwlWMHysEaRYFbX0E1q61x+Y4mEa8i1q6RRkDOlO1 X-Gm-Gg: ASbGnctaIw38panf5ZUR6o6PLiOjnUHEddiFdA351M+SAyN/2fzVFtIs0MtBjvAtxEc 7kNvNFDsWAQ6n/dL56wJIh1x1WYwqTT367bcTEk+6DfTAQLleudqwjsF6OSG4OZ9JQIZ88vQVXk cOl/wRxk/FLbluTe1xQ037stKMn+/uE59RBz9WREYp7ORly/z/mRujV3xz/5d9rvnWPihy4350x ifAxA4cgkNo+C1s8TyaCroZWgaita3uMj+4CVpCxMTOHytKPWpWFge9/Dv8OvCXC3BYzdyf1TNp uDbZDZR2059rIfj3xNsU1mavF+HVK6YTzAASUdagsTp7i0fYVNGllIFq0SCpzumdP/o4wnhgWbz RhQ== X-Google-Smtp-Source: AGHT+IEDSyC9IYImW7ep6basY+8UMAeMR5UCWjRy6t3mc1VWTl13XhqGy70r1gq0pp3QnGWqaq0a/lfCxzqO X-Received: by 2002:a17:903:3b87:b0:279:fa:30fe with SMTP id d9443c01a7336-2902739aeb6mr114763835ad.26.1760057889604; Thu, 09 Oct 2025 17:58:09 -0700 (PDT) Received: from postal.iol.unh.edu (postal.iol.unh.edu. [132.177.123.84]) by smtp-relay.gmail.com with ESMTPS id d9443c01a7336-29034df0e72sm3299365ad.9.2025.10.09.17.58.09 (version=TLS1_2 cipher=ECDHE-ECDSA-AES128-GCM-SHA256 bits=128/128); Thu, 09 Oct 2025 17:58:09 -0700 (PDT) X-Relaying-Domain: iol.unh.edu Date: Thu, 09 Oct 2025 17:58:09 -0700 (PDT) Message-ID: <68e85a21.170a0220.347a7.1348SMTPIN_ADDED_MISSING@mx.google.com> Received: from [172.21.0.2] (unknown [172.18.0.240]) by postal.iol.unh.edu (Postfix) with ESMTP id D61316050A61; Thu, 9 Oct 2025 20:58:08 -0400 (EDT) Subject: |SUCCESS| [GIT MASTER] 2b403dd8fb37d0ba13723e44ffc7ee2c2795f838 From: dpdklab@iol.unh.edu To: Test Report Cc: dpdk-test-reports@iol.unh.edu Content-Type: text/plain X-BeenThere: test-report@dpdk.org X-Mailman-Version: 2.1.29 Precedence: list List-Id: automatic DPDK test reports List-Unsubscribe: , List-Archive: List-Post: List-Help: List-Subscribe: , Errors-To: test-report-bounces@dpdk.org _Testing PASS_ Branch: dpdk 2b403dd8fb37d0ba13723e44ffc7ee2c2795f838 --> testing pass Upstream job id: Generic-DPDK-Compile-Meson#432972 Test environment and result as below: +-------------------------------+--------------------+-------------------+------------------+-------------------------+-------------------+----------------------+ | Environment | dpdk_meson_compile | dpdk_compile_spdk | dpdk_compile_ovs | dpdk_llvm_clang_compile | dpdk_msvc_compile | dpdk_mingw64_compile | +===============================+====================+===================+==================+=========================+===================+======================+ | CentOS Stream 9 | PASS | PASS | SKIPPED | SKIPPED | SKIPPED | SKIPPED | +-------------------------------+--------------------+-------------------+------------------+-------------------------+-------------------+----------------------+ | CentOS Stream 10 | PASS | SKIPPED | SKIPPED | SKIPPED | SKIPPED | SKIPPED | +-------------------------------+--------------------+-------------------+------------------+-------------------------+-------------------+----------------------+ | Debian GNU/Linux 12 | PASS | PASS | SKIPPED | SKIPPED | SKIPPED | SKIPPED | +-------------------------------+--------------------+-------------------+------------------+-------------------------+-------------------+----------------------+ | Fedora Linux 42 | PASS | PASS | PASS | SKIPPED | SKIPPED | SKIPPED | +-------------------------------+--------------------+-------------------+------------------+-------------------------+-------------------+----------------------+ | Ubuntu 20.04 | PASS | SKIPPED | SKIPPED | SKIPPED | SKIPPED | SKIPPED | +-------------------------------+--------------------+-------------------+------------------+-------------------------+-------------------+----------------------+ | openSUSE Leap 15.6 | PASS | SKIPPED | SKIPPED | SKIPPED | SKIPPED | SKIPPED | +-------------------------------+--------------------+-------------------+------------------+-------------------------+-------------------+----------------------+ | Red Hat Enterprise Linux 8.10 | PASS | SKIPPED | SKIPPED | SKIPPED | SKIPPED | SKIPPED | +-------------------------------+--------------------+-------------------+------------------+-------------------------+-------------------+----------------------+ | Ubuntu 22.04 | PASS | PASS | SKIPPED | SKIPPED | SKIPPED | SKIPPED | +-------------------------------+--------------------+-------------------+------------------+-------------------------+-------------------+----------------------+ | Red Hat Enterprise Linux 9.5 | PASS | SKIPPED | SKIPPED | SKIPPED | SKIPPED | SKIPPED | +-------------------------------+--------------------+-------------------+------------------+-------------------------+-------------------+----------------------+ | Ubuntu 24.04 | PASS | PASS | PASS | SKIPPED | SKIPPED | SKIPPED | +-------------------------------+--------------------+-------------------+------------------+-------------------------+-------------------+----------------------+ | Alpine Linux 3.22.0 | PASS | SKIPPED | SKIPPED | SKIPPED | SKIPPED | SKIPPED | +-------------------------------+--------------------+-------------------+------------------+-------------------------+-------------------+----------------------+ | Arch Linux 20250613.0.365270 | PASS | SKIPPED | SKIPPED | SKIPPED | SKIPPED | SKIPPED | +-------------------------------+--------------------+-------------------+------------------+-------------------------+-------------------+----------------------+ | FreeBSD 14.2 | PASS | SKIPPED | SKIPPED | SKIPPED | SKIPPED | SKIPPED | +-------------------------------+--------------------+-------------------+------------------+-------------------------+-------------------+----------------------+ | Windows Server 2022 | SKIPPED | SKIPPED | SKIPPED | PASS | PASS | PASS | +-------------------------------+--------------------+-------------------+------------------+-------------------------+-------------------+----------------------+ CentOS Stream 9 Kernel: 5.15 Compiler: gcc gcc (GCC) 11.5.0 20240719 (Red Hat 11.5.0-11) CentOS Stream 10 Kernel: 5.15 Compiler: gcc gcc (GCC) 14.2.1 20250110 (Red Hat 14.2.1-8) Debian GNU/Linux 12 Kernel: 5.15 Compiler: gcc gcc (Debian 12.2.0-14+deb12u1) 12.2.0 Fedora Linux 42 Kernel: 5.15 Compiler: clang gcc (GCC) 15.2.1 20250808 (Red Hat 15.2.1-1) Ubuntu 20.04 Kernel: 4.19 Compiler: gcc gcc (Ubuntu 9.4.0-1ubuntu1~20.04.2) 9.4.0 openSUSE Leap 15.6 Kernel: 5.15 Compiler: gcc gcc (SUSE Linux) 7.5.0 Red Hat Enterprise Linux 8.10 Kernel: 5.15 Compiler: gcc gcc (GCC) 8.5.0 20210514 (Red Hat 8.5.0-22) Ubuntu 22.04 Kernel: 5.15 Compiler: gcc gcc (Ubuntu 11.4.0-1ubuntu1~22.04) 11.4.0 Red Hat Enterprise Linux 9.5 Kernel: 5.15 Compiler: gcc gcc (GCC) 11.5.0 20240719 (Red Hat 11.5.0-2) Ubuntu 24.04 Kernel: 5.15 Compiler: gcc gcc (Ubuntu 13.3.0-6ubuntu2~24.04) 13.3.0 Alpine Linux 3.22.0 Kernel: 5.15 Compiler: gcc gcc (Alpine 14.2.0) 14.2.0 Arch Linux 20250613.0.365270 Kernel: 5.15 Compiler: gcc gcc (GCC) 15.1.1 20250425 FreeBSD 14.2 Kernel: 14.2-RELEASE Compiler: clang 18.1.6 Windows Server 2022 Kernel: 10.0.20348.2031 Compiler: clang 15.0.7, gcc 14.1.0 (MinGW), and MSVC VS 19.39.33521 To view detailed results, visit: https://lab.dpdk.org/results/dashboard/tarballs/35159/ UNH-IOL DPDK Community Lab To manage your email subscriptions, visit: https://lab.dpdk.org/results/dashboard/preferences/subscriptions/