From mboxrd@z Thu Jan 1 00:00:00 1970 Return-Path: Received: from mails.dpdk.org (mails.dpdk.org [217.70.189.124]) by inbox.dpdk.org (Postfix) with ESMTP id 11448488F6 for ; Fri, 10 Oct 2025 03:03:24 +0200 (CEST) Received: from mails.dpdk.org (localhost [127.0.0.1]) by mails.dpdk.org (Postfix) with ESMTP id DD5F04014F; Fri, 10 Oct 2025 03:03:23 +0200 (CEST) Received: from mail-ua1-f97.google.com (mail-ua1-f97.google.com [209.85.222.97]) by mails.dpdk.org (Postfix) with ESMTP id 0A1774014F for ; Fri, 10 Oct 2025 03:03:22 +0200 (CEST) Received: by mail-ua1-f97.google.com with SMTP id a1e0cc1a2514c-890190c7912so701230241.2 for ; Thu, 09 Oct 2025 18:03:21 -0700 (PDT) DKIM-Signature: v=1; a=rsa-sha256; c=relaxed/relaxed; d=iol.unh.edu; s=unh-iol; t=1760058201; x=1760663001; darn=dpdk.org; h=cc:to:from:subject:message-id:date:from:to:cc:subject:date :message-id:reply-to; bh=DFPwytckWn/4iG2/f7HQlaGfpt0oL1obNpYk93ck1Xs=; b=IBY5uT1KKelGYzuKMTTOqfIYHaZ0AtpgfIuptjmhAp80/IrNF1OeaF6ZHoHFyy8oe1 9x3FnrSlB0eHg8fgZGqwA3sjrcyI5ExNfZaiNxk0tL+KSMAcUYsEtdVSbEwIHafi6rJ4 TeaRtGABwPi5q8xMBFPKmyypWZ59kPbCiuDUY= X-Google-DKIM-Signature: v=1; a=rsa-sha256; c=relaxed/relaxed; d=1e100.net; s=20230601; t=1760058201; x=1760663001; h=cc:to:from:subject:message-id:date:x-gm-message-state:from:to:cc :subject:date:message-id:reply-to; bh=DFPwytckWn/4iG2/f7HQlaGfpt0oL1obNpYk93ck1Xs=; b=B+WVDTRNwPsiSJtOq5MYIcxVS4w3f1z4Gj2OhhB9/psPMQKrGuIS1t29so20zO8LlI PHBlKUcCZ2R0Xd0EMKtDsFeyc3T+3t+vO5uWGvpXWR0EngrMjEQs7hrjQOpeZicaPaec JOoqu4vXR9f/APbK/WiIZ3sfmEb7Qv8fz5OOXbanLF4YEWSU0F7GbIGcXRGei7y64/x9 ZpEaJ8Q7GmUz3210PYYUEImXoDr9EhBUXTZT8k+22KWsAo8yVBUGN4s3RRiziqUg9AnA 6Nk1XPIvc02Ii68vft5JEiVQFeMXX0dZj7y6i7ZA75LMxHl+JXqJYSDShltk8daxkWkw 897A== X-Gm-Message-State: AOJu0Yw8iF75sweMi2Z/UXguFPuNw17JSyoSrDMt498F/c+ypC6ZSrZ1 GzsBKWr3F705I0iDKVC6kiEothzfB6lvi8ivSiee/DmwCa1DZbyOBhx3V+7OVPs3baTakQ1HL2r dXbtX7IWBpy4jKmxy1Y4Sj+hX129+FDEsvOIt2QVe3fD/T50Qd9fSAeHdxX9w X-Gm-Gg: ASbGncvajQoKoiv42yaj6RCQWEYqVRmTl0pR7gQEdpTL65ZJAwJQkZZiq3iKmplTb7l BYQ3Lk7CgR6GPF3sRztnvqLlpFCbxsqjEOYuQQ7JhvuEz5/4CQrT2D14uWIiNXDkEc0koyDEma0 jR/0KrI2YJ9P63v0/6VhmrgIolHCkdRtHGMxgHJH7pWpUw/t1SwXkgKzF822Xsa1RBqBNBglYeI J05mGErUgV1IVE7amPsdG3qNmiZaSLPHASvEzRJ2ALz/XluQ9o+F8nCXJee9ORJnUze8WfWF1z1 ulCDwbcUZ5fD5V5oMJq3ksrjaE0ZQ4rPk7gLH7jAe2CooyxJBtSHhTY= X-Google-Smtp-Source: AGHT+IE+hdpRujTfP2ziTSQqLhd1Qw9kdK+Na59uDCjDnDvtATMATEsOq+hhyMjr58u0wqJA9wC2lC9HdAAR X-Received: by 2002:a05:6122:1812:b0:544:c8bf:6504 with SMTP id 71dfb90a1353d-554b8bad2a4mr4291259e0c.12.1760058201262; Thu, 09 Oct 2025 18:03:21 -0700 (PDT) Received: from postal.iol.unh.edu (postal.iol.unh.edu. [2606:4100:3880:1234::84]) by smtp-relay.gmail.com with ESMTPS id 71dfb90a1353d-554d7fc3e3fsm92035e0c.4.2025.10.09.18.03.21 (version=TLS1_2 cipher=ECDHE-ECDSA-AES128-GCM-SHA256 bits=128/128); Thu, 09 Oct 2025 18:03:21 -0700 (PDT) X-Relaying-Domain: iol.unh.edu Date: Thu, 09 Oct 2025 18:03:21 -0700 (PDT) Message-ID: <68e85b59.050a0220.22332.4f62SMTPIN_ADDED_MISSING@mx.google.com> Received: from [172.21.0.2] (unknown [172.18.0.240]) by postal.iol.unh.edu (Postfix) with ESMTP id E0EED60003E8; Thu, 9 Oct 2025 21:03:20 -0400 (EDT) Subject: |SUCCESS| [GIT MASTER] 2b403dd8fb37d0ba13723e44ffc7ee2c2795f838 From: dpdklab@iol.unh.edu To: Test Report Cc: dpdk-test-reports@iol.unh.edu Content-Type: text/plain X-BeenThere: test-report@dpdk.org X-Mailman-Version: 2.1.29 Precedence: list List-Id: automatic DPDK test reports List-Unsubscribe: , List-Archive: List-Post: List-Help: List-Subscribe: , Errors-To: test-report-bounces@dpdk.org _Testing PASS_ Branch: dpdk 2b403dd8fb37d0ba13723e44ffc7ee2c2795f838 --> testing pass Upstream job id: Generic-VM-Unit-Test-DPDK#31695 Test environment and result as below: +-------------------------------+----------------+ | Environment | dpdk_unit_test | +===============================+================+ | CentOS Stream 9 | PASS | +-------------------------------+----------------+ | Debian GNU/Linux 12 | PASS | +-------------------------------+----------------+ | Arch Linux 20250613.0.365270 | PASS | +-------------------------------+----------------+ | CentOS Stream 10 | PASS | +-------------------------------+----------------+ | Fedora Linux 40 | PASS | +-------------------------------+----------------+ | Fedora Linux 41 | PASS | +-------------------------------+----------------+ | Fedora Linux 42 | PASS | +-------------------------------+----------------+ | Red Hat Enterprise Linux 9.5 | PASS | +-------------------------------+----------------+ | Ubuntu 20.04 | PASS | +-------------------------------+----------------+ | Red Hat Enterprise Linux 8.10 | PASS | +-------------------------------+----------------+ | Ubuntu 24.04 | PASS | +-------------------------------+----------------+ | Ubuntu 22.04 | PASS | +-------------------------------+----------------+ | Windows Server 2022 | PASS | +-------------------------------+----------------+ CentOS Stream 9 Kernel: 5.15 Compiler: gcc gcc (GCC) 11.5.0 20240719 (Red Hat 11.5.0-11) Debian GNU/Linux 12 Kernel: 5.15 Compiler: gcc gcc (Debian 12.2.0-14+deb12u1) 12.2.0 Arch Linux 20250613.0.365270 Kernel: 5.15 Compiler: gcc gcc (GCC) 15.1.1 20250425 CentOS Stream 10 Kernel: 5.15 Compiler: gcc gcc (GCC) 14.2.1 20250110 (Red Hat 14.2.1-8) Fedora Linux 40 Kernel: 5.15 Compiler: gcc gcc (GCC) 14.2.1 20240912 (Red Hat 14.2.1-3) Fedora Linux 41 Kernel: 5.15 Compiler: gcc gcc (GCC) 14.3.1 20250523 (Red Hat 14.3.1-1) Fedora Linux 42 Kernel: 5.15 Compiler: gcc gcc (GCC) 15.2.1 20250808 (Red Hat 15.2.1-1) Red Hat Enterprise Linux 9.5 Kernel: 5.15 Compiler: gcc gcc (GCC) 11.5.0 20240719 (Red Hat 11.5.0-2) Ubuntu 20.04 Kernel: 5.15 Compiler: gcc gcc (Ubuntu 9.4.0-1ubuntu1~20.04.2) 9.4.0 Red Hat Enterprise Linux 8.10 Kernel: 5.15 Compiler: gcc gcc (GCC) 8.5.0 20210514 (Red Hat 8.5.0-22) Ubuntu 24.04 Kernel: 5.15 Compiler: gcc gcc (Ubuntu 13.3.0-6ubuntu2~24.04) 13.3.0 Ubuntu 22.04 Kernel: 5.15 Compiler: gcc gcc (Ubuntu 11.4.0-1ubuntu1~22.04) 11.4.0 Windows Server 2022 Kernel: 10.0.20348.2031 Compiler: clang 15.0.7, gcc 14.1.0 (MinGW), and MSVC VS 19.39.33521 To view detailed results, visit: https://lab.dpdk.org/results/dashboard/tarballs/35159/ UNH-IOL DPDK Community Lab To manage your email subscriptions, visit: https://lab.dpdk.org/results/dashboard/preferences/subscriptions/