From mboxrd@z Thu Jan 1 00:00:00 1970 Return-Path: Received: from mails.dpdk.org (mails.dpdk.org [217.70.189.124]) by inbox.dpdk.org (Postfix) with ESMTP id 2EA24488F7 for ; Fri, 10 Oct 2025 05:26:09 +0200 (CEST) Received: from mails.dpdk.org (localhost [127.0.0.1]) by mails.dpdk.org (Postfix) with ESMTP id 0EDBA4014F; Fri, 10 Oct 2025 05:26:09 +0200 (CEST) Received: from mail-pl1-f227.google.com (mail-pl1-f227.google.com [209.85.214.227]) by mails.dpdk.org (Postfix) with ESMTP id 26C494014F for ; Fri, 10 Oct 2025 05:26:07 +0200 (CEST) Received: by mail-pl1-f227.google.com with SMTP id d9443c01a7336-27c369f898fso21192995ad.3 for ; Thu, 09 Oct 2025 20:26:07 -0700 (PDT) DKIM-Signature: v=1; a=rsa-sha256; c=relaxed/relaxed; d=iol.unh.edu; s=unh-iol; t=1760066766; x=1760671566; darn=dpdk.org; h=cc:to:from:subject:message-id:date:from:to:cc:subject:date :message-id:reply-to; bh=zIpWVlU1EH5Zv3VPgz+sc3UxEpfAJeGfX28yHFKTWjs=; b=QuZxaTMB4lvZ73odtwz5/UTESJ0VmcGI4vTr7FXGnN48GfgDWmBIlLFOPaFuRAdCjX HvGKyFHA572KurTsi/Kv6eHJ1YXHMqoMBP3Y9BWF6TrsLxwRyv6MU26gFcF86ThEQ6aE z8b9r0kXyXJ4WVFHscDXoz0H0tBvq9VD9I0Q4= X-Google-DKIM-Signature: v=1; a=rsa-sha256; c=relaxed/relaxed; d=1e100.net; s=20230601; t=1760066766; x=1760671566; h=cc:to:from:subject:message-id:date:x-gm-message-state:from:to:cc :subject:date:message-id:reply-to; bh=zIpWVlU1EH5Zv3VPgz+sc3UxEpfAJeGfX28yHFKTWjs=; b=BxP+aQ281PqNQWWNiKe6WBj7hKqey6nL632IiqFk/PQMRbCUD0dL/xAL4lg5Ye+4mC KtLSCoNogt/J0S/X65cKUmNZ7NiWT16tnqLN31Y+Cz2U2THAZ7clirFkYKv+TN1sTzUe whmfkP//LkwCMzoIfIi2ODuRrntxy61wnOJuIh7OfZYaKj6UU7G8an4HgF9Fg5dr4vum Eg7vbfzbMAuD7po+vncuzYyFKHLwVijCDR0n50PWaRJhD6zH9XjFrzw7CP+FC76+B6xs 2CnaZLR9XfaGmnalXQFLznd/8vY4VN8bBf1yBZPImWuuRMhmmMj8axv+5w+raQN1DHG9 RAjA== X-Gm-Message-State: AOJu0YzkU0Stc7ydmiunK2oINYTowNJ/ofyHijZZUOpRcIg1uAB01m0C e9HgOiCqjqszv2S/ceHoPhaEnGFNfPgGKHnJQt4BbNZ7utXEUu6MUDJ9jDWVDC+9o7Z8WmMk0I6 avLasChybDztuR7tMm+eXiyO83JnWO53mYMYwsMzcfjCp/6/7ZzyMpu1rDLBj X-Gm-Gg: ASbGncvzuf6EYAro+kJEENiusSjzLW+yowfo3RaA/f+I/eYYBS0CPNb1K9kX9aoZWqC WS67NP7pRh39B/zPimFuPDBr9GHilu425qabFlu+5QEJRJj02TlEbUUZ1yjK6E5qSrPDiWw9kU6 iVg2l16uzZOBHED3stYdUpdC1o5HCzhEaG89h7EEWCgmAJ3wyEvrEleGvSE+Ilc6ExA9qbftRjm f+45Stg0xyU7t34MKBwVOlXjpwKrQE8KEQbSKHwoCcrMB0Z1RBNuXUTGOPRjAVEXkGDIHddyjHn r5ou5THSgYmDNP/ri9BdFjxPVQevlFsk0mSQxsDpgxgLeds7cQ== X-Google-Smtp-Source: AGHT+IFZ5rgM6dViXdc2yNtU5JeCbtUApy2IBqeQV6D9yjCCKa2XVU9b3EMqRM4mIcQJmDzklS3ER2cO1mN6 X-Received: by 2002:a17:902:e54f:b0:28d:18d3:46bc with SMTP id d9443c01a7336-2902723d619mr146071145ad.19.1760066766181; Thu, 09 Oct 2025 20:26:06 -0700 (PDT) Received: from postal.iol.unh.edu (postal.iol.unh.edu. [2606:4100:3880:1234::84]) by smtp-relay.gmail.com with ESMTPS id d9443c01a7336-29034df0e72sm3495625ad.9.2025.10.09.20.26.06 (version=TLS1_2 cipher=ECDHE-ECDSA-AES128-GCM-SHA256 bits=128/128); Thu, 09 Oct 2025 20:26:06 -0700 (PDT) X-Relaying-Domain: iol.unh.edu Date: Thu, 09 Oct 2025 20:26:06 -0700 (PDT) Message-ID: <68e87cce.170a0220.347a7.2248SMTPIN_ADDED_MISSING@mx.google.com> Received: from [172.21.0.2] (unknown [172.18.0.240]) by postal.iol.unh.edu (Postfix) with ESMTP id 94A206051830; Thu, 9 Oct 2025 23:26:05 -0400 (EDT) Subject: |SUCCESS| [GIT MASTER] 2b403dd8fb37d0ba13723e44ffc7ee2c2795f838 From: dpdklab@iol.unh.edu To: Test Report Cc: dpdk-test-reports@iol.unh.edu Content-Type: text/plain X-BeenThere: test-report@dpdk.org X-Mailman-Version: 2.1.29 Precedence: list List-Id: automatic DPDK test reports List-Unsubscribe: , List-Archive: List-Post: List-Help: List-Subscribe: , Errors-To: test-report-bounces@dpdk.org _Testing PASS_ Branch: dpdk 2b403dd8fb37d0ba13723e44ffc7ee2c2795f838 --> testing pass Upstream job id: Generic-DPDK-Compile-Meson#432988 Test environment and result as below: +------------------------------+--------------------+ | Environment | dpdk_meson_compile | +==============================+====================+ | Red Hat Enterprise Linux 9.5 | PASS | +------------------------------+--------------------+ | Ubuntu 20.04 | PASS | +------------------------------+--------------------+ | Fedora Linux 42 | PASS | +------------------------------+--------------------+ | Debian GNU/Linux 12 | PASS | +------------------------------+--------------------+ | Ubuntu 22.04 | PASS | +------------------------------+--------------------+ | Ubuntu 24.04 | PASS | +------------------------------+--------------------+ | CentOS Stream 9 | PASS | +------------------------------+--------------------+ | CentOS Stream 10 | PASS | +------------------------------+--------------------+ Red Hat Enterprise Linux 9.5 Kernel: 5.4 Compiler: gcc gcc (GCC) 11.5.0 20240719 (Red Hat 11.5.0-2) Ubuntu 20.04 Kernel: 5.4 Compiler: gcc gcc (Ubuntu 9.4.0-1ubuntu1~20.04.2) 9.4.0 Fedora Linux 42 Kernel: 5.4 Compiler: gcc gcc (GCC) 15.2.1 20250808 (Red Hat 15.2.1-1) Debian GNU/Linux 12 Kernel: 5.4 Compiler: gcc gcc (Debian 12.2.0-14+deb12u1) 12.2.0 Ubuntu 22.04 Kernel: 5.4 Compiler: gcc gcc (Ubuntu 11.4.0-1ubuntu1~22.04) 11.4.0 Ubuntu 24.04 Kernel: 5.4 Compiler: gcc gcc (Ubuntu 13.3.0-6ubuntu2~24.04) 13.3.0 CentOS Stream 9 Kernel: 5.4 Compiler: gcc gcc (GCC) 11.5.0 20240719 (Red Hat 11.5.0-11) CentOS Stream 10 Kernel: 5.4 Compiler: gcc gcc (GCC) 14.2.1 20250110 (Red Hat 14.2.1-8) To view detailed results, visit: https://lab.dpdk.org/results/dashboard/tarballs/35159/ UNH-IOL DPDK Community Lab To manage your email subscriptions, visit: https://lab.dpdk.org/results/dashboard/preferences/subscriptions/