From mboxrd@z Thu Jan 1 00:00:00 1970 Return-Path: Received: from mails.dpdk.org (mails.dpdk.org [217.70.189.124]) by inbox.dpdk.org (Postfix) with ESMTP id 4B0FD488F8 for ; Fri, 10 Oct 2025 06:54:44 +0200 (CEST) Received: from mails.dpdk.org (localhost [127.0.0.1]) by mails.dpdk.org (Postfix) with ESMTP id 459564014F; Fri, 10 Oct 2025 06:54:44 +0200 (CEST) Received: from mail-il1-f225.google.com (mail-il1-f225.google.com [209.85.166.225]) by mails.dpdk.org (Postfix) with ESMTP id 88E294014F for ; Fri, 10 Oct 2025 06:54:43 +0200 (CEST) Received: by mail-il1-f225.google.com with SMTP id e9e14a558f8ab-42f90b88beaso6598465ab.3 for ; Thu, 09 Oct 2025 21:54:43 -0700 (PDT) DKIM-Signature: v=1; a=rsa-sha256; c=relaxed/relaxed; d=iol.unh.edu; s=unh-iol; t=1760072083; x=1760676883; darn=dpdk.org; h=references:in-reply-to:cc:to:from:subject:message-id:date:from:to :cc:subject:date:message-id:reply-to; bh=AAkKeJoE9HxEf3Ev2vmwuHbgCpWCIF66vWbBbMIISRk=; b=VzWSn696ZKUgIWdrbrTO6IKwWOL5yEobfg36I79CFrMpLB61l2XmNkCV9GcizaT6ZJ YUxjWE0C7Rqql/cpJQizF7I7xZeeNRwxHoKVWeivTvEwAJSnp2Q7gWMQ1vywrZ6bIOao 3bi86O4opLpNpLmXK78h/b4M9DI7zbJQDW/iM= X-Google-DKIM-Signature: v=1; a=rsa-sha256; c=relaxed/relaxed; d=1e100.net; s=20230601; t=1760072083; x=1760676883; h=references:in-reply-to:cc:to:from:subject:message-id:date :x-gm-message-state:from:to:cc:subject:date:message-id:reply-to; bh=AAkKeJoE9HxEf3Ev2vmwuHbgCpWCIF66vWbBbMIISRk=; b=Cc4/MJ4UIXg+d8YQLOmyWFxlIiZitLnZ9IxmqnCnufVrKNMLRyvVdyQz46/vKpZtDX etAV/XKVMyrnXY78vwJTJZDbO/A2y+/P/SHVi0ocYb1AJ6/Rk8c3HvsxnoEmiEkLrAlK HHgdHAkEfLFeL7sL1qEa7aZW3SEf4b1M4PY1kP67HQ7ioNb+aujbYZO2uqv33ikahu/C IGWxhIAIJWJz0u5f6SaA47vDN8/5auLIDpdl9CByF6e0P2Z358aezqAclWENCn+zMO/J fihOykJs1s310mcrXuWV9BioP8HVcKwt7KzaTbuR3pc2TxmAaJMni92PQ0K9aSHcOcO0 BsFg== X-Gm-Message-State: AOJu0YxZ76tiXFktOllCAbWHs3u7yeI02J78YO3JRDhH+RmEKieXXoM5 kxZIKoMom/afp/rrJYsKQ2BVr23aDtoikyfuUGKu6s1BkUDgXvvIXSVwmp+tSuZ0CWq8c1emJK1 8PEiWZ4kCV7h6HZzWSmgZ2/imlWVYi0n2/Myn34SeyMRu X-Gm-Gg: ASbGncv9CPXoMKWNAqlrBZZYqf6WYjvFxQ4zZKHGsSxi9RoVGfehBM74dPmbCeEssyK kh0abXt2GBMV458fg9c3bmb9Zclel4MOSerp9oB2x8MGsMGPMHZYcm0oI2WslIRNOBrp5O0qIQ+ +s7HPz5zCDfx41plGZzRwoEzwqTZxIsITzevuFHcoPyYGdEJFqbSuG2nrCjYp5F9LDOVewRSjeK H6KOKNVDxiKllqSlqm+x8EqOKWwnzPivUtUucpRMdn4i5OhPVDdpUTDCg0DcHa01XcG99sA/q5J 7PqYXum9PbwyvsplwyMrtKp/66CD2MnmQOsXYEfj3zl/6tjl1jlB2NO9fwdRYuPL802iIlnl X-Google-Smtp-Source: AGHT+IHE7yapDj3fiFnWEdvxkw85q+dp2id62cjeZG1WpYyp2bw7ylwrAnhIBiV+Aa1Z4Zo5B+GlFkWVBDEL X-Received: by 2002:a05:6e02:1c29:b0:42a:f84b:9e7f with SMTP id e9e14a558f8ab-42f873ebd1amr95775335ab.15.1760072082783; Thu, 09 Oct 2025 21:54:42 -0700 (PDT) Received: from postal.iol.unh.edu (postal.iol.unh.edu. [132.177.123.84]) by smtp-relay.gmail.com with ESMTPS id 8926c6da1cb9f-58f726e7011sm116851173.48.2025.10.09.21.54.42 (version=TLS1_2 cipher=ECDHE-ECDSA-AES128-GCM-SHA256 bits=128/128); Thu, 09 Oct 2025 21:54:42 -0700 (PDT) X-Relaying-Domain: iol.unh.edu Date: Thu, 09 Oct 2025 21:54:42 -0700 (PDT) Message-ID: <68e89192.050a0220.1e6b53.6fa6SMTPIN_ADDED_MISSING@mx.google.com> Received: from [172.21.0.2] (unknown [172.18.0.240]) by postal.iol.unh.edu (Postfix) with ESMTP id 5961F6051830; Fri, 10 Oct 2025 00:54:42 -0400 (EDT) Subject: |SUCCESS| pw157355 [PATCH] [v3] net/mlx5: fix age checking crash From: dpdklab@iol.unh.edu To: Test Report Cc: dpdk-test-reports@iol.unh.edu In-Reply-To: <20251009091810.174004-1-rongweil@nvidia.com> References: <20251009091810.174004-1-rongweil@nvidia.com> Content-Type: text/plain X-BeenThere: test-report@dpdk.org X-Mailman-Version: 2.1.29 Precedence: list List-Id: automatic DPDK test reports List-Unsubscribe: , List-Archive: List-Post: List-Help: List-Subscribe: , Errors-To: test-report-bounces@dpdk.org Test-Label: iol-unit-arm64-testing Test-Status: SUCCESS http://dpdk.org/patch/157355 _Testing PASS_ Submitter: Rongwei Liu Date: Thursday, October 09 2025 09:18:10 DPDK git baseline: Repo:dpdk-next-net-mlx Branch: master CommitID:2374f33e1d964e100895fd294966380c46f0886d 157355 --> testing pass Upstream job id: Generic-Unit-Test-DPDK#379901 Test environment and result as below: +------------------------------+------------------------------+--------------+----------------+---------------------------+ | Environment | cryptodev_sw_snow3g_autotest | lpm_autotest | dpdk_unit_test | cryptodev_sw_zuc_autotest | +==============================+==============================+==============+================+===========================+ | Debian 12 (arm) | PASS | SKIPPED | SKIPPED | PASS | +------------------------------+------------------------------+--------------+----------------+---------------------------+ | Ubuntu 20.04 | SKIPPED | PASS | PASS | SKIPPED | +------------------------------+------------------------------+--------------+----------------+---------------------------+ | Fedora Linux 41 | SKIPPED | SKIPPED | PASS | SKIPPED | +------------------------------+------------------------------+--------------+----------------+---------------------------+ | CentOS Stream 9 | SKIPPED | SKIPPED | PASS | SKIPPED | +------------------------------+------------------------------+--------------+----------------+---------------------------+ | Ubuntu 22.04 | SKIPPED | SKIPPED | PASS | SKIPPED | +------------------------------+------------------------------+--------------+----------------+---------------------------+ | Debian GNU/Linux 12 | SKIPPED | SKIPPED | PASS | SKIPPED | +------------------------------+------------------------------+--------------+----------------+---------------------------+ | CentOS Stream 10 | SKIPPED | SKIPPED | PASS | SKIPPED | +------------------------------+------------------------------+--------------+----------------+---------------------------+ | Fedora Linux 40 | SKIPPED | SKIPPED | PASS | SKIPPED | +------------------------------+------------------------------+--------------+----------------+---------------------------+ | Red Hat Enterprise Linux 9.5 | SKIPPED | SKIPPED | PASS | SKIPPED | +------------------------------+------------------------------+--------------+----------------+---------------------------+ | Fedora Linux 42 | SKIPPED | SKIPPED | PASS | SKIPPED | +------------------------------+------------------------------+--------------+----------------+---------------------------+ | Ubuntu 24.04 | SKIPPED | SKIPPED | PASS | SKIPPED | +------------------------------+------------------------------+--------------+----------------+---------------------------+ Debian 12 (arm) Kernel: Depends on container host Compiler: gcc (Debian 12.2.0-14) 12.2.0 Ubuntu 20.04 Kernel: 5.4 Compiler: gcc gcc (Ubuntu 9.4.0-1ubuntu1~20.04.2) 9.4.0 Fedora Linux 41 Kernel: 5.4 Compiler: clang gcc (GCC) 14.3.1 20250523 (Red Hat 14.3.1-1) CentOS Stream 9 Kernel: 5.4 Compiler: gcc gcc (GCC) 11.5.0 20240719 (Red Hat 11.5.0-11) Ubuntu 22.04 Kernel: 5.15 Compiler: gcc gcc (Ubuntu 11.4.0-1ubuntu1~22.04.2) 11.4.0 Debian GNU/Linux 12 Kernel: 5.4 Compiler: gcc gcc (Debian 12.2.0-14+deb12u1) 12.2.0 CentOS Stream 10 Kernel: 5.4 Compiler: gcc gcc (GCC) 14.2.1 20250110 (Red Hat 14.2.1-8) Fedora Linux 40 Kernel: 5.4 Compiler: clang gcc (GCC) 14.2.1 20240912 (Red Hat 14.2.1-3) Red Hat Enterprise Linux 9.5 Kernel: 5.4 Compiler: gcc gcc (GCC) 11.5.0 20240719 (Red Hat 11.5.0-2) Fedora Linux 42 Kernel: 5.4 Compiler: clang gcc (GCC) 15.2.1 20250808 (Red Hat 15.2.1-1) Ubuntu 24.04 Kernel: 5.4 Compiler: gcc gcc (Ubuntu 13.3.0-6ubuntu2~24.04) 13.3.0 To view detailed results, visit: https://lab.dpdk.org/results/dashboard/patchsets/34243/ UNH-IOL DPDK Community Lab To manage your email subscriptions, visit: https://lab.dpdk.org/results/dashboard/preferences/subscriptions/