From mboxrd@z Thu Jan 1 00:00:00 1970 Return-Path: Received: from mails.dpdk.org (mails.dpdk.org [217.70.189.124]) by inbox.dpdk.org (Postfix) with ESMTP id CEF79488F8 for ; Fri, 10 Oct 2025 07:39:47 +0200 (CEST) Received: from mails.dpdk.org (localhost [127.0.0.1]) by mails.dpdk.org (Postfix) with ESMTP id C6C354028C; Fri, 10 Oct 2025 07:39:47 +0200 (CEST) Received: from mail-io1-f97.google.com (mail-io1-f97.google.com [209.85.166.97]) by mails.dpdk.org (Postfix) with ESMTP id 1547F4028C for ; Fri, 10 Oct 2025 07:39:46 +0200 (CEST) Received: by mail-io1-f97.google.com with SMTP id ca18e2360f4ac-92aee734585so66047639f.3 for ; Thu, 09 Oct 2025 22:39:46 -0700 (PDT) DKIM-Signature: v=1; a=rsa-sha256; c=relaxed/relaxed; d=iol.unh.edu; s=unh-iol; t=1760074785; x=1760679585; darn=dpdk.org; h=cc:to:from:subject:message-id:date:from:to:cc:subject:date :message-id:reply-to; bh=XOhipA9pZOWj5LCbOWff9ux9IbfvvhLVoGbNjaeexkM=; b=LbAyWATZ6X/ZDsAYy3aPwL5K4oh6j6Hmodx2S1JjN6ssyZD2RAYspAE5hKb1o2WDBK tImP4rFachK+6F6MPWwYKNXqe1HDd1io/ET4tJUjXlNQ5+DckhzMMYfNKFmtiCooiSVB AD/WiKqGFiDYLCTXGYvu07vIyY9rWHN90y/iw= X-Google-DKIM-Signature: v=1; a=rsa-sha256; c=relaxed/relaxed; d=1e100.net; s=20230601; t=1760074785; x=1760679585; h=cc:to:from:subject:message-id:date:x-gm-message-state:from:to:cc :subject:date:message-id:reply-to; bh=XOhipA9pZOWj5LCbOWff9ux9IbfvvhLVoGbNjaeexkM=; b=jtwSZ07H0BrLxnS3tf/o98LvhttmpkIH8VSOCTn1HdsSgjHhuZkW8UP12oKjhf9h3L AXOAliPQ9fB30mKq5K236BX1h/k2SUgkBFo6kkAWpg/muHHyF6yGNq2S0SnNGxSA0NoZ AloWXpXiI3F2U3TwSRt6LR+NNEgKRdjKYZXUNGqCmhzPlM59ue3t031m5323d6rTL04p m3K0B3VTpC6kM97pFiPIxKFoeb1nWvu71X+Tln0zWDqQuSBc/Al8AHGXBuA2EGN2qeAs FyuoqD38gWhniO1MBCxWruKo2Mds7lQF8f3ySfae5K9gdw4e9vQ2a/nwimGqxIdFN7YU yrnw== X-Gm-Message-State: AOJu0YzZxR/an1jAHWK+YcEhxvgrnUT5OnpXqylqlXPxHcCe+od/0mp0 Zq+yU54PMIUPgx7YFktfUJgp+wwN4aud5+tTPYGfO4Hqfq5mwt00Z1E2naO3PT5h2mpZgmn1d20 +PhDbu2cVLjuF2xGaA0QqaAKJ5sXPZ9Z/HLqb X-Gm-Gg: ASbGnctPFYveYn73JVjmVcarw4HjycyKkonHQM36ZzoKjdy+QY9IsbQyK4olHB/CB+Z N1l4j6ySKimzdVBdpypiGLIIoHawAcBDcH6NNtgHMI2lY8aEWcTZ2uUeswXTXZbhgAg8zFIGi+I qckQvAZTM/siTxIH9BomwySPlKONqMDO+BOdQumnkuAEZlgFdx/9YPVasVpfgAf5KiGvu/o/ER6 BXGFDcPMZmOKzh1KTSY83E1M/BfTCSb3NeVfripw+sLrZX7eWOHwuYbYxcAL1ZLral0mm/YOWj0 ke07/4XnUm7fHjrEsi4hyCe2uFVsoLeoT5d4c//o8DvPXQ7cDjafF4L0De5AH4+jy0DjEmi6 X-Google-Smtp-Source: AGHT+IHZBuUiwoVc2Z1xf3x6YgAP91aq5qjW3z4EUbMo6q4NuV2cRTOAtUZHHT9LBM9wj6FH2TCiXsG9pr9c X-Received: by 2002:a05:6602:6d8b:b0:91a:695a:cb61 with SMTP id ca18e2360f4ac-93bd199772emr1179048939f.13.1760074785247; Thu, 09 Oct 2025 22:39:45 -0700 (PDT) Received: from postal.iol.unh.edu (postal.iol.unh.edu. [132.177.123.84]) by smtp-relay.gmail.com with ESMTPS id 8926c6da1cb9f-58f6d040ea7sm113444173.2.2025.10.09.22.39.45 (version=TLS1_2 cipher=ECDHE-ECDSA-AES128-GCM-SHA256 bits=128/128); Thu, 09 Oct 2025 22:39:45 -0700 (PDT) X-Relaying-Domain: iol.unh.edu Date: Thu, 09 Oct 2025 22:39:45 -0700 (PDT) Message-ID: <68e89c21.050a0220.373c61.5eb6SMTPIN_ADDED_MISSING@mx.google.com> Received: from [172.21.0.2] (unknown [172.18.0.240]) by postal.iol.unh.edu (Postfix) with ESMTP id B3ECE6051830; Fri, 10 Oct 2025 01:39:44 -0400 (EDT) Subject: |SUCCESS| [GIT MASTER] 3b43ce3f4a54468e7ef65760c2fd7b4d6ee6d9fc From: dpdklab@iol.unh.edu To: Test Report Cc: dpdk-test-reports@iol.unh.edu, Xueming Li , Christian Ehrhardt , Kevin Traynor , Luca Boccassi Content-Type: text/plain X-BeenThere: test-report@dpdk.org X-Mailman-Version: 2.1.29 Precedence: list List-Id: automatic DPDK test reports List-Unsubscribe: , List-Archive: List-Post: List-Help: List-Subscribe: , Errors-To: test-report-bounces@dpdk.org _Testing PASS_ Branch: tags/v22.11 3b43ce3f4a54468e7ef65760c2fd7b4d6ee6d9fc --> testing pass Upstream job id: Generic-DPDK-Compile-Meson#432998 Test environment and result as below: +-------------------------------+--------------------+-------------------------+----------------------+ | Environment | dpdk_meson_compile | dpdk_llvm_clang_compile | dpdk_mingw64_compile | +===============================+====================+=========================+======================+ | CentOS Stream 10 | PASS | SKIPPED | SKIPPED | +-------------------------------+--------------------+-------------------------+----------------------+ | CentOS Stream 9 | PASS | SKIPPED | SKIPPED | +-------------------------------+--------------------+-------------------------+----------------------+ | Debian GNU/Linux 12 | PASS | SKIPPED | SKIPPED | +-------------------------------+--------------------+-------------------------+----------------------+ | Fedora Linux 42 | PASS | SKIPPED | SKIPPED | +-------------------------------+--------------------+-------------------------+----------------------+ | openSUSE Leap 15.6 | PASS | SKIPPED | SKIPPED | +-------------------------------+--------------------+-------------------------+----------------------+ | Red Hat Enterprise Linux 8.10 | PASS | SKIPPED | SKIPPED | +-------------------------------+--------------------+-------------------------+----------------------+ | Red Hat Enterprise Linux 9.5 | PASS | SKIPPED | SKIPPED | +-------------------------------+--------------------+-------------------------+----------------------+ | Ubuntu 20.04 | PASS | SKIPPED | SKIPPED | +-------------------------------+--------------------+-------------------------+----------------------+ | Ubuntu 22.04 | PASS | SKIPPED | SKIPPED | +-------------------------------+--------------------+-------------------------+----------------------+ | FreeBSD 14.2 | PASS | SKIPPED | SKIPPED | +-------------------------------+--------------------+-------------------------+----------------------+ | Ubuntu 24.04 | PASS | SKIPPED | SKIPPED | +-------------------------------+--------------------+-------------------------+----------------------+ | Windows Server 2022 | SKIPPED | PASS | PASS | +-------------------------------+--------------------+-------------------------+----------------------+ CentOS Stream 10 Kernel: 5.15 Compiler: gcc gcc (GCC) 14.2.1 20250110 (Red Hat 14.2.1-8) CentOS Stream 9 Kernel: 5.15 Compiler: gcc gcc (GCC) 11.5.0 20240719 (Red Hat 11.5.0-11) Debian GNU/Linux 12 Kernel: 5.15 Compiler: gcc gcc (Debian 12.2.0-14+deb12u1) 12.2.0 Fedora Linux 42 Kernel: 5.15 Compiler: clang gcc (GCC) 15.2.1 20250808 (Red Hat 15.2.1-1) openSUSE Leap 15.6 Kernel: 5.15 Compiler: gcc gcc (SUSE Linux) 7.5.0 Red Hat Enterprise Linux 8.10 Kernel: 5.15 Compiler: gcc gcc (GCC) 8.5.0 20210514 (Red Hat 8.5.0-22) Red Hat Enterprise Linux 9.5 Kernel: 5.15 Compiler: gcc gcc (GCC) 11.5.0 20240719 (Red Hat 11.5.0-2) Ubuntu 20.04 Kernel: 5.15 Compiler: gcc gcc (Ubuntu 9.4.0-1ubuntu1~20.04.2) 9.4.0 Ubuntu 22.04 Kernel: 5.15 Compiler: gcc gcc (Ubuntu 11.4.0-1ubuntu1~22.04) 11.4.0 FreeBSD 14.2 Kernel: 14.2-RELEASE Compiler: clang 18.1.6 Ubuntu 24.04 Kernel: 5.15 Compiler: gcc gcc (Ubuntu 13.3.0-6ubuntu2~24.04) 13.3.0 Windows Server 2022 Kernel: 10.0.20348.2031 Compiler: clang 15.0.7, gcc 14.1.0 (MinGW), and MSVC VS 19.39.33521 To view detailed results, visit: https://lab.dpdk.org/results/dashboard/tarballs/35160/ UNH-IOL DPDK Community Lab To manage your email subscriptions, visit: https://lab.dpdk.org/results/dashboard/preferences/subscriptions/