From mboxrd@z Thu Jan 1 00:00:00 1970 Return-Path: Received: from mails.dpdk.org (mails.dpdk.org [217.70.189.124]) by inbox.dpdk.org (Postfix) with ESMTP id 03991488F8 for ; Fri, 10 Oct 2025 07:40:01 +0200 (CEST) Received: from mails.dpdk.org (localhost [127.0.0.1]) by mails.dpdk.org (Postfix) with ESMTP id EE567402A0; Fri, 10 Oct 2025 07:40:00 +0200 (CEST) Received: from mail-qk1-f226.google.com (mail-qk1-f226.google.com [209.85.222.226]) by mails.dpdk.org (Postfix) with ESMTP id 061DC4028C for ; Fri, 10 Oct 2025 07:39:59 +0200 (CEST) Received: by mail-qk1-f226.google.com with SMTP id af79cd13be357-863fa984ef5so211121285a.3 for ; Thu, 09 Oct 2025 22:39:58 -0700 (PDT) DKIM-Signature: v=1; a=rsa-sha256; c=relaxed/relaxed; d=iol.unh.edu; s=unh-iol; t=1760074798; x=1760679598; darn=dpdk.org; h=cc:to:from:subject:message-id:date:from:to:cc:subject:date :message-id:reply-to; bh=d1FqbsSn+uyGNM8oeMckNJX4w9mnrQqZc756jgEgtog=; b=KumbB0xfpDz1IZPOesvU6kOhywdACj5SiIZ+sQahqeWH/2ODPrUl+SSOcQH+Ob5P6m JiGbITJSzDuvpneDEUGtYMK67ZV3wF6KW/40OhQjj7SumHLc3c1wmtWvlKtZH5TXXyz9 fGHYOdeRwZi/7v+tz2fO4CIubjrNp0P/6eNE4= X-Google-DKIM-Signature: v=1; a=rsa-sha256; c=relaxed/relaxed; d=1e100.net; s=20230601; t=1760074798; x=1760679598; h=cc:to:from:subject:message-id:date:x-gm-message-state:from:to:cc :subject:date:message-id:reply-to; bh=d1FqbsSn+uyGNM8oeMckNJX4w9mnrQqZc756jgEgtog=; b=UWMyisK1wlunUUR5OyM+UTHgD1S0Ly7IwPzo8bQxaKPDGpTWqTf+FdKZBFg/l1nD4M pTKJ8DbNgeid0euMPvH7GMRQLFs2SJhqAl6GFVFDS1K1WN1J3vGGJQR+XjJBXnBt5je2 Ox0vCdf/3eCrtXNxbazIlw+oWan/4UFAsBImr7n9o89I9Tu1WablZfciwHpXd1l9qhzs CQ82UnjA+Rwfh2S8KV7nldpRBAfMVzv2sk1SS4099A9CmMebbZk1ePNCQtC5SLQYvwvk JzfAvxyVHxHI7grw85IchYvSOi6RzztfOM+wXJ9dq80OnrWynvQIIXFkd/q7kCXRIllf Qb0A== X-Gm-Message-State: AOJu0YyPg+ridLC9+blloJxR2F7cGjDirEImf4Nij/8so9mIa8fVb++2 mcBOXKmVPdWgdF1x5PkEekgPHPwr5C3tE/mrm9j9E/sKh/NC4bIurhUA6TniYbXSdDiQPsalxoV +6gVUI+hYcQySzjAAkWChQTI+7QkhDd9JvA2ayhoGN7aU57pRt+bK X-Gm-Gg: ASbGncs9VrJbjXk0NW5VSHLZBLErSpdEf6lvLBLDfV+mSyVXIIKZSZ1YPX/uF9ZeJxS Sq+a5T8CNOe451ACPRnvlt/kY/wiQavZPzfXG7jORJa6FrW+9hZ+7tfv39kp6jFtwh9EnwuOcqc LSmTKIMIziR4u8z4EigqsMblg+Qq/XRdXEzQwJvinRyFc46qiMmw7OkeK3Ld2S+dvjDQB4FedSL 5U5b+pwWcrziGpip8LV0/CQRw73xhEwtQdQIePbkOShOPcliHy8hfUhyyMMw/XGjuXBbV+wH/tp xffigEm8ehTpHlRsYOP/y1X4pnu15pZuWm1ujdpc3ZDhY7/bhw== X-Google-Smtp-Source: AGHT+IFaSNmmi0Z1hLl9pagfbNTno0JE5EE4hC4YfXm9mnwplnt3TgNi8JwNAnK94sfv0YR1KzHPLvYZG4PZ X-Received: by 2002:a05:6214:2485:b0:792:61c0:beb0 with SMTP id 6a1803df08f44-87b2ef71746mr152647966d6.67.1760074798343; Thu, 09 Oct 2025 22:39:58 -0700 (PDT) Received: from postal.iol.unh.edu (postal.iol.unh.edu. [2606:4100:3880:1234::84]) by smtp-relay.gmail.com with ESMTPS id 6a1803df08f44-87bc345116bsm1064836d6.1.2025.10.09.22.39.58 (version=TLS1_2 cipher=ECDHE-ECDSA-AES128-GCM-SHA256 bits=128/128); Thu, 09 Oct 2025 22:39:58 -0700 (PDT) X-Relaying-Domain: iol.unh.edu Date: Thu, 09 Oct 2025 22:39:58 -0700 (PDT) Message-ID: <68e89c2e.050a0220.c1557.5a7cSMTPIN_ADDED_MISSING@mx.google.com> Received: from [172.21.0.3] (unknown [172.18.0.240]) by postal.iol.unh.edu (Postfix) with ESMTP id 164216051830; Fri, 10 Oct 2025 01:39:58 -0400 (EDT) Subject: |SUCCESS| [GIT MASTER] 3b43ce3f4a54468e7ef65760c2fd7b4d6ee6d9fc From: dpdklab@iol.unh.edu To: Test Report Cc: dpdk-test-reports@iol.unh.edu, Xueming Li , Christian Ehrhardt , Kevin Traynor , Luca Boccassi Content-Type: text/plain X-BeenThere: test-report@dpdk.org X-Mailman-Version: 2.1.29 Precedence: list List-Id: automatic DPDK test reports List-Unsubscribe: , List-Archive: List-Post: List-Help: List-Subscribe: , Errors-To: test-report-bounces@dpdk.org _Testing PASS_ Branch: tags/v22.11 3b43ce3f4a54468e7ef65760c2fd7b4d6ee6d9fc --> testing pass Upstream job id: Generic-DPDK-Compile-Meson#433001 Test environment and result as below: +-------------------------------+--------------------+-------------------------+----------------------+ | Environment | dpdk_meson_compile | dpdk_llvm_clang_compile | dpdk_mingw64_compile | +===============================+====================+=========================+======================+ | CentOS Stream 10 | PASS | SKIPPED | SKIPPED | +-------------------------------+--------------------+-------------------------+----------------------+ | CentOS Stream 9 | PASS | SKIPPED | SKIPPED | +-------------------------------+--------------------+-------------------------+----------------------+ | Debian GNU/Linux 12 | PASS | SKIPPED | SKIPPED | +-------------------------------+--------------------+-------------------------+----------------------+ | Fedora Linux 42 | PASS | SKIPPED | SKIPPED | +-------------------------------+--------------------+-------------------------+----------------------+ | openSUSE Leap 15.6 | PASS | SKIPPED | SKIPPED | +-------------------------------+--------------------+-------------------------+----------------------+ | Red Hat Enterprise Linux 8.10 | PASS | SKIPPED | SKIPPED | +-------------------------------+--------------------+-------------------------+----------------------+ | Red Hat Enterprise Linux 9.5 | PASS | SKIPPED | SKIPPED | +-------------------------------+--------------------+-------------------------+----------------------+ | Ubuntu 20.04 | PASS | SKIPPED | SKIPPED | +-------------------------------+--------------------+-------------------------+----------------------+ | Ubuntu 22.04 | PASS | SKIPPED | SKIPPED | +-------------------------------+--------------------+-------------------------+----------------------+ | FreeBSD 14.2 | PASS | SKIPPED | SKIPPED | +-------------------------------+--------------------+-------------------------+----------------------+ | Ubuntu 24.04 | PASS | SKIPPED | SKIPPED | +-------------------------------+--------------------+-------------------------+----------------------+ | Windows Server 2022 | SKIPPED | PASS | PASS | +-------------------------------+--------------------+-------------------------+----------------------+ CentOS Stream 10 Kernel: 5.15 Compiler: gcc gcc (GCC) 14.2.1 20250110 (Red Hat 14.2.1-8) CentOS Stream 9 Kernel: 5.15 Compiler: gcc gcc (GCC) 11.5.0 20240719 (Red Hat 11.5.0-11) Debian GNU/Linux 12 Kernel: 5.15 Compiler: gcc gcc (Debian 12.2.0-14+deb12u1) 12.2.0 Fedora Linux 42 Kernel: 5.15 Compiler: clang gcc (GCC) 15.2.1 20250808 (Red Hat 15.2.1-1) openSUSE Leap 15.6 Kernel: 5.15 Compiler: gcc gcc (SUSE Linux) 7.5.0 Red Hat Enterprise Linux 8.10 Kernel: 5.15 Compiler: gcc gcc (GCC) 8.5.0 20210514 (Red Hat 8.5.0-22) Red Hat Enterprise Linux 9.5 Kernel: 5.15 Compiler: gcc gcc (GCC) 11.5.0 20240719 (Red Hat 11.5.0-2) Ubuntu 20.04 Kernel: 5.15 Compiler: gcc gcc (Ubuntu 9.4.0-1ubuntu1~20.04.2) 9.4.0 Ubuntu 22.04 Kernel: 5.15 Compiler: gcc gcc (Ubuntu 11.4.0-1ubuntu1~22.04) 11.4.0 FreeBSD 14.2 Kernel: 14.2-RELEASE Compiler: clang 18.1.6 Ubuntu 24.04 Kernel: 5.15 Compiler: gcc gcc (Ubuntu 13.3.0-6ubuntu2~24.04) 13.3.0 Windows Server 2022 Kernel: 10.0.20348.2031 Compiler: clang 15.0.7, gcc 14.1.0 (MinGW), and MSVC VS 19.39.33521 To view detailed results, visit: https://lab.dpdk.org/results/dashboard/tarballs/35160/ UNH-IOL DPDK Community Lab To manage your email subscriptions, visit: https://lab.dpdk.org/results/dashboard/preferences/subscriptions/