From mboxrd@z Thu Jan 1 00:00:00 1970 Return-Path: Received: from mails.dpdk.org (mails.dpdk.org [217.70.189.124]) by inbox.dpdk.org (Postfix) with ESMTP id 7B5BA488F8 for ; Fri, 10 Oct 2025 07:56:21 +0200 (CEST) Received: from mails.dpdk.org (localhost [127.0.0.1]) by mails.dpdk.org (Postfix) with ESMTP id 5A1194028C; Fri, 10 Oct 2025 07:56:21 +0200 (CEST) Received: from mail-pj1-f99.google.com (mail-pj1-f99.google.com [209.85.216.99]) by mails.dpdk.org (Postfix) with ESMTP id 02FD44028C for ; Fri, 10 Oct 2025 07:56:19 +0200 (CEST) Received: by mail-pj1-f99.google.com with SMTP id 98e67ed59e1d1-3327f8ed081so2255272a91.1 for ; Thu, 09 Oct 2025 22:56:19 -0700 (PDT) DKIM-Signature: v=1; a=rsa-sha256; c=relaxed/relaxed; d=iol.unh.edu; s=unh-iol; t=1760075779; x=1760680579; darn=dpdk.org; h=references:in-reply-to:cc:to:from:subject:message-id:date:from:to :cc:subject:date:message-id:reply-to; bh=7v1OgPENerdu7PIc7iT3Pun8Qwoa3sKym50wLgaugz0=; b=eqOnnrpgKSObs5aZBDgUgNCJ7u5I0AbMabm+e8qLJLr8L47LvNdHetj5wkEyjrSt0Y /ay19Q15xTlTg5kf/5NYvZTz9Pn418kzDp/1qg9DUo966CYQ8RcjQstDXetY/U0iy8du QqPS1NFd/v3O/KwEeb9GuGVADjlNS3VoheLjY= X-Google-DKIM-Signature: v=1; a=rsa-sha256; c=relaxed/relaxed; d=1e100.net; s=20230601; t=1760075779; x=1760680579; h=references:in-reply-to:cc:to:from:subject:message-id:date :x-gm-message-state:from:to:cc:subject:date:message-id:reply-to; bh=7v1OgPENerdu7PIc7iT3Pun8Qwoa3sKym50wLgaugz0=; b=oBotqYSDgwRZ4yRkFMPsrUV9vkQJ41XiEqc/I1bbJ86YQ7PN9/wf4HMIlNn3Iu9tRF m/bZSEtLcrDmNbA/PD7lSbhfe96HnRPMZYv/macvUfCLIquUZqXPw20H00uGT0vfBrcv ClTiJfz07aix5NltkVPEKPYZ7IphFkd7irw+Iu+/MEn9l4DXCw24Xtnv/rrvFAXU4dNn ir/dqPJYwYF78iq2mt9YnlZi2vM32vXK8b1fO8iZWwuf7TFq6VkxnluCexB488hQxDRP eIciwa6nLeCrpUMjZ053fTqHIIl6I4mtu7wtUjLOXtw/WqEzdH4YriYk4ZJ5dgrNYh98 iqAg== X-Gm-Message-State: AOJu0YxZ6YiyzW5BierHnwDQ5MPfvtT4SojEwuZh9tUdiCEIWKwDlz22 zx3dRvE4vBpV88ggQgtbsyl6fERISd1T1IBBJm0+duH4i7ub8kwekuGCu0C83bQf3lY96CVzscN NMKanTSH5VRW9TR8WqOqk1DkB9VeJxQedCxKGc2C4FdLd X-Gm-Gg: ASbGnctFH2IPQGMMjAzVaq35CwOXZchs1qiHUVttwz+AKlgjK7s/1FDMoqyefmtwEMb WK+MBuGVUnXBdaOiMt48CRGy1ZfPzZf4iz9l3fnhEGD8rzsfXe6ILgdkeU105M+ndfeMWfmk8f8 HalQOIux1lqlazFsZUwhj4PkNAFqnxNcACIRLSocwiEc44x+CEZWJsh1sTEBZVJjfaOiBtH3uiE 1YZAAGrARpmxBlT3cnI2kLjK8ruYGXQa1axjK3IPBevJlud7sPWYGsYe1wrwsppqh0yyjc3TJts NL3Ssz7vKbDVY+FYhOTNpMqhyXsNt5pvtdKTYhpXBVRps/4kBoTm9REFHN29Kz5mNmLrAu68 X-Google-Smtp-Source: AGHT+IGbIgjY1D6kz4E8R3HsD9eyHOtNlPmko/EMdXDsom2X+MLXneAzz+XfloMwDc2WXW+v0jguTmCjipHg X-Received: by 2002:a17:90b:38cb:b0:332:906a:85cd with SMTP id 98e67ed59e1d1-33b513757bemr14424515a91.19.1760075779004; Thu, 09 Oct 2025 22:56:19 -0700 (PDT) Received: from postal.iol.unh.edu (postal.iol.unh.edu. [132.177.123.84]) by smtp-relay.gmail.com with ESMTPS id 98e67ed59e1d1-33b61aae77esm188924a91.8.2025.10.09.22.56.18 (version=TLS1_2 cipher=ECDHE-ECDSA-AES128-GCM-SHA256 bits=128/128); Thu, 09 Oct 2025 22:56:18 -0700 (PDT) X-Relaying-Domain: iol.unh.edu Date: Thu, 09 Oct 2025 22:56:18 -0700 (PDT) Message-ID: <68e8a002.170a0220.3ac803.ad11SMTPIN_ADDED_MISSING@mx.google.com> Received: from [172.21.0.2] (unknown [172.18.0.240]) by postal.iol.unh.edu (Postfix) with ESMTP id 289006051830; Fri, 10 Oct 2025 01:56:18 -0400 (EDT) Subject: |SUCCESS| pw157370-157390 [PATCH] [v11,21/21] eal: allow lcore remap From: dpdklab@iol.unh.edu To: Test Report Cc: dpdk-test-reports@iol.unh.edu In-Reply-To: <20251009130056.2630343-22-bruce.richardson@intel.com> References: <20251009130056.2630343-22-bruce.richardson@intel.com> Content-Type: text/plain X-BeenThere: test-report@dpdk.org X-Mailman-Version: 2.1.29 Precedence: list List-Id: automatic DPDK test reports List-Unsubscribe: , List-Archive: List-Post: List-Help: List-Subscribe: , Errors-To: test-report-bounces@dpdk.org Test-Label: iol-compile-arm64-testing Test-Status: SUCCESS http://dpdk.org/patch/157390 _Testing PASS_ Submitter: Bruce Richardson Date: Thursday, October 09 2025 13:00:56 DPDK git baseline: Repo:dpdk Branch: master CommitID:2b403dd8fb37d0ba13723e44ffc7ee2c2795f838 157370-157390 --> testing pass Upstream job id: Generic-DPDK-Compile-Meson#432964 Test environment and result as below: +------------------------------+--------------------+ | Environment | dpdk_meson_compile | +==============================+====================+ | Red Hat Enterprise Linux 9.5 | PASS | +------------------------------+--------------------+ | Ubuntu 20.04 | PASS | +------------------------------+--------------------+ | Debian GNU/Linux 12 | PASS | +------------------------------+--------------------+ | Fedora Linux 42 | PASS | +------------------------------+--------------------+ | Ubuntu 22.04 | PASS | +------------------------------+--------------------+ | Ubuntu 24.04 | PASS | +------------------------------+--------------------+ | CentOS Stream 9 | PASS | +------------------------------+--------------------+ | CentOS Stream 10 | PASS | +------------------------------+--------------------+ Red Hat Enterprise Linux 9.5 Kernel: 5.4 Compiler: gcc gcc (GCC) 11.5.0 20240719 (Red Hat 11.5.0-2) Ubuntu 20.04 Kernel: 5.15 Compiler: aarch64-linux-gnu-gcc gcc (Ubuntu 9.4.0-1ubuntu1~20.04.2) 9.4.0 Debian GNU/Linux 12 Kernel: 5.4 Compiler: gcc gcc (Debian 12.2.0-14+deb12u1) 12.2.0 Fedora Linux 42 Kernel: 5.4 Compiler: gcc gcc (GCC) 15.2.1 20250808 (Red Hat 15.2.1-1) Ubuntu 22.04 Kernel: 5.4 Compiler: gcc gcc (Ubuntu 11.4.0-1ubuntu1~22.04) 11.4.0 Ubuntu 24.04 Kernel: 5.4 Compiler: gcc gcc (Ubuntu 13.3.0-6ubuntu2~24.04) 13.3.0 CentOS Stream 9 Kernel: 5.4 Compiler: gcc gcc (GCC) 11.5.0 20240719 (Red Hat 11.5.0-11) CentOS Stream 10 Kernel: 5.4 Compiler: gcc gcc (GCC) 14.2.1 20250110 (Red Hat 14.2.1-8) To view detailed results, visit: https://lab.dpdk.org/results/dashboard/patchsets/34246/ UNH-IOL DPDK Community Lab To manage your email subscriptions, visit: https://lab.dpdk.org/results/dashboard/preferences/subscriptions/