From mboxrd@z Thu Jan 1 00:00:00 1970 Return-Path: Received: from mails.dpdk.org (mails.dpdk.org [217.70.189.124]) by inbox.dpdk.org (Postfix) with ESMTP id DE273488FB for ; Fri, 10 Oct 2025 08:09:48 +0200 (CEST) Received: from mails.dpdk.org (localhost [127.0.0.1]) by mails.dpdk.org (Postfix) with ESMTP id D8AF64028C; Fri, 10 Oct 2025 08:09:48 +0200 (CEST) Received: from mail-ua1-f99.google.com (mail-ua1-f99.google.com [209.85.222.99]) by mails.dpdk.org (Postfix) with ESMTP id 92C984028C for ; Fri, 10 Oct 2025 08:09:47 +0200 (CEST) Received: by mail-ua1-f99.google.com with SMTP id a1e0cc1a2514c-89018e9f902so1024493241.0 for ; Thu, 09 Oct 2025 23:09:47 -0700 (PDT) DKIM-Signature: v=1; a=rsa-sha256; c=relaxed/relaxed; d=iol.unh.edu; s=unh-iol; t=1760076587; x=1760681387; darn=dpdk.org; h=cc:to:from:subject:message-id:date:from:to:cc:subject:date :message-id:reply-to; bh=r1/lFPeZ8DFut4c6A/FukmcKWp4Iogei+AP6Yt/0M9g=; b=D71eLJCK2d3S5QUee4kQv9L4SprzwmVBSuVklHkMMyFcjy01tv+A17qnG7l7qrTdes coCYITjzzqxdRs9g9qQOWIVFqRQfGFwNOkrI7bPw8lgGarYQevprv7TsafVv6hFGcy2L FcKy17P10y+I9wxkJ+dD8BrAThl4jAj5K0pzI= X-Google-DKIM-Signature: v=1; a=rsa-sha256; c=relaxed/relaxed; d=1e100.net; s=20230601; t=1760076587; x=1760681387; h=cc:to:from:subject:message-id:date:x-gm-message-state:from:to:cc :subject:date:message-id:reply-to; bh=r1/lFPeZ8DFut4c6A/FukmcKWp4Iogei+AP6Yt/0M9g=; b=k6/6o4bv1SE9oOVZavFlUz7jcYCpAEmXUluLJP8UA6hmlPomUGALUVbaaDAZfWGnYI vmeIGR0moAmZyB9gna4xl6bOr38eIlOrV5T/VMObT34ldK16+l/ROZsFq6o/EpBSLDCu L0v19nkBdMoS4V61K7PhhLPN8RW5Ij1bClCobBoehHFDDX/IHBxOR5cZTr8fN6Q3MJLY sIQ245s0rcblUaBG0X7g78mznqKMGHfEkiG+ml+ryciHy0z2QXFAgPTeaA4rZ8JMuzxP A2J4pnj3HTJhqlctlmnQJpRD53W5k6JDNylfM/CUUCJYtaJXygj12CHhXhHNEVEuzsrA prQw== X-Gm-Message-State: AOJu0YxpVeLSC97FM86x+ZZM2gf0FWx0YH9Wwom1WOLM2uiQVuKLRb+g sVB17+6cuE6h/HGM/I2vNL/a7VT2qpyJdbTYhp/XqWuyu1arTBodhhiOv02sX5p2UcIOkw+KkYq 3GgQnfoxU1j3h6lE08HUimgOEM2pOh8Y9osCr X-Gm-Gg: ASbGnctaQuqF/R7XEzSZtXP4bbvvZMd1zJXYYTMWvaplf8XxM7OYl+JMLp/Fb7uBs03 qoXgZRXIBK95EbU3tNs/PuDFACQw+RkSLFQdf6cQQmvhHPSXG+kemho3XfVUBLAW/RDDD5hYs+f CAh90Xlv7g1Ht+cvLqNLFnMNia0Kw+lYoJXleqR5Ec2AUQ/Pckl5OMCfV+oHDAj1gGC7Ylvltiy aMNVTdVgTTNzZq5lvU0d7Ez4Bn1cAW1L2g2bXYX0i27y1owr8mURcW+K67q+ARH/Ofl6IYLBqyF xf0a48X7OAGQMHY+MtO5u/7Ww33Tm4ukJMUfWp0X5cZHoK8esHwrN9Egw7ke4cdx8R+UUPGI X-Google-Smtp-Source: AGHT+IEGuc0uxswnplm6r5UVNM1Gw/GVPeIL5dAhlHzZzsBc6COvVOHoJLJB4VpY03x3IDt8wBpacreL4fz+ X-Received: by 2002:a05:6102:80a9:b0:56c:eed1:276d with SMTP id ada2fe7eead31-5d5e2323cfbmr4388673137.18.1760076586869; Thu, 09 Oct 2025 23:09:46 -0700 (PDT) Received: from postal.iol.unh.edu (postal.iol.unh.edu. [132.177.123.84]) by smtp-relay.gmail.com with ESMTPS id ada2fe7eead31-5d5fc8a7539sm210071137.3.2025.10.09.23.09.46 (version=TLS1_2 cipher=ECDHE-ECDSA-AES128-GCM-SHA256 bits=128/128); Thu, 09 Oct 2025 23:09:46 -0700 (PDT) X-Relaying-Domain: iol.unh.edu Date: Thu, 09 Oct 2025 23:09:46 -0700 (PDT) Message-ID: <68e8a32a.050a0220.11b5b5.b72cSMTPIN_ADDED_MISSING@mx.google.com> Received: from [172.21.0.2] (unknown [172.18.0.240]) by postal.iol.unh.edu (Postfix) with ESMTP id 51C7F6051830; Fri, 10 Oct 2025 02:09:46 -0400 (EDT) Subject: |SUCCESS| [GIT MASTER] b287e404643aeab5bb5db084c142789df187844e From: dpdklab@iol.unh.edu To: Test Report Cc: dpdk-test-reports@iol.unh.edu, Xueming Li , Christian Ehrhardt , Kevin Traynor , Luca Boccassi Content-Type: text/plain X-BeenThere: test-report@dpdk.org X-Mailman-Version: 2.1.29 Precedence: list List-Id: automatic DPDK test reports List-Unsubscribe: , List-Archive: List-Post: List-Help: List-Subscribe: , Errors-To: test-report-bounces@dpdk.org _Testing PASS_ Branch: tags/v24.11 b287e404643aeab5bb5db084c142789df187844e --> testing pass Upstream job id: Generic-DPDK-Compile-Meson#433064 Test environment and result as below: +-------------------------------+--------------------+-------------------+------------------+-------------------+-------------------------+----------------------+ | Environment | dpdk_meson_compile | dpdk_compile_spdk | dpdk_compile_ovs | dpdk_msvc_compile | dpdk_llvm_clang_compile | dpdk_mingw64_compile | +===============================+====================+===================+==================+===================+=========================+======================+ | CentOS Stream 9 | PASS | PASS | SKIPPED | SKIPPED | SKIPPED | SKIPPED | +-------------------------------+--------------------+-------------------+------------------+-------------------+-------------------------+----------------------+ | CentOS Stream 10 | PASS | SKIPPED | SKIPPED | SKIPPED | SKIPPED | SKIPPED | +-------------------------------+--------------------+-------------------+------------------+-------------------+-------------------------+----------------------+ | Ubuntu 20.04 | PASS | SKIPPED | SKIPPED | SKIPPED | SKIPPED | SKIPPED | +-------------------------------+--------------------+-------------------+------------------+-------------------+-------------------------+----------------------+ | Debian GNU/Linux 12 | PASS | PASS | SKIPPED | SKIPPED | SKIPPED | SKIPPED | +-------------------------------+--------------------+-------------------+------------------+-------------------+-------------------------+----------------------+ | Fedora Linux 42 | PASS | PASS | PASS | SKIPPED | SKIPPED | SKIPPED | +-------------------------------+--------------------+-------------------+------------------+-------------------+-------------------------+----------------------+ | openSUSE Leap 15.6 | PASS | SKIPPED | SKIPPED | SKIPPED | SKIPPED | SKIPPED | +-------------------------------+--------------------+-------------------+------------------+-------------------+-------------------------+----------------------+ | Red Hat Enterprise Linux 8.10 | PASS | SKIPPED | SKIPPED | SKIPPED | SKIPPED | SKIPPED | +-------------------------------+--------------------+-------------------+------------------+-------------------+-------------------------+----------------------+ | Red Hat Enterprise Linux 9.5 | PASS | SKIPPED | SKIPPED | SKIPPED | SKIPPED | SKIPPED | +-------------------------------+--------------------+-------------------+------------------+-------------------+-------------------------+----------------------+ | Ubuntu 22.04 | PASS | PASS | SKIPPED | SKIPPED | SKIPPED | SKIPPED | +-------------------------------+--------------------+-------------------+------------------+-------------------+-------------------------+----------------------+ | Ubuntu 24.04 | PASS | PASS | PASS | SKIPPED | SKIPPED | SKIPPED | +-------------------------------+--------------------+-------------------+------------------+-------------------+-------------------------+----------------------+ | Alpine Linux 3.22.0 | PASS | SKIPPED | SKIPPED | SKIPPED | SKIPPED | SKIPPED | +-------------------------------+--------------------+-------------------+------------------+-------------------+-------------------------+----------------------+ | FreeBSD 14.2 | PASS | SKIPPED | SKIPPED | SKIPPED | SKIPPED | SKIPPED | +-------------------------------+--------------------+-------------------+------------------+-------------------+-------------------------+----------------------+ | Windows Server 2022 | SKIPPED | SKIPPED | SKIPPED | PASS | PASS | PASS | +-------------------------------+--------------------+-------------------+------------------+-------------------+-------------------------+----------------------+ CentOS Stream 9 Kernel: 5.15 Compiler: gcc gcc (GCC) 11.5.0 20240719 (Red Hat 11.5.0-11) CentOS Stream 10 Kernel: 5.15 Compiler: gcc gcc (GCC) 14.2.1 20250110 (Red Hat 14.2.1-8) Ubuntu 20.04 Kernel: 4.19 Compiler: gcc gcc (Ubuntu 9.4.0-1ubuntu1~20.04.2) 9.4.0 Debian GNU/Linux 12 Kernel: 5.15 Compiler: gcc gcc (Debian 12.2.0-14+deb12u1) 12.2.0 Fedora Linux 42 Kernel: 5.15 Compiler: clang gcc (GCC) 15.2.1 20250808 (Red Hat 15.2.1-1) openSUSE Leap 15.6 Kernel: 5.15 Compiler: gcc gcc (SUSE Linux) 7.5.0 Red Hat Enterprise Linux 8.10 Kernel: 5.15 Compiler: gcc gcc (GCC) 8.5.0 20210514 (Red Hat 8.5.0-22) Red Hat Enterprise Linux 9.5 Kernel: 5.15 Compiler: gcc gcc (GCC) 11.5.0 20240719 (Red Hat 11.5.0-2) Ubuntu 22.04 Kernel: 5.15 Compiler: gcc gcc (Ubuntu 11.4.0-1ubuntu1~22.04) 11.4.0 Ubuntu 24.04 Kernel: 5.15 Compiler: gcc gcc (Ubuntu 13.3.0-6ubuntu2~24.04) 13.3.0 Alpine Linux 3.22.0 Kernel: 5.15 Compiler: gcc gcc (Alpine 14.2.0) 14.2.0 FreeBSD 14.2 Kernel: 14.2-RELEASE Compiler: clang 18.1.6 Windows Server 2022 Kernel: 10.0.20348.2031 Compiler: clang 15.0.7, gcc 14.1.0 (MinGW), and MSVC VS 19.39.33521 To view detailed results, visit: https://lab.dpdk.org/results/dashboard/tarballs/35162/ UNH-IOL DPDK Community Lab To manage your email subscriptions, visit: https://lab.dpdk.org/results/dashboard/preferences/subscriptions/