From mboxrd@z Thu Jan 1 00:00:00 1970 Return-Path: Received: from mails.dpdk.org (mails.dpdk.org [217.70.189.124]) by inbox.dpdk.org (Postfix) with ESMTP id 09EAC488FB for ; Fri, 10 Oct 2025 08:32:44 +0200 (CEST) Received: from mails.dpdk.org (localhost [127.0.0.1]) by mails.dpdk.org (Postfix) with ESMTP id D79014028C; Fri, 10 Oct 2025 08:32:43 +0200 (CEST) Received: from mail-io1-f98.google.com (mail-io1-f98.google.com [209.85.166.98]) by mails.dpdk.org (Postfix) with ESMTP id 885614028C for ; Fri, 10 Oct 2025 08:32:42 +0200 (CEST) Received: by mail-io1-f98.google.com with SMTP id ca18e2360f4ac-8ca2e53c37bso170079739f.3 for ; Thu, 09 Oct 2025 23:32:42 -0700 (PDT) DKIM-Signature: v=1; a=rsa-sha256; c=relaxed/relaxed; d=iol.unh.edu; s=unh-iol; t=1760077962; x=1760682762; darn=dpdk.org; h=references:in-reply-to:cc:to:from:subject:message-id:date:from:to :cc:subject:date:message-id:reply-to; bh=+s3jOcUWFj8dR0CnGKRL3jLjbAEaceLKvraXEyJ/Adk=; b=UWnkL8FxKjg81vF/wAxDnss1A9DAzUmNsGleHFLdpFE9ALPKuNffaBPI0ETdUQa+CR NCvZg9GjbNSbQhoBVTkdtSzafK/Zwss40p/YoJTo0TuxBW6Xdt8S47gCIoL5AQWo7JtC lljKazQ/at/wpajaoL8hzDhll3Ilt7vPMklDM= X-Google-DKIM-Signature: v=1; a=rsa-sha256; c=relaxed/relaxed; d=1e100.net; s=20230601; t=1760077962; x=1760682762; h=references:in-reply-to:cc:to:from:subject:message-id:date :x-gm-message-state:from:to:cc:subject:date:message-id:reply-to; bh=+s3jOcUWFj8dR0CnGKRL3jLjbAEaceLKvraXEyJ/Adk=; b=YOvo6KzxmEOlQSd5XwRp80lO1BUo9tzTXFagMyodmHLpbHoEv8bkgx+WhyDf0qjAHj oZw+QNi2O4hKOBnu4okTkAAeyeon4OP0bGErphMb7P8h6jkhasfZSWzv1apkvO6+AIIc j+KEhnA6LBpXuACgjjC407klI1rhc74QM3aCqsIEhB4EnGrIaXTFrelSRcw46rEGZdBd etf+oSFGnuphBctTqNwZQCrdFILba+yCFjnxqCF7i1T2qVSP5VpHYmw7XB6mwYchnEsX bP7HgW+9+OuKkxCzad/WT1LgM20wiQ76BDer/QcY2Ie3uTgCB49bEptPamrcYy+/eeJA UJBw== X-Gm-Message-State: AOJu0YwmyId6sSPVZHNAfG9E/EHrQ8KK38JS9SvPggctnLmICSfy5+nt D8VvaW7mg1+3+hDNgDReBV0SSKFJ/x+WogwglP3/NqumSkVJ1dAZbk1d/r/V/AIwCsxC6OKhaT5 ph9rTfGseZoZIe9DmSboGcTY+w9xC5LO1bI/CtH+DEFjNTAMs4ni4MN8l0Lnf X-Gm-Gg: ASbGncuIcgWNtsTWMiJHQLSyBO37lLteldS7patzmE+V6m6LjHzkkobaPoHMRZCSj9J 9bTeILtd9YaRMKbwiVh2Hqr+PUzHbwaygaoRGHgmj3n75tYP4yLLxDXb8M8X0VDXFrZ5btowCQu l8r1aBeg8S0JoLg6r84rplqwYJDQkB/FLepEJxUnsDuyuRLJzaB5O8Km/6XxTbSWAsiq/7kjyLo Oj6jTVrU93y9HbfPkjsAGj8OCIM3fuWRXt88sA16buSpqIswNMOZsZMYJvVr0eGbSBl0RvyEvr7 6nHpPmwsGana2cf/NYRWb+HgaImRVMrwtXJdEVyVMuJ8Y0UM3A== X-Google-Smtp-Source: AGHT+IHESudOOd01MY6apyN3PVA1A9lk6n6x8jOjtnEsaFbA8M7Ki529X1imLCn2SViugaw0jlvr77FxY1+F X-Received: by 2002:a05:6602:13d2:b0:937:6516:62e9 with SMTP id ca18e2360f4ac-93bd19341acmr1246936639f.9.1760077961765; Thu, 09 Oct 2025 23:32:41 -0700 (PDT) Received: from postal.iol.unh.edu (postal.iol.unh.edu. [2606:4100:3880:1234::84]) by smtp-relay.gmail.com with ESMTPS id 8926c6da1cb9f-58f71e1d443sm128173173.39.2025.10.09.23.32.41 (version=TLS1_2 cipher=ECDHE-ECDSA-AES128-GCM-SHA256 bits=128/128); Thu, 09 Oct 2025 23:32:41 -0700 (PDT) X-Relaying-Domain: iol.unh.edu Date: Thu, 09 Oct 2025 23:32:41 -0700 (PDT) Message-ID: <68e8a889.050a0220.2b7703.68caSMTPIN_ADDED_MISSING@mx.google.com> Received: from [172.21.0.2] (unknown [172.18.0.240]) by postal.iol.unh.edu (Postfix) with ESMTP id 2C2ED6051830; Fri, 10 Oct 2025 02:32:41 -0400 (EDT) Subject: |SUCCESS| pw157357-157356 [PATCH] [v3,2/2] net/iavf: add restore com From: dpdklab@iol.unh.edu To: Test Report Cc: dpdk-test-reports@iol.unh.edu, Bruce Richardson In-Reply-To: <20251009102835.926479-2-ciara.loftus@intel.com> References: <20251009102835.926479-2-ciara.loftus@intel.com> Content-Type: text/plain X-BeenThere: test-report@dpdk.org X-Mailman-Version: 2.1.29 Precedence: list List-Id: automatic DPDK test reports List-Unsubscribe: , List-Archive: List-Post: List-Help: List-Subscribe: , Errors-To: test-report-bounces@dpdk.org Test-Label: iol-unit-arm64-testing Test-Status: SUCCESS http://dpdk.org/patch/157356 _Testing PASS_ Submitter: Loftus, Ciara Date: Thursday, October 09 2025 10:28:35 DPDK git baseline: Repo:dpdk-next-net-intel Branch: master CommitID:21c1fe280a2480dcd7edbb3e51cc2f9a37c1c6e0 157357-157356 --> testing pass Upstream job id: Generic-Unit-Test-DPDK#379922 Test environment and result as below: +------------------------------+---------------------------+--------------+------------------------------+----------------+ | Environment | cryptodev_sw_zuc_autotest | lpm_autotest | cryptodev_sw_snow3g_autotest | dpdk_unit_test | +==============================+===========================+==============+==============================+================+ | Debian 12 (arm) | PASS | SKIPPED | PASS | SKIPPED | +------------------------------+---------------------------+--------------+------------------------------+----------------+ | Ubuntu 20.04 | SKIPPED | PASS | SKIPPED | PASS | +------------------------------+---------------------------+--------------+------------------------------+----------------+ | Ubuntu 22.04 | SKIPPED | SKIPPED | SKIPPED | PASS | +------------------------------+---------------------------+--------------+------------------------------+----------------+ | CentOS Stream 9 | SKIPPED | SKIPPED | SKIPPED | PASS | +------------------------------+---------------------------+--------------+------------------------------+----------------+ | CentOS Stream 10 | SKIPPED | SKIPPED | SKIPPED | PASS | +------------------------------+---------------------------+--------------+------------------------------+----------------+ | Fedora Linux 40 | SKIPPED | SKIPPED | SKIPPED | PASS | +------------------------------+---------------------------+--------------+------------------------------+----------------+ | Debian GNU/Linux 12 | SKIPPED | SKIPPED | SKIPPED | PASS | +------------------------------+---------------------------+--------------+------------------------------+----------------+ | Fedora Linux 41 | SKIPPED | SKIPPED | SKIPPED | PASS | +------------------------------+---------------------------+--------------+------------------------------+----------------+ | Fedora Linux 42 | SKIPPED | SKIPPED | SKIPPED | PASS | +------------------------------+---------------------------+--------------+------------------------------+----------------+ | Red Hat Enterprise Linux 9.5 | SKIPPED | SKIPPED | SKIPPED | PASS | +------------------------------+---------------------------+--------------+------------------------------+----------------+ | Ubuntu 24.04 | SKIPPED | SKIPPED | SKIPPED | PASS | +------------------------------+---------------------------+--------------+------------------------------+----------------+ Debian 12 (arm) Kernel: Depends on container host Compiler: gcc (Debian 12.2.0-14) 12.2.0 Ubuntu 20.04 Kernel: 5.4 Compiler: gcc gcc (Ubuntu 9.4.0-1ubuntu1~20.04.2) 9.4.0 Ubuntu 22.04 Kernel: 5.15 Compiler: gcc gcc (Ubuntu 11.4.0-1ubuntu1~22.04.2) 11.4.0 CentOS Stream 9 Kernel: 5.4 Compiler: gcc gcc (GCC) 11.5.0 20240719 (Red Hat 11.5.0-11) CentOS Stream 10 Kernel: 5.4 Compiler: gcc gcc (GCC) 14.2.1 20250110 (Red Hat 14.2.1-8) Fedora Linux 40 Kernel: 5.4 Compiler: clang gcc (GCC) 14.2.1 20240912 (Red Hat 14.2.1-3) Debian GNU/Linux 12 Kernel: 5.4 Compiler: gcc gcc (Debian 12.2.0-14+deb12u1) 12.2.0 Fedora Linux 41 Kernel: 5.4 Compiler: gcc gcc (GCC) 14.3.1 20250523 (Red Hat 14.3.1-1) Fedora Linux 42 Kernel: 5.4 Compiler: clang gcc (GCC) 15.2.1 20250808 (Red Hat 15.2.1-1) Red Hat Enterprise Linux 9.5 Kernel: 5.4 Compiler: gcc gcc (GCC) 11.5.0 20240719 (Red Hat 11.5.0-2) Ubuntu 24.04 Kernel: 5.4 Compiler: gcc gcc (Ubuntu 13.3.0-6ubuntu2~24.04) 13.3.0 To view detailed results, visit: https://lab.dpdk.org/results/dashboard/patchsets/34244/ UNH-IOL DPDK Community Lab To manage your email subscriptions, visit: https://lab.dpdk.org/results/dashboard/preferences/subscriptions/