From mboxrd@z Thu Jan 1 00:00:00 1970 Return-Path: Received: from mails.dpdk.org (mails.dpdk.org [217.70.189.124]) by inbox.dpdk.org (Postfix) with ESMTP id 6703E488FD for ; Fri, 10 Oct 2025 10:29:39 +0200 (CEST) Received: from mails.dpdk.org (localhost [127.0.0.1]) by mails.dpdk.org (Postfix) with ESMTP id 3D17240285; Fri, 10 Oct 2025 10:29:39 +0200 (CEST) Received: from mail-yw1-f225.google.com (mail-yw1-f225.google.com [209.85.128.225]) by mails.dpdk.org (Postfix) with ESMTP id ED0C840285 for ; Fri, 10 Oct 2025 10:29:37 +0200 (CEST) Received: by mail-yw1-f225.google.com with SMTP id 00721157ae682-77f9fb3bea0so15912297b3.3 for ; Fri, 10 Oct 2025 01:29:37 -0700 (PDT) DKIM-Signature: v=1; a=rsa-sha256; c=relaxed/relaxed; d=iol.unh.edu; s=unh-iol; t=1760084977; x=1760689777; darn=dpdk.org; h=references:in-reply-to:cc:to:from:subject:message-id:date:from:to :cc:subject:date:message-id:reply-to; bh=VTRxAtgmo58J1a+jdblB2Y6dneMDzYzxG9NDoDueR98=; b=GTh2KrNWj+gDQIF+stPFoTOmF63lHqL9jFT0t9cmNjINp2WDmQ3XTYQhhVNmHq+Mc0 WoK8taK1t9FDiWRgJ7PB+lLtqyN7Xav1xq5a9hxkDLoJDRxKJiEBC4hjwbY6Ilqyx+zH HLmx2TKCO5UZo+x2Lr0X3uiKO0lZQPquyqOO0= X-Google-DKIM-Signature: v=1; a=rsa-sha256; c=relaxed/relaxed; d=1e100.net; s=20230601; t=1760084977; x=1760689777; h=references:in-reply-to:cc:to:from:subject:message-id:date :x-gm-message-state:from:to:cc:subject:date:message-id:reply-to; bh=VTRxAtgmo58J1a+jdblB2Y6dneMDzYzxG9NDoDueR98=; b=t0Ut8YvMcNcYuKz2EvaAH2Qxyl4nnYE4iGiqnPXDmiA8YyUBzZ+zVCFzJ2ApbghsbM obckKlufwk+NpQBIgv6J2kVGOkp+tObciqkAjxYO5Gf5GQZmAwbiDjhXoPBXN9oIfOCG U56dswpafLchsHG6wYRt3ObR/vKik5142h/jp7mK5dmrxRKDdpPW5pko0fVPQmDv4cB1 DeAWfFaem0szP7wA1TAz7koxWR7yHmf9LI9SRG54WBmByLtpZtzICCOLpXXT2Gj+Ajw2 jGRZSGQ2epUpDphCxtKS4+f90X+5KUKMPSPkKfQgqIpEagWqRc64Q5qx6n6zJwdRewJv NbFA== X-Gm-Message-State: AOJu0Yzws6CyFzfKQe7zhT7XdrfBmDQdgipAb9E4dHYSlofH9vhSe8Xp 468yBuRgaJkzjCwWPbgLrN9jnmHEzV+Ltm7uQtrIHwf+AbDkGK+UsZQlE5snPO7gNpwGkKKRuiZ lab9p6SI9sVLtQgcocB6lHHMKHekgxV3P9T5Mfl4oPxiNeJaPI62/mbpFx0L+ X-Gm-Gg: ASbGncvpACmb9J3O/4QuX3/DkPxbdhk9BXmkUE0sEnG8OogWg7rP/8YBBirxW/8ETXW 3/87j6dQYB8sVduooklawHaRhIjojI2Fa+KV5sNZlgJYWudqkcqBZ1wb/3GoQI8hdnYx+8iFmkA u1c2OZaspp7DsTeWHyL/JCARhZqCT5R3Qa/MV2XxMPYfhY/N/2sIQgKXKnfEcZSbdjuyNGvJBaQ fNfSJTcplDbZCt0gd23aZGHGWkTcM3pLQpDPphp4BV/uJZpLlWufzPg2Ig9atZ6ATweyoAEhZdK OFA6OLPmXbWPstvINNDieVxJDBWaRanhJF/eiWRDyQ+4V/Ibyg== X-Google-Smtp-Source: AGHT+IEFEL3EIHTlQPBtR1OADDDjmzoqOZ2Tq6DGY3Ud4casH9wqpFcTefsnGLpRhRwWzSHjK1a19r9GmMPY X-Received: by 2002:a05:690c:7286:b0:77f:949a:d08e with SMTP id 00721157ae682-780e173f363mr124345537b3.26.1760084977222; Fri, 10 Oct 2025 01:29:37 -0700 (PDT) Received: from postal.iol.unh.edu (postal.iol.unh.edu. [2606:4100:3880:1234::84]) by smtp-relay.gmail.com with ESMTPS id 00721157ae682-7810700d629sm1037337b3.26.2025.10.10.01.29.37 (version=TLS1_2 cipher=ECDHE-ECDSA-AES128-GCM-SHA256 bits=128/128); Fri, 10 Oct 2025 01:29:37 -0700 (PDT) X-Relaying-Domain: iol.unh.edu Date: Fri, 10 Oct 2025 01:29:37 -0700 (PDT) Message-ID: <68e8c3f1.050a0220.1a14aa.55a0SMTPIN_ADDED_MISSING@mx.google.com> Received: from [172.21.0.2] (unknown [172.18.0.240]) by postal.iol.unh.edu (Postfix) with ESMTP id DB96D6051830; Fri, 10 Oct 2025 04:29:36 -0400 (EDT) Subject: |SUCCESS| pw157444-157447 [PATCH] [v3,4/4] net/rnp: resolve coredump From: dpdklab@iol.unh.edu To: Test Report Cc: dpdk-test-reports@iol.unh.edu, Stephen Hemminger In-Reply-To: <20251010070122.161401-5-caowenbo@mucse.com> References: <20251010070122.161401-5-caowenbo@mucse.com> Content-Type: text/plain X-BeenThere: test-report@dpdk.org X-Mailman-Version: 2.1.29 Precedence: list List-Id: automatic DPDK test reports List-Unsubscribe: , List-Archive: List-Post: List-Help: List-Subscribe: , Errors-To: test-report-bounces@dpdk.org Test-Label: iol-unit-amd64-testing Test-Status: SUCCESS http://dpdk.org/patch/157447 _Testing PASS_ Submitter: Wenbo Cao Date: Friday, October 10 2025 07:01:22 DPDK git baseline: Repo:dpdk-next-net Branch: master CommitID:c04bbd131b2c14b3049bf86d3ef367b34e6fdf1e 157444-157447 --> testing pass Upstream job id: Generic-VM-Unit-Test-DPDK#31702 Test environment and result as below: +-------------------------------+----------------+ | Environment | dpdk_unit_test | +===============================+================+ | Fedora Linux 40 | PASS | +-------------------------------+----------------+ | CentOS Stream 9 | PASS | +-------------------------------+----------------+ | Fedora Linux 41 | PASS | +-------------------------------+----------------+ | Windows Server 2022 | PASS | +-------------------------------+----------------+ | Fedora Linux 42 | PASS | +-------------------------------+----------------+ | Debian GNU/Linux 12 | PASS | +-------------------------------+----------------+ | Red Hat Enterprise Linux 9.5 | PASS | +-------------------------------+----------------+ | CentOS Stream 10 | PASS | +-------------------------------+----------------+ | Red Hat Enterprise Linux 8.10 | PASS | +-------------------------------+----------------+ | Ubuntu 24.04 | PASS | +-------------------------------+----------------+ | Ubuntu 22.04 | PASS | +-------------------------------+----------------+ | Ubuntu 20.04 | PASS | +-------------------------------+----------------+ Fedora Linux 40 Kernel: 5.15 Compiler: gcc gcc (GCC) 14.2.1 20240912 (Red Hat 14.2.1-3) CentOS Stream 9 Kernel: 5.15 Compiler: gcc gcc (GCC) 11.5.0 20240719 (Red Hat 11.5.0-11) Fedora Linux 41 Kernel: 5.15 Compiler: gcc gcc (GCC) 14.3.1 20250523 (Red Hat 14.3.1-1) Windows Server 2022 Kernel: 10.0.20348.2031 Compiler: clang 15.0.7, gcc 14.1.0 (MinGW), and MSVC VS 19.39.33521 Fedora Linux 42 Kernel: 5.15 Compiler: gcc gcc (GCC) 15.2.1 20250808 (Red Hat 15.2.1-1) Debian GNU/Linux 12 Kernel: 5.15 Compiler: gcc gcc (Debian 12.2.0-14+deb12u1) 12.2.0 Red Hat Enterprise Linux 9.5 Kernel: 5.15 Compiler: gcc gcc (GCC) 11.5.0 20240719 (Red Hat 11.5.0-2) CentOS Stream 10 Kernel: 5.15 Compiler: gcc gcc (GCC) 14.2.1 20250110 (Red Hat 14.2.1-8) Red Hat Enterprise Linux 8.10 Kernel: 5.15 Compiler: gcc gcc (GCC) 8.5.0 20210514 (Red Hat 8.5.0-22) Ubuntu 24.04 Kernel: 5.15 Compiler: gcc gcc (Ubuntu 13.3.0-6ubuntu2~24.04) 13.3.0 Ubuntu 22.04 Kernel: 5.15 Compiler: gcc gcc (Ubuntu 11.4.0-1ubuntu1~22.04) 11.4.0 Ubuntu 20.04 Kernel: 5.15 Compiler: gcc gcc (Ubuntu 9.4.0-1ubuntu1~20.04.2) 9.4.0 To view detailed results, visit: https://lab.dpdk.org/results/dashboard/patchsets/34249/ UNH-IOL DPDK Community Lab To manage your email subscriptions, visit: https://lab.dpdk.org/results/dashboard/preferences/subscriptions/