From mboxrd@z Thu Jan 1 00:00:00 1970 Return-Path: Received: from mails.dpdk.org (mails.dpdk.org [217.70.189.124]) by inbox.dpdk.org (Postfix) with ESMTP id 1039B488FD for ; Fri, 10 Oct 2025 10:33:01 +0200 (CEST) Received: from mails.dpdk.org (localhost [127.0.0.1]) by mails.dpdk.org (Postfix) with ESMTP id 09DFF40285; Fri, 10 Oct 2025 10:33:01 +0200 (CEST) Received: from mail-yw1-f227.google.com (mail-yw1-f227.google.com [209.85.128.227]) by mails.dpdk.org (Postfix) with ESMTP id 1128440285 for ; Fri, 10 Oct 2025 10:32:59 +0200 (CEST) Received: by mail-yw1-f227.google.com with SMTP id 00721157ae682-77f947312a5so17451117b3.2 for ; Fri, 10 Oct 2025 01:32:59 -0700 (PDT) DKIM-Signature: v=1; a=rsa-sha256; c=relaxed/relaxed; d=iol.unh.edu; s=unh-iol; t=1760085178; x=1760689978; darn=dpdk.org; h=references:in-reply-to:cc:to:from:subject:message-id:date:from:to :cc:subject:date:message-id:reply-to; bh=URS9Xd0Zldn2Z1rZYLkTI6Hgq8qTxEep3e8yrGx/E18=; b=cjoDM7jYLibsGMfF+B0dYUTL95O9LwYx6TrAIq3sXb+7gjGGyaVZ8wvtw6Epqrtezi SrOXI9uJv6LEF/WsypbVBD0crvXXbu5mR5koY4Xue01T5uLCOarsO/AKYLgVoX+4Mdu/ fChSuu1FG1k2yn7f/TsE6vD0l+4JuoIbt7MZ8= X-Google-DKIM-Signature: v=1; a=rsa-sha256; c=relaxed/relaxed; d=1e100.net; s=20230601; t=1760085178; x=1760689978; h=references:in-reply-to:cc:to:from:subject:message-id:date :x-gm-message-state:from:to:cc:subject:date:message-id:reply-to; bh=URS9Xd0Zldn2Z1rZYLkTI6Hgq8qTxEep3e8yrGx/E18=; b=p7Vc8ij+OlzF8LtIIqqwi0kLA2xYp5++Ec4+6MJQtMST4KUFcQ+dSx1EBw65xBJHQo oRGBoQ++iJpWDHiEb9I4GZTTJGDkzlT8Qcwug8gxaCZApijEOUuQtAAOxKUFnkPfZ7pZ isv5vDBh4OZcTtcCczgvOZ3MelZWDrzaR0uD23I1Msjn5NwMEXHm48LecipM12QCR98f hEEWnP1Q1E+sILtB5xUhQ38/hVgdnaSRAXkC+XfjV36g5J6F0693V9LL928kJ5SVtQjy p0nLPS4/3VJ6xbm/5LdNYSgaAhPcnW3AC0zB/kHJpGbSiyz2CStCrqeG6XyrYkPQvSPh s4ZA== X-Gm-Message-State: AOJu0YxTUypjKcoUftU12ofj0zvmfFT+HRsdSRH2897G2uE9dNJRZpZ/ I94vxuYXSKmvryGa3oNpOcPze5love+m4eWf4Qt0BjVEYo9ljIXbgHTbillOHkkv10ZwW1vcgUt c8zSmtW98zVZombsccQAnXBwqAjI5H9LXsf9LNTh3gn7l7OJKCVuio++dSbel X-Gm-Gg: ASbGncu4PGmVrRgt4Uu5gX0nRSpyWQtvkaTD1p7EXnPVWbymh5zLY36eQ5G9xBttq0i 4tvc4lndBdfLmKkClW1nGp4dZ7tsfzHmaNCKIZP4vcRX9+poyvpq2d2NDzb4Oh0raKek4Y/Z1Z0 3EYEqws/q8a6CndBRXu7xrnKHOLdaNSISBruRUmxZTzpX+nkCRnuesZ2GPPgaUxLb79HXaxBNRo Kt7u6nhV4O/Ak2Vq0gvD1U5OiGVzeVZVw19tTLd7YjUYrpisWyW4ycuiw+K/LUMa6KyNcJpBU+m NP7rXd+taRNhMM/pVLUMsQjJ6UR8gwch0Kg3wL2C+UP0hSoU5A== X-Google-Smtp-Source: AGHT+IHwh4Wa40cym7LzAXVCl71+eM/iN84LDp/LK6iMNu/e6NRg+DMRZqG1r91fS75o7ivxTlAycobGU2xT X-Received: by 2002:a05:690c:7083:b0:76e:ff1e:c712 with SMTP id 00721157ae682-780e15f2f0cmr134456837b3.54.1760085178289; Fri, 10 Oct 2025 01:32:58 -0700 (PDT) Received: from postal.iol.unh.edu (postal.iol.unh.edu. [2606:4100:3880:1234::84]) by smtp-relay.gmail.com with ESMTPS id 00721157ae682-78106cf9a95sm975887b3.4.2025.10.10.01.32.58 (version=TLS1_2 cipher=ECDHE-ECDSA-AES128-GCM-SHA256 bits=128/128); Fri, 10 Oct 2025 01:32:58 -0700 (PDT) X-Relaying-Domain: iol.unh.edu Date: Fri, 10 Oct 2025 01:32:58 -0700 (PDT) Message-ID: <68e8c4ba.050a0220.2ada66.5166SMTPIN_ADDED_MISSING@mx.google.com> Received: from [172.21.0.2] (unknown [172.18.0.240]) by postal.iol.unh.edu (Postfix) with ESMTP id F300B6051830; Fri, 10 Oct 2025 04:32:57 -0400 (EDT) Subject: |SUCCESS| pw157444-157447 [PATCH] [v3,4/4] net/rnp: resolve coredump From: dpdklab@iol.unh.edu To: Test Report Cc: dpdk-test-reports@iol.unh.edu, Stephen Hemminger In-Reply-To: <20251010070122.161401-5-caowenbo@mucse.com> References: <20251010070122.161401-5-caowenbo@mucse.com> Content-Type: text/plain X-BeenThere: test-report@dpdk.org X-Mailman-Version: 2.1.29 Precedence: list List-Id: automatic DPDK test reports List-Unsubscribe: , List-Archive: List-Post: List-Help: List-Subscribe: , Errors-To: test-report-bounces@dpdk.org Test-Label: iol-compile-amd64-testing Test-Status: SUCCESS http://dpdk.org/patch/157447 _Testing PASS_ Submitter: Wenbo Cao Date: Friday, October 10 2025 07:01:22 DPDK git baseline: Repo:dpdk-next-net Branch: master CommitID:c04bbd131b2c14b3049bf86d3ef367b34e6fdf1e 157444-157447 --> testing pass Upstream job id: Generic-DPDK-Compile-Meson#433088 Test environment and result as below: +-------------------------------+--------------------+-------------------------+-------------------+------------------+-------------------+----------------------+ | Environment | dpdk_meson_compile | dpdk_llvm_clang_compile | dpdk_msvc_compile | dpdk_compile_ovs | dpdk_compile_spdk | dpdk_mingw64_compile | +===============================+====================+=========================+===================+==================+===================+======================+ | Ubuntu 20.04 | PASS | SKIPPED | SKIPPED | SKIPPED | SKIPPED | SKIPPED | +-------------------------------+--------------------+-------------------------+-------------------+------------------+-------------------+----------------------+ | FreeBSD 14.2 | PASS | SKIPPED | SKIPPED | SKIPPED | SKIPPED | SKIPPED | +-------------------------------+--------------------+-------------------------+-------------------+------------------+-------------------+----------------------+ | CentOS Stream 10 | PASS | SKIPPED | SKIPPED | SKIPPED | SKIPPED | SKIPPED | +-------------------------------+--------------------+-------------------------+-------------------+------------------+-------------------+----------------------+ | Fedora Linux 42 | PASS | SKIPPED | SKIPPED | PASS | PASS | SKIPPED | +-------------------------------+--------------------+-------------------------+-------------------+------------------+-------------------+----------------------+ | Debian GNU/Linux 12 | PASS | SKIPPED | SKIPPED | SKIPPED | PASS | SKIPPED | +-------------------------------+--------------------+-------------------------+-------------------+------------------+-------------------+----------------------+ | CentOS Stream 9 | PASS | SKIPPED | SKIPPED | SKIPPED | PASS | SKIPPED | +-------------------------------+--------------------+-------------------------+-------------------+------------------+-------------------+----------------------+ | Red Hat Enterprise Linux 9.5 | PASS | SKIPPED | SKIPPED | SKIPPED | SKIPPED | SKIPPED | +-------------------------------+--------------------+-------------------------+-------------------+------------------+-------------------+----------------------+ | openSUSE Leap 15.6 | PASS | SKIPPED | SKIPPED | SKIPPED | SKIPPED | SKIPPED | +-------------------------------+--------------------+-------------------------+-------------------+------------------+-------------------+----------------------+ | Red Hat Enterprise Linux 8.10 | PASS | SKIPPED | SKIPPED | SKIPPED | SKIPPED | SKIPPED | +-------------------------------+--------------------+-------------------------+-------------------+------------------+-------------------+----------------------+ | Ubuntu 24.04 | PASS | SKIPPED | SKIPPED | PASS | PASS | SKIPPED | +-------------------------------+--------------------+-------------------------+-------------------+------------------+-------------------+----------------------+ | Alpine Linux 3.22.0 | PASS | SKIPPED | SKIPPED | SKIPPED | SKIPPED | SKIPPED | +-------------------------------+--------------------+-------------------------+-------------------+------------------+-------------------+----------------------+ | Ubuntu 22.04 | PASS | SKIPPED | SKIPPED | SKIPPED | PASS | SKIPPED | +-------------------------------+--------------------+-------------------------+-------------------+------------------+-------------------+----------------------+ | Windows Server 2022 | SKIPPED | PASS | PASS | SKIPPED | SKIPPED | PASS | +-------------------------------+--------------------+-------------------------+-------------------+------------------+-------------------+----------------------+ Ubuntu 20.04 Kernel: 4.19 Compiler: gcc gcc (Ubuntu 9.4.0-1ubuntu1~20.04.2) 9.4.0 FreeBSD 14.2 Kernel: 14.2-RELEASE Compiler: clang 18.1.6 CentOS Stream 10 Kernel: 5.15 Compiler: gcc gcc (GCC) 14.2.1 20250110 (Red Hat 14.2.1-8) Fedora Linux 42 Kernel: 5.15 Compiler: clang gcc (GCC) 15.2.1 20250808 (Red Hat 15.2.1-1) Debian GNU/Linux 12 Kernel: 5.15 Compiler: gcc gcc (Debian 12.2.0-14+deb12u1) 12.2.0 CentOS Stream 9 Kernel: 5.15 Compiler: gcc gcc (GCC) 11.5.0 20240719 (Red Hat 11.5.0-11) Red Hat Enterprise Linux 9.5 Kernel: 5.15 Compiler: gcc gcc (GCC) 11.5.0 20240719 (Red Hat 11.5.0-2) openSUSE Leap 15.6 Kernel: 5.15 Compiler: gcc gcc (SUSE Linux) 7.5.0 Red Hat Enterprise Linux 8.10 Kernel: 5.15 Compiler: gcc gcc (GCC) 8.5.0 20210514 (Red Hat 8.5.0-22) Ubuntu 24.04 Kernel: 5.15 Compiler: gcc gcc (Ubuntu 13.3.0-6ubuntu2~24.04) 13.3.0 Alpine Linux 3.22.0 Kernel: 5.15 Compiler: gcc gcc (Alpine 14.2.0) 14.2.0 Ubuntu 22.04 Kernel: 5.15 Compiler: gcc gcc (Ubuntu 11.4.0-1ubuntu1~22.04) 11.4.0 Windows Server 2022 Kernel: 10.0.20348.2031 Compiler: clang 15.0.7, gcc 14.1.0 (MinGW), and MSVC VS 19.39.33521 To view detailed results, visit: https://lab.dpdk.org/results/dashboard/patchsets/34249/ UNH-IOL DPDK Community Lab To manage your email subscriptions, visit: https://lab.dpdk.org/results/dashboard/preferences/subscriptions/