From mboxrd@z Thu Jan 1 00:00:00 1970 Return-Path: Received: from mails.dpdk.org (mails.dpdk.org [217.70.189.124]) by inbox.dpdk.org (Postfix) with ESMTP id 1C1A8488FD for ; Fri, 10 Oct 2025 10:33:12 +0200 (CEST) Received: from mails.dpdk.org (localhost [127.0.0.1]) by mails.dpdk.org (Postfix) with ESMTP id 1884B40285; Fri, 10 Oct 2025 10:33:12 +0200 (CEST) Received: from mail-il1-f228.google.com (mail-il1-f228.google.com [209.85.166.228]) by mails.dpdk.org (Postfix) with ESMTP id 71BCB40285 for ; Fri, 10 Oct 2025 10:33:10 +0200 (CEST) Received: by mail-il1-f228.google.com with SMTP id e9e14a558f8ab-42f9f5a9992so1519815ab.2 for ; Fri, 10 Oct 2025 01:33:10 -0700 (PDT) DKIM-Signature: v=1; a=rsa-sha256; c=relaxed/relaxed; d=iol.unh.edu; s=unh-iol; t=1760085190; x=1760689990; darn=dpdk.org; h=references:in-reply-to:cc:to:from:subject:message-id:date:from:to :cc:subject:date:message-id:reply-to; bh=m7bTlDBToVLzYdnup2N2pS8zBr3ez4jXFbs64Ub6mqU=; b=aKCp9gfdIzD4ncjrbaOYN5qrBj4ba0mWqhi7nQFVxFgWWFGKjLTZ4Tq1whUO5OUniA 4lmLRBA8ndMFv3O0h0IdFZ2+BzGXzxJSoZ6G4pSdhhcj4xJWQ2InRLJnxoYl54d2iDjk ZyEUdC1khuaUZijddVJz/5oJGTecOIbOC4E4o= X-Google-DKIM-Signature: v=1; a=rsa-sha256; c=relaxed/relaxed; d=1e100.net; s=20230601; t=1760085190; x=1760689990; h=references:in-reply-to:cc:to:from:subject:message-id:date :x-gm-message-state:from:to:cc:subject:date:message-id:reply-to; bh=m7bTlDBToVLzYdnup2N2pS8zBr3ez4jXFbs64Ub6mqU=; b=WB2NGAFhPhEzgK7vp5mSwoK1C9KeEPbooNxbNLpE1BeJhXwMHQoTgWREJYuqttXczK fGmu6fnUir9AUx8qSFvK4AyrwsRCBrg+dq2nFI67WuFtCxf7aTMxpHeT2bJxU93q3xH3 mSRGy6+fAwli0VGS5pP778/WHPokCaBYdfGcyf2CJw4fTb3/ps4eHVz9D3JPgT8xJZ3o 51P2IEMq7/mbGrdw9KA+SftloA282+dJjpzlkltDAL9gIOwPRgkXTG52pEdBQT1JUxOp 1p+fA7aKVLKnSYz2Au5sJ+rUb27U2KQIv9fcqYrtHpp67IdqdYZwe21RlqIqIHzdLfN6 YR1Q== X-Gm-Message-State: AOJu0YwZhktuadP7Lk+TwebPyU0xdK4miRQw2YrRJEfmG+VTsXfpfNTe 0BEcUHMN9u4E17UllKcbygo55e9tGbGwTDFKmqSrZITltjMcAoARlCOlnLky3IG7hA8Kx172HzT Z2RPlUPbYVkrqtzjNVZfPTuT00fhFjlMkYXEPyywDigZHP4evK3nWUQynQLQX X-Gm-Gg: ASbGncuTxnbepMFxS1dfQPn7KCC9W66DqUjVVe9WBoGeY0yhn65s7u6rWa968ZmRre/ q+GYJOIgvaKDIuC19nBVmhPcel0GPjEHWKrjzeQhNuOKqD2gfYAGxmYlZZN8ArwQszWSFVf11Yx +oQWxRy8YugVsIEthDOLMPoxuNZ3EgQszsYLd52hDpMeGku03Dt9s9I+DMfLkMuaJCTxQ/eNko8 qD3MGXBMyvSLRwnGgybzS3X2ESlmNrA35C4nbPX35zeMlxztGzG0/WEkCRmPY3G35WRKuZOgJes 4ZRR6ttsfcnZBNSKH+BYsxpPN1lBH26nhWeSyEwtlHSP/9nxrQ== X-Google-Smtp-Source: AGHT+IGbyrrWrR5Rbw7kNktO6wFWahxhzDapY4hv0LewyesPneMc4REjdmvGpJdJFZwnBdmMdQlc4CNQ0Mom X-Received: by 2002:a05:6e02:1a8f:b0:42d:7d52:db62 with SMTP id e9e14a558f8ab-42f87350419mr111427635ab.6.1760085189786; Fri, 10 Oct 2025 01:33:09 -0700 (PDT) Received: from postal.iol.unh.edu (postal.iol.unh.edu. [2606:4100:3880:1234::84]) by smtp-relay.gmail.com with ESMTPS id e9e14a558f8ab-42f90347fefsm3204335ab.27.2025.10.10.01.33.09 (version=TLS1_2 cipher=ECDHE-ECDSA-AES128-GCM-SHA256 bits=128/128); Fri, 10 Oct 2025 01:33:09 -0700 (PDT) X-Relaying-Domain: iol.unh.edu Date: Fri, 10 Oct 2025 01:33:09 -0700 (PDT) Message-ID: <68e8c4c5.050a0220.3016f1.093fSMTPIN_ADDED_MISSING@mx.google.com> Received: from [172.21.0.6] (unknown [172.18.0.240]) by postal.iol.unh.edu (Postfix) with ESMTP id 595D66051830; Fri, 10 Oct 2025 04:33:09 -0400 (EDT) Subject: |SUCCESS| pw157444-157447 [PATCH] [v3,4/4] net/rnp: resolve coredump From: dpdklab@iol.unh.edu To: Test Report Cc: dpdk-test-reports@iol.unh.edu, Stephen Hemminger In-Reply-To: <20251010070122.161401-5-caowenbo@mucse.com> References: <20251010070122.161401-5-caowenbo@mucse.com> Content-Type: text/plain X-BeenThere: test-report@dpdk.org X-Mailman-Version: 2.1.29 Precedence: list List-Id: automatic DPDK test reports List-Unsubscribe: , List-Archive: List-Post: List-Help: List-Subscribe: , Errors-To: test-report-bounces@dpdk.org Test-Label: iol-compile-amd64-testing Test-Status: SUCCESS http://dpdk.org/patch/157447 _Testing PASS_ Submitter: Wenbo Cao Date: Friday, October 10 2025 07:01:22 DPDK git baseline: Repo:dpdk-next-net Branch: master CommitID:c04bbd131b2c14b3049bf86d3ef367b34e6fdf1e 157444-157447 --> testing pass Upstream job id: Windows-Compile-DPDK-Native#31532 Test environment and result as below: +-------------------------------+--------------------+-------------------------+-------------------+------------------+-------------------+----------------------+ | Environment | dpdk_meson_compile | dpdk_llvm_clang_compile | dpdk_msvc_compile | dpdk_compile_ovs | dpdk_compile_spdk | dpdk_mingw64_compile | +===============================+====================+=========================+===================+==================+===================+======================+ | Ubuntu 20.04 | PASS | SKIPPED | SKIPPED | SKIPPED | SKIPPED | SKIPPED | +-------------------------------+--------------------+-------------------------+-------------------+------------------+-------------------+----------------------+ | FreeBSD 14.2 | PASS | SKIPPED | SKIPPED | SKIPPED | SKIPPED | SKIPPED | +-------------------------------+--------------------+-------------------------+-------------------+------------------+-------------------+----------------------+ | CentOS Stream 10 | PASS | SKIPPED | SKIPPED | SKIPPED | SKIPPED | SKIPPED | +-------------------------------+--------------------+-------------------------+-------------------+------------------+-------------------+----------------------+ | Fedora Linux 42 | PASS | SKIPPED | SKIPPED | PASS | PASS | SKIPPED | +-------------------------------+--------------------+-------------------------+-------------------+------------------+-------------------+----------------------+ | Debian GNU/Linux 12 | PASS | SKIPPED | SKIPPED | SKIPPED | PASS | SKIPPED | +-------------------------------+--------------------+-------------------------+-------------------+------------------+-------------------+----------------------+ | CentOS Stream 9 | PASS | SKIPPED | SKIPPED | SKIPPED | PASS | SKIPPED | +-------------------------------+--------------------+-------------------------+-------------------+------------------+-------------------+----------------------+ | Red Hat Enterprise Linux 9.5 | PASS | SKIPPED | SKIPPED | SKIPPED | SKIPPED | SKIPPED | +-------------------------------+--------------------+-------------------------+-------------------+------------------+-------------------+----------------------+ | openSUSE Leap 15.6 | PASS | SKIPPED | SKIPPED | SKIPPED | SKIPPED | SKIPPED | +-------------------------------+--------------------+-------------------------+-------------------+------------------+-------------------+----------------------+ | Red Hat Enterprise Linux 8.10 | PASS | SKIPPED | SKIPPED | SKIPPED | SKIPPED | SKIPPED | +-------------------------------+--------------------+-------------------------+-------------------+------------------+-------------------+----------------------+ | Ubuntu 24.04 | PASS | SKIPPED | SKIPPED | PASS | PASS | SKIPPED | +-------------------------------+--------------------+-------------------------+-------------------+------------------+-------------------+----------------------+ | Alpine Linux 3.22.0 | PASS | SKIPPED | SKIPPED | SKIPPED | SKIPPED | SKIPPED | +-------------------------------+--------------------+-------------------------+-------------------+------------------+-------------------+----------------------+ | Ubuntu 22.04 | PASS | SKIPPED | SKIPPED | SKIPPED | PASS | SKIPPED | +-------------------------------+--------------------+-------------------------+-------------------+------------------+-------------------+----------------------+ | Windows Server 2022 | SKIPPED | PASS | PASS | SKIPPED | SKIPPED | PASS | +-------------------------------+--------------------+-------------------------+-------------------+------------------+-------------------+----------------------+ Ubuntu 20.04 Kernel: 4.19 Compiler: gcc gcc (Ubuntu 9.4.0-1ubuntu1~20.04.2) 9.4.0 FreeBSD 14.2 Kernel: 14.2-RELEASE Compiler: clang 18.1.6 CentOS Stream 10 Kernel: 5.15 Compiler: gcc gcc (GCC) 14.2.1 20250110 (Red Hat 14.2.1-8) Fedora Linux 42 Kernel: 5.15 Compiler: clang gcc (GCC) 15.2.1 20250808 (Red Hat 15.2.1-1) Debian GNU/Linux 12 Kernel: 5.15 Compiler: gcc gcc (Debian 12.2.0-14+deb12u1) 12.2.0 CentOS Stream 9 Kernel: 5.15 Compiler: gcc gcc (GCC) 11.5.0 20240719 (Red Hat 11.5.0-11) Red Hat Enterprise Linux 9.5 Kernel: 5.15 Compiler: gcc gcc (GCC) 11.5.0 20240719 (Red Hat 11.5.0-2) openSUSE Leap 15.6 Kernel: 5.15 Compiler: gcc gcc (SUSE Linux) 7.5.0 Red Hat Enterprise Linux 8.10 Kernel: 5.15 Compiler: gcc gcc (GCC) 8.5.0 20210514 (Red Hat 8.5.0-22) Ubuntu 24.04 Kernel: 5.15 Compiler: gcc gcc (Ubuntu 13.3.0-6ubuntu2~24.04) 13.3.0 Alpine Linux 3.22.0 Kernel: 5.15 Compiler: gcc gcc (Alpine 14.2.0) 14.2.0 Ubuntu 22.04 Kernel: 5.15 Compiler: gcc gcc (Ubuntu 11.4.0-1ubuntu1~22.04) 11.4.0 Windows Server 2022 Kernel: 10.0.20348.2031 Compiler: clang 15.0.7, gcc 14.1.0 (MinGW), and MSVC VS 19.39.33521 To view detailed results, visit: https://lab.dpdk.org/results/dashboard/patchsets/34249/ UNH-IOL DPDK Community Lab To manage your email subscriptions, visit: https://lab.dpdk.org/results/dashboard/preferences/subscriptions/