automatic DPDK test reports
 help / color / mirror / Atom feed
From: dpdklab@iol.unh.edu
To: Test Report <test-report@dpdk.org>
Cc: dpdk-test-reports@iol.unh.edu,
	Stephen Hemminger <stephen@networkplumber.org>
Subject: |SUCCESS| pw157444-157447 [PATCH] [v3,4/4] net/rnp: resolve coredump
Date: Fri, 10 Oct 2025 01:33:14 -0700 (PDT)	[thread overview]
Message-ID: <68e8c4ca.c80a0220.2ffab1.5e77SMTPIN_ADDED_MISSING@mx.google.com> (raw)
In-Reply-To: <20251010070122.161401-5-caowenbo@mucse.com>

Test-Label: iol-compile-amd64-testing
Test-Status: SUCCESS
http://dpdk.org/patch/157447

_Testing PASS_

Submitter: Wenbo Cao <caowenbo@mucse.com>
Date: Friday, October 10 2025 07:01:22 
DPDK git baseline: Repo:dpdk-next-net
  Branch: master
  CommitID:c04bbd131b2c14b3049bf86d3ef367b34e6fdf1e

157444-157447 --> testing pass

Upstream job id: Generic-DPDK-Compile-Meson#433094

Test environment and result as below:

+-------------------------------+--------------------+-------------------------+-------------------+------------------+-------------------+----------------------+
|          Environment          | dpdk_meson_compile | dpdk_llvm_clang_compile | dpdk_msvc_compile | dpdk_compile_ovs | dpdk_compile_spdk | dpdk_mingw64_compile |
+===============================+====================+=========================+===================+==================+===================+======================+
| Ubuntu 20.04                  | PASS               | SKIPPED                 | SKIPPED           | SKIPPED          | SKIPPED           | SKIPPED              |
+-------------------------------+--------------------+-------------------------+-------------------+------------------+-------------------+----------------------+
| FreeBSD 14.2                  | PASS               | SKIPPED                 | SKIPPED           | SKIPPED          | SKIPPED           | SKIPPED              |
+-------------------------------+--------------------+-------------------------+-------------------+------------------+-------------------+----------------------+
| CentOS Stream 10              | PASS               | SKIPPED                 | SKIPPED           | SKIPPED          | SKIPPED           | SKIPPED              |
+-------------------------------+--------------------+-------------------------+-------------------+------------------+-------------------+----------------------+
| Fedora Linux 42               | PASS               | SKIPPED                 | SKIPPED           | PASS             | PASS              | SKIPPED              |
+-------------------------------+--------------------+-------------------------+-------------------+------------------+-------------------+----------------------+
| Debian GNU/Linux 12           | PASS               | SKIPPED                 | SKIPPED           | SKIPPED          | PASS              | SKIPPED              |
+-------------------------------+--------------------+-------------------------+-------------------+------------------+-------------------+----------------------+
| CentOS Stream 9               | PASS               | SKIPPED                 | SKIPPED           | SKIPPED          | PASS              | SKIPPED              |
+-------------------------------+--------------------+-------------------------+-------------------+------------------+-------------------+----------------------+
| Red Hat Enterprise Linux 9.5  | PASS               | SKIPPED                 | SKIPPED           | SKIPPED          | SKIPPED           | SKIPPED              |
+-------------------------------+--------------------+-------------------------+-------------------+------------------+-------------------+----------------------+
| openSUSE Leap 15.6            | PASS               | SKIPPED                 | SKIPPED           | SKIPPED          | SKIPPED           | SKIPPED              |
+-------------------------------+--------------------+-------------------------+-------------------+------------------+-------------------+----------------------+
| Red Hat Enterprise Linux 8.10 | PASS               | SKIPPED                 | SKIPPED           | SKIPPED          | SKIPPED           | SKIPPED              |
+-------------------------------+--------------------+-------------------------+-------------------+------------------+-------------------+----------------------+
| Ubuntu 24.04                  | PASS               | SKIPPED                 | SKIPPED           | PASS             | PASS              | SKIPPED              |
+-------------------------------+--------------------+-------------------------+-------------------+------------------+-------------------+----------------------+
| Alpine Linux 3.22.0           | PASS               | SKIPPED                 | SKIPPED           | SKIPPED          | SKIPPED           | SKIPPED              |
+-------------------------------+--------------------+-------------------------+-------------------+------------------+-------------------+----------------------+
| Ubuntu 22.04                  | PASS               | SKIPPED                 | SKIPPED           | SKIPPED          | PASS              | SKIPPED              |
+-------------------------------+--------------------+-------------------------+-------------------+------------------+-------------------+----------------------+
| Windows Server 2022           | SKIPPED            | PASS                    | PASS              | SKIPPED          | SKIPPED           | PASS                 |
+-------------------------------+--------------------+-------------------------+-------------------+------------------+-------------------+----------------------+


Ubuntu 20.04
	Kernel: 4.19
	Compiler: gcc gcc (Ubuntu 9.4.0-1ubuntu1~20.04.2) 9.4.0

FreeBSD 14.2
	Kernel: 14.2-RELEASE
	Compiler: clang 18.1.6

CentOS Stream 10
	Kernel: 5.15
	Compiler: gcc gcc (GCC) 14.2.1 20250110 (Red Hat 14.2.1-8)

Fedora Linux 42
	Kernel: 5.15
	Compiler: clang gcc (GCC) 15.2.1 20250808 (Red Hat 15.2.1-1)

Debian GNU/Linux 12
	Kernel: 5.15
	Compiler: gcc gcc (Debian 12.2.0-14+deb12u1) 12.2.0

CentOS Stream 9
	Kernel: 5.15
	Compiler: gcc gcc (GCC) 11.5.0 20240719 (Red Hat 11.5.0-11)

Red Hat Enterprise Linux 9.5
	Kernel: 5.15
	Compiler: gcc gcc (GCC) 11.5.0 20240719 (Red Hat 11.5.0-2)

openSUSE Leap 15.6
	Kernel: 5.15
	Compiler: gcc gcc (SUSE Linux) 7.5.0

Red Hat Enterprise Linux 8.10
	Kernel: 5.15
	Compiler: gcc gcc (GCC) 8.5.0 20210514 (Red Hat 8.5.0-22)

Ubuntu 24.04
	Kernel: 5.15
	Compiler: gcc gcc (Ubuntu 13.3.0-6ubuntu2~24.04) 13.3.0

Alpine Linux 3.22.0
	Kernel: 5.15
	Compiler: gcc gcc (Alpine 14.2.0) 14.2.0

Ubuntu 22.04
	Kernel: 5.15
	Compiler: gcc gcc (Ubuntu 11.4.0-1ubuntu1~22.04) 11.4.0

Windows Server 2022
	Kernel: 10.0.20348.2031
	Compiler: clang 15.0.7, gcc 14.1.0 (MinGW), and MSVC VS 19.39.33521

To view detailed results, visit:
https://lab.dpdk.org/results/dashboard/patchsets/34249/

UNH-IOL DPDK Community Lab

To manage your email subscriptions, visit: 
https://lab.dpdk.org/results/dashboard/preferences/subscriptions/

  parent reply	other threads:[~2025-10-10  8:33 UTC|newest]

Thread overview: 24+ messages / expand[flat|nested]  mbox.gz  Atom feed  top
     [not found] <20251010070122.161401-5-caowenbo@mucse.com>
2025-10-10  6:27 ` |SUCCESS| pw157444-157447 [PATCH v3 4/4] net/rnp: resolve coredump caused by memory overflow qemudev
2025-10-10  6:32 ` qemudev
2025-10-10  7:03 ` |SUCCESS| pw157447 " checkpatch
2025-10-10  7:32 ` |PENDING| pw157444-157447 [PATCH] [v3,4/4] net/rnp: resolve coredump dpdklab
2025-10-10  7:35 ` |SUCCESS| " dpdklab
2025-10-10  7:38 ` |PENDING| " dpdklab
2025-10-10  7:39 ` |SUCCESS| " dpdklab
2025-10-10  7:43 ` |PENDING| " dpdklab
2025-10-10  7:47 ` dpdklab
2025-10-10  7:53 ` |SUCCESS| " dpdklab
2025-10-10  7:54 ` dpdklab
2025-10-10  7:56 ` dpdklab
2025-10-10  8:21 ` dpdklab
2025-10-10  8:29 ` dpdklab
2025-10-10  8:31 ` dpdklab
2025-10-10  8:32 ` dpdklab
2025-10-10  8:32 ` dpdklab
2025-10-10  8:33 ` dpdklab
2025-10-10  8:33 ` dpdklab [this message]
2025-10-10  8:47 ` |SUCCESS| pw157447 [PATCH v3 4/4] net/rnp: resolve coredump caused by memory overflow 0-day Robot
2025-10-10  8:47 ` 0-day Robot
2025-10-10  8:56 ` |SUCCESS| pw157444-157447 [PATCH] [v3,4/4] net/rnp: resolve coredump dpdklab
2025-10-10  9:01 ` dpdklab
2025-10-10 11:22 ` dpdklab

Reply instructions:

You may reply publicly to this message via plain-text email
using any one of the following methods:

* Save the following mbox file, import it into your mail client,
  and reply-to-all from there: mbox

  Avoid top-posting and favor interleaved quoting:
  https://en.wikipedia.org/wiki/Posting_style#Interleaved_style

* Reply using the --to, --cc, and --in-reply-to
  switches of git-send-email(1):

  git send-email \
    --in-reply-to=68e8c4ca.c80a0220.2ffab1.5e77SMTPIN_ADDED_MISSING@mx.google.com \
    --to=dpdklab@iol.unh.edu \
    --cc=dpdk-test-reports@iol.unh.edu \
    --cc=stephen@networkplumber.org \
    --cc=test-report@dpdk.org \
    /path/to/YOUR_REPLY

  https://kernel.org/pub/software/scm/git/docs/git-send-email.html

* If your mail client supports setting the In-Reply-To header
  via mailto: links, try the mailto: link
Be sure your reply has a Subject: header at the top and a blank line before the message body.
This is a public inbox, see mirroring instructions
for how to clone and mirror all data and code used for this inbox;
as well as URLs for NNTP newsgroup(s).