From mboxrd@z Thu Jan 1 00:00:00 1970 Return-Path: Received: from mails.dpdk.org (mails.dpdk.org [217.70.189.124]) by inbox.dpdk.org (Postfix) with ESMTP id 287EC488FD for ; Fri, 10 Oct 2025 10:33:17 +0200 (CEST) Received: from mails.dpdk.org (localhost [127.0.0.1]) by mails.dpdk.org (Postfix) with ESMTP id 2309440285; Fri, 10 Oct 2025 10:33:17 +0200 (CEST) Received: from mail-qk1-f226.google.com (mail-qk1-f226.google.com [209.85.222.226]) by mails.dpdk.org (Postfix) with ESMTP id 5FFB940285 for ; Fri, 10 Oct 2025 10:33:15 +0200 (CEST) Received: by mail-qk1-f226.google.com with SMTP id af79cd13be357-859b2ec0556so203054085a.0 for ; Fri, 10 Oct 2025 01:33:15 -0700 (PDT) DKIM-Signature: v=1; a=rsa-sha256; c=relaxed/relaxed; d=iol.unh.edu; s=unh-iol; t=1760085195; x=1760689995; darn=dpdk.org; h=references:in-reply-to:cc:to:from:subject:message-id:date:from:to :cc:subject:date:message-id:reply-to; bh=SErawCygI+RZrI1EisW+7V9CyyAeGSJcaUbjPmGcaCQ=; b=EmXGpSS2l/CjOa+f0q9JLLT2rodkEBD//ulkMISSIPb+mbMf7ELreKKXIWF0Okw72g +3YV5jNrng0VdBVDSm6vOQq3FIDxMAmUjPTQ5fNU9Tw+/rWCB2+1LQlA/XLVEMiPHvOp MOz43igmuHK9f5mhnEao6FjVbfxW+o6fmn5TY= X-Google-DKIM-Signature: v=1; a=rsa-sha256; c=relaxed/relaxed; d=1e100.net; s=20230601; t=1760085195; x=1760689995; h=references:in-reply-to:cc:to:from:subject:message-id:date :x-gm-message-state:from:to:cc:subject:date:message-id:reply-to; bh=SErawCygI+RZrI1EisW+7V9CyyAeGSJcaUbjPmGcaCQ=; b=k2HPu/r/r9GQFqbAK6NBMLfculqWYFNL1KVI+b6gmbmIz6hCvzzkoLMx/aMqbk4CgR GLYP8zvq9PaBtT53F1fXjP7dHnKoRdtVGwigsPGC0YEBO3rINncYAnAC1fayJuSxrnI0 CJDqaUu6zJipf8KgXtYT6aGiqMB35TlmHsoIZPojwaYMIyiRRIuBqu431W7TUxmL0kcW 0sADrvpfCq/fjGZpTQTrE95ezigM6Ly7rK7BSo44bSpdGmtlTB0Xk/UbOYUzVOyrmdnt cdAjItfpZNCV96hYGEhvOx3fW2RL2GH3yRtMbcYN2Hlf8v26OARGNoPH05q8OpAAkjG2 hd6A== X-Gm-Message-State: AOJu0YxX9JNyXleO7kIMmWFLqHXk2fRNFpspBQP7q0JfpPaKFTe5jrwW uGlM6kSbJ7IxAVc5MXRJIBTtN9MtTcsigg2SPr16WZanXYIS2Fu8RaOqic6TNxZIkvvR/FHzoO4 mAPPzkrkWnImMCzlZg/snPRJ5ZUwlayucJv7uwf+H591h X-Gm-Gg: ASbGncvnh0LqIvhqa5fpXE+q271lkeDVpV1E2jVkcIDu2Sw5nHIhXheE3piOpqC1MmO ckCH9wbnhBPuB/YE0fiz/oLYS2eTd3pJU6nAOF/mzEWRMC0ql5sDYqlmZqS2DeMgs0gBpbT84SF HDyHZeaQZf0FHmf+uBuWm1F3y6fq7b3wXTv2g7XoShLK3L7ejIVDoypZTYY0p5UfSu2asBUfUvU BR/FkTBNy6yk/5aaT9omWOlbFC+Sely1A15ZmUCHKkmWZL62bHBfOV2HQqzp5BcLzZohEBjAicE K+g3oXyAkAypJhazAP/E2AojQmMNUEwQy+PJgSxPAKWbB7v8JA15DvvsasoNByiu4lTJC5qz X-Google-Smtp-Source: AGHT+IEPfUBbB3FvYLsonqtdmtvRjPLvxaZViJdrQWuhv/MVZGtz5CZ2Fyd5t+RAZkAl2Gjrmvyj30tXu9sh X-Received: by 2002:a05:620a:c54:b0:85e:24c3:a609 with SMTP id af79cd13be357-8835088e59fmr1860650385a.22.1760085194636; Fri, 10 Oct 2025 01:33:14 -0700 (PDT) Received: from postal.iol.unh.edu (postal.iol.unh.edu. [132.177.123.84]) by smtp-relay.gmail.com with ESMTPS id d75a77b69052e-4e706eca803sm1148851cf.7.2025.10.10.01.33.14 (version=TLS1_2 cipher=ECDHE-ECDSA-AES128-GCM-SHA256 bits=128/128); Fri, 10 Oct 2025 01:33:14 -0700 (PDT) X-Relaying-Domain: iol.unh.edu Date: Fri, 10 Oct 2025 01:33:14 -0700 (PDT) Message-ID: <68e8c4ca.c80a0220.2ffab1.5e77SMTPIN_ADDED_MISSING@mx.google.com> Received: from [172.21.0.9] (unknown [172.18.0.240]) by postal.iol.unh.edu (Postfix) with ESMTP id 604306051830; Fri, 10 Oct 2025 04:33:14 -0400 (EDT) Subject: |SUCCESS| pw157444-157447 [PATCH] [v3,4/4] net/rnp: resolve coredump From: dpdklab@iol.unh.edu To: Test Report Cc: dpdk-test-reports@iol.unh.edu, Stephen Hemminger In-Reply-To: <20251010070122.161401-5-caowenbo@mucse.com> References: <20251010070122.161401-5-caowenbo@mucse.com> Content-Type: text/plain X-BeenThere: test-report@dpdk.org X-Mailman-Version: 2.1.29 Precedence: list List-Id: automatic DPDK test reports List-Unsubscribe: , List-Archive: List-Post: List-Help: List-Subscribe: , Errors-To: test-report-bounces@dpdk.org Test-Label: iol-compile-amd64-testing Test-Status: SUCCESS http://dpdk.org/patch/157447 _Testing PASS_ Submitter: Wenbo Cao Date: Friday, October 10 2025 07:01:22 DPDK git baseline: Repo:dpdk-next-net Branch: master CommitID:c04bbd131b2c14b3049bf86d3ef367b34e6fdf1e 157444-157447 --> testing pass Upstream job id: Generic-DPDK-Compile-Meson#433094 Test environment and result as below: +-------------------------------+--------------------+-------------------------+-------------------+------------------+-------------------+----------------------+ | Environment | dpdk_meson_compile | dpdk_llvm_clang_compile | dpdk_msvc_compile | dpdk_compile_ovs | dpdk_compile_spdk | dpdk_mingw64_compile | +===============================+====================+=========================+===================+==================+===================+======================+ | Ubuntu 20.04 | PASS | SKIPPED | SKIPPED | SKIPPED | SKIPPED | SKIPPED | +-------------------------------+--------------------+-------------------------+-------------------+------------------+-------------------+----------------------+ | FreeBSD 14.2 | PASS | SKIPPED | SKIPPED | SKIPPED | SKIPPED | SKIPPED | +-------------------------------+--------------------+-------------------------+-------------------+------------------+-------------------+----------------------+ | CentOS Stream 10 | PASS | SKIPPED | SKIPPED | SKIPPED | SKIPPED | SKIPPED | +-------------------------------+--------------------+-------------------------+-------------------+------------------+-------------------+----------------------+ | Fedora Linux 42 | PASS | SKIPPED | SKIPPED | PASS | PASS | SKIPPED | +-------------------------------+--------------------+-------------------------+-------------------+------------------+-------------------+----------------------+ | Debian GNU/Linux 12 | PASS | SKIPPED | SKIPPED | SKIPPED | PASS | SKIPPED | +-------------------------------+--------------------+-------------------------+-------------------+------------------+-------------------+----------------------+ | CentOS Stream 9 | PASS | SKIPPED | SKIPPED | SKIPPED | PASS | SKIPPED | +-------------------------------+--------------------+-------------------------+-------------------+------------------+-------------------+----------------------+ | Red Hat Enterprise Linux 9.5 | PASS | SKIPPED | SKIPPED | SKIPPED | SKIPPED | SKIPPED | +-------------------------------+--------------------+-------------------------+-------------------+------------------+-------------------+----------------------+ | openSUSE Leap 15.6 | PASS | SKIPPED | SKIPPED | SKIPPED | SKIPPED | SKIPPED | +-------------------------------+--------------------+-------------------------+-------------------+------------------+-------------------+----------------------+ | Red Hat Enterprise Linux 8.10 | PASS | SKIPPED | SKIPPED | SKIPPED | SKIPPED | SKIPPED | +-------------------------------+--------------------+-------------------------+-------------------+------------------+-------------------+----------------------+ | Ubuntu 24.04 | PASS | SKIPPED | SKIPPED | PASS | PASS | SKIPPED | +-------------------------------+--------------------+-------------------------+-------------------+------------------+-------------------+----------------------+ | Alpine Linux 3.22.0 | PASS | SKIPPED | SKIPPED | SKIPPED | SKIPPED | SKIPPED | +-------------------------------+--------------------+-------------------------+-------------------+------------------+-------------------+----------------------+ | Ubuntu 22.04 | PASS | SKIPPED | SKIPPED | SKIPPED | PASS | SKIPPED | +-------------------------------+--------------------+-------------------------+-------------------+------------------+-------------------+----------------------+ | Windows Server 2022 | SKIPPED | PASS | PASS | SKIPPED | SKIPPED | PASS | +-------------------------------+--------------------+-------------------------+-------------------+------------------+-------------------+----------------------+ Ubuntu 20.04 Kernel: 4.19 Compiler: gcc gcc (Ubuntu 9.4.0-1ubuntu1~20.04.2) 9.4.0 FreeBSD 14.2 Kernel: 14.2-RELEASE Compiler: clang 18.1.6 CentOS Stream 10 Kernel: 5.15 Compiler: gcc gcc (GCC) 14.2.1 20250110 (Red Hat 14.2.1-8) Fedora Linux 42 Kernel: 5.15 Compiler: clang gcc (GCC) 15.2.1 20250808 (Red Hat 15.2.1-1) Debian GNU/Linux 12 Kernel: 5.15 Compiler: gcc gcc (Debian 12.2.0-14+deb12u1) 12.2.0 CentOS Stream 9 Kernel: 5.15 Compiler: gcc gcc (GCC) 11.5.0 20240719 (Red Hat 11.5.0-11) Red Hat Enterprise Linux 9.5 Kernel: 5.15 Compiler: gcc gcc (GCC) 11.5.0 20240719 (Red Hat 11.5.0-2) openSUSE Leap 15.6 Kernel: 5.15 Compiler: gcc gcc (SUSE Linux) 7.5.0 Red Hat Enterprise Linux 8.10 Kernel: 5.15 Compiler: gcc gcc (GCC) 8.5.0 20210514 (Red Hat 8.5.0-22) Ubuntu 24.04 Kernel: 5.15 Compiler: gcc gcc (Ubuntu 13.3.0-6ubuntu2~24.04) 13.3.0 Alpine Linux 3.22.0 Kernel: 5.15 Compiler: gcc gcc (Alpine 14.2.0) 14.2.0 Ubuntu 22.04 Kernel: 5.15 Compiler: gcc gcc (Ubuntu 11.4.0-1ubuntu1~22.04) 11.4.0 Windows Server 2022 Kernel: 10.0.20348.2031 Compiler: clang 15.0.7, gcc 14.1.0 (MinGW), and MSVC VS 19.39.33521 To view detailed results, visit: https://lab.dpdk.org/results/dashboard/patchsets/34249/ UNH-IOL DPDK Community Lab To manage your email subscriptions, visit: https://lab.dpdk.org/results/dashboard/preferences/subscriptions/