From mboxrd@z Thu Jan 1 00:00:00 1970 Return-Path: Received: from mails.dpdk.org (mails.dpdk.org [217.70.189.124]) by inbox.dpdk.org (Postfix) with ESMTP id 43486488FD for ; Fri, 10 Oct 2025 10:49:16 +0200 (CEST) Received: from mails.dpdk.org (localhost [127.0.0.1]) by mails.dpdk.org (Postfix) with ESMTP id 38DC340285; Fri, 10 Oct 2025 10:49:16 +0200 (CEST) Received: from mail-oa1-f98.google.com (mail-oa1-f98.google.com [209.85.160.98]) by mails.dpdk.org (Postfix) with ESMTP id 9D7E240285 for ; Fri, 10 Oct 2025 10:49:15 +0200 (CEST) Received: by mail-oa1-f98.google.com with SMTP id 586e51a60fabf-30cce534a91so636525fac.0 for ; Fri, 10 Oct 2025 01:49:15 -0700 (PDT) DKIM-Signature: v=1; a=rsa-sha256; c=relaxed/relaxed; d=iol.unh.edu; s=unh-iol; t=1760086155; x=1760690955; darn=dpdk.org; h=references:in-reply-to:cc:to:from:subject:message-id:date:from:to :cc:subject:date:message-id:reply-to; bh=wsgs8uybwRF5LF7agRE69IZhZ8oWU3iCn9tQmCnG+D0=; b=KGqTBMip69PRauO9HC4oIixhR0ofUCfRhrcRyBDruDEVAl4TJaExOouYLlpEKBtmZD TNO3mpbv9Q0LvuoAcFHZ8wh8BnFt7dRdcfCEXbWxyxIYZQgReX6SBLVGbmlAI+SSfvi2 CkY/Du9XUIr+JoL05hDLTAAVHUWaxXVq7Amu8= X-Google-DKIM-Signature: v=1; a=rsa-sha256; c=relaxed/relaxed; d=1e100.net; s=20230601; t=1760086155; x=1760690955; h=references:in-reply-to:cc:to:from:subject:message-id:date :x-gm-message-state:from:to:cc:subject:date:message-id:reply-to; bh=wsgs8uybwRF5LF7agRE69IZhZ8oWU3iCn9tQmCnG+D0=; b=CZNFxzYN/oWqVW+57y0RErVy84U68l9GuTsjz1GN9vq7cCspQxEHKQLj9AggmhBF47 xHM7b+yPYPNR2vo6f1xJXv84bBVnrNeUHVQIh/oB+Ma0sGyMZInWjwADnKS0+42nD84w 6vgWt7CP9TwpA8ACT5GjPTxkCPmZ1TFrrrTVNoEoKUR/P9tgM4hg6rLM81M+iKU9w1Wu 9ybPjVviJAgQz9quuP2Ha9ACOQhwSgTArcAwpnTJzzZY/Iwq1pXKMwIjigUhuVPwr1uX 3Sh8sZ7VB/ASTQOXynxNXfsbywSXyCdZJGw2xGykc5IojIxVGhTXjYiv2hYp+oW2Y4HD fzkw== X-Gm-Message-State: AOJu0YyHwDabggcch0dly906iVHpCq1xGeUN2PLao/eNPGu0FnUU5vRK FVUFmTsI8QTEyb8iQ0vRvdAPmEwYhctI01efk/TDU60oXnFOPlsi1Q1She3hpPlFGSP+3sagg5z L+VgX1Bm5CT5JMMfFxQFnT9rk6fJGD2Mv3WVGv/jdan+ltI01Dh+kRWfQiUji X-Gm-Gg: ASbGnctkWZClz4aVaMIbHtTTe4ynm242TCJcOEPP5o+WpXh61KQfXro65GM/zfJAqKR 7eWMpRb8FYnQtzs1rBTneHlFQAuZsZY1/fCUUeE4Hh/zaLQFP6els9GnUDcKpXJtS6xvURa4zpG c4rOPiGWgsRsxKTvHiNYghym9TCm8mqIRi+HkW1rHHPKnYrt/r7BVkVJ5KSRyHiuMSWW921rSOI 7VFaqf/K8/93BVKVBdck6Qif3NvVfj2NGE0eBq0cryCCLLmZ0E6U6Ev/GyTSSDcc1OAFPu93U0H QtHJbg6G5iup4+EwFvaUzBL1Kj1yo9Zkag0d8E7WT54N7stQHw== X-Google-Smtp-Source: AGHT+IERJz/JGZ00xONQCx4HnVaT9ryN72ksm9QAUHLBjUzWId15JT9t9GjEI/llusAGGDp3Tob+0vTCJvYp X-Received: by 2002:a05:6870:c191:b0:322:52d5:bbf6 with SMTP id 586e51a60fabf-3c0f89cfe3fmr4867088fac.25.1760086154699; Fri, 10 Oct 2025 01:49:14 -0700 (PDT) Received: from postal.iol.unh.edu (postal.iol.unh.edu. [2606:4100:3880:1234::84]) by smtp-relay.gmail.com with ESMTPS id 586e51a60fabf-3c8c86909d1sm179505fac.0.2025.10.10.01.49.14 (version=TLS1_2 cipher=ECDHE-ECDSA-AES128-GCM-SHA256 bits=128/128); Fri, 10 Oct 2025 01:49:14 -0700 (PDT) X-Relaying-Domain: iol.unh.edu Date: Fri, 10 Oct 2025 01:49:14 -0700 (PDT) Message-ID: <68e8c88a.050a0220.13c995.93fdSMTPIN_ADDED_MISSING@mx.google.com> Received: from [172.21.0.2] (unknown [172.18.0.240]) by postal.iol.unh.edu (Postfix) with ESMTP id 5282E6051830; Fri, 10 Oct 2025 04:49:14 -0400 (EDT) Subject: |SUCCESS| pw157358-157369 [PATCH] [v1,12/12] net/enetc: Add MAC and From: dpdklab@iol.unh.edu To: Test Report Cc: dpdk-test-reports@iol.unh.edu, Stephen Hemminger In-Reply-To: <20251009111633.3585957-13-vanshika.shukla@nxp.com> References: <20251009111633.3585957-13-vanshika.shukla@nxp.com> Content-Type: text/plain X-BeenThere: test-report@dpdk.org X-Mailman-Version: 2.1.29 Precedence: list List-Id: automatic DPDK test reports List-Unsubscribe: , List-Archive: List-Post: List-Help: List-Subscribe: , Errors-To: test-report-bounces@dpdk.org Test-Label: iol-unit-arm64-testing Test-Status: SUCCESS http://dpdk.org/patch/157369 _Testing PASS_ Submitter: Vanshika Shukla Date: Thursday, October 09 2025 11:16:33 DPDK git baseline: Repo:dpdk-next-net Branch: master CommitID:c04bbd131b2c14b3049bf86d3ef367b34e6fdf1e 157358-157369 --> testing pass Upstream job id: Generic-Unit-Test-DPDK#379961 Test environment and result as below: +------------------------------+----------------+--------------+------------------------------+---------------------------+ | Environment | dpdk_unit_test | lpm_autotest | cryptodev_sw_snow3g_autotest | cryptodev_sw_zuc_autotest | +==============================+================+==============+==============================+===========================+ | Fedora Linux 40 | PASS | SKIPPED | SKIPPED | SKIPPED | +------------------------------+----------------+--------------+------------------------------+---------------------------+ | CentOS Stream 9 | PASS | SKIPPED | SKIPPED | SKIPPED | +------------------------------+----------------+--------------+------------------------------+---------------------------+ | Debian GNU/Linux 12 | PASS | SKIPPED | SKIPPED | SKIPPED | +------------------------------+----------------+--------------+------------------------------+---------------------------+ | CentOS Stream 10 | PASS | SKIPPED | SKIPPED | SKIPPED | +------------------------------+----------------+--------------+------------------------------+---------------------------+ | Ubuntu 22.04 | PASS | SKIPPED | SKIPPED | SKIPPED | +------------------------------+----------------+--------------+------------------------------+---------------------------+ | Fedora Linux 41 | PASS | SKIPPED | SKIPPED | SKIPPED | +------------------------------+----------------+--------------+------------------------------+---------------------------+ | Ubuntu 20.04 | PASS | PASS | SKIPPED | SKIPPED | +------------------------------+----------------+--------------+------------------------------+---------------------------+ | Ubuntu 24.04 | PASS | SKIPPED | SKIPPED | SKIPPED | +------------------------------+----------------+--------------+------------------------------+---------------------------+ | Red Hat Enterprise Linux 9.5 | PASS | SKIPPED | SKIPPED | SKIPPED | +------------------------------+----------------+--------------+------------------------------+---------------------------+ | Fedora Linux 42 | PASS | SKIPPED | SKIPPED | SKIPPED | +------------------------------+----------------+--------------+------------------------------+---------------------------+ | Debian 12 (arm) | SKIPPED | SKIPPED | PASS | PASS | +------------------------------+----------------+--------------+------------------------------+---------------------------+ Fedora Linux 40 Kernel: 5.4 Compiler: gcc gcc (GCC) 14.2.1 20240912 (Red Hat 14.2.1-3) CentOS Stream 9 Kernel: 5.4 Compiler: gcc gcc (GCC) 11.5.0 20240719 (Red Hat 11.5.0-11) Debian GNU/Linux 12 Kernel: 5.4 Compiler: gcc gcc (Debian 12.2.0-14+deb12u1) 12.2.0 CentOS Stream 10 Kernel: 5.4 Compiler: gcc gcc (GCC) 14.2.1 20250110 (Red Hat 14.2.1-8) Ubuntu 22.04 Kernel: 5.15 Compiler: gcc gcc (Ubuntu 11.4.0-1ubuntu1~22.04.2) 11.4.0 Fedora Linux 41 Kernel: 5.4 Compiler: gcc gcc (GCC) 14.3.1 20250523 (Red Hat 14.3.1-1) Ubuntu 20.04 Kernel: 5.4 Compiler: gcc gcc (Ubuntu 9.4.0-1ubuntu1~20.04.2) 9.4.0 Ubuntu 24.04 Kernel: 5.4 Compiler: gcc gcc (Ubuntu 13.3.0-6ubuntu2~24.04) 13.3.0 Red Hat Enterprise Linux 9.5 Kernel: 5.4 Compiler: gcc gcc (GCC) 11.5.0 20240719 (Red Hat 11.5.0-2) Fedora Linux 42 Kernel: 5.4 Compiler: clang gcc (GCC) 15.2.1 20250808 (Red Hat 15.2.1-1) Debian 12 (arm) Kernel: Depends on container host Compiler: gcc (Debian 12.2.0-14) 12.2.0 To view detailed results, visit: https://lab.dpdk.org/results/dashboard/patchsets/34245/ UNH-IOL DPDK Community Lab To manage your email subscriptions, visit: https://lab.dpdk.org/results/dashboard/preferences/subscriptions/