From mboxrd@z Thu Jan 1 00:00:00 1970 Return-Path: Received: from mails.dpdk.org (mails.dpdk.org [217.70.189.124]) by inbox.dpdk.org (Postfix) with ESMTP id 6C85B488FD for ; Fri, 10 Oct 2025 10:56:13 +0200 (CEST) Received: from mails.dpdk.org (localhost [127.0.0.1]) by mails.dpdk.org (Postfix) with ESMTP id 67E774027A; Fri, 10 Oct 2025 10:56:13 +0200 (CEST) Received: from mail-qv1-f99.google.com (mail-qv1-f99.google.com [209.85.219.99]) by mails.dpdk.org (Postfix) with ESMTP id BF0A14027A for ; Fri, 10 Oct 2025 10:56:11 +0200 (CEST) Received: by mail-qv1-f99.google.com with SMTP id 6a1803df08f44-791875a9071so18693926d6.1 for ; Fri, 10 Oct 2025 01:56:11 -0700 (PDT) DKIM-Signature: v=1; a=rsa-sha256; c=relaxed/relaxed; d=iol.unh.edu; s=unh-iol; t=1760086571; x=1760691371; darn=dpdk.org; h=references:in-reply-to:cc:to:from:subject:message-id:date:from:to :cc:subject:date:message-id:reply-to; bh=pETGUYgWU+TXqa9aTqlqNLKE9UVvCKCI0q8hS/hOou0=; b=PZIUGpkTCl8ehkp3ULxq7KWhpSgY26x9KT5OemU+c01cDUGSfdBkSF6HUEAImNN4NK GRhvsIv2p/A9fOlsm94aoitEON0JmdM17GSqjPpthz4+HRPRKgkRtV7Lncxi2qC3HPIz F2waK9IABavr4XkZpiY3Yn6RZtWJkQ+ICO6Mk= X-Google-DKIM-Signature: v=1; a=rsa-sha256; c=relaxed/relaxed; d=1e100.net; s=20230601; t=1760086571; x=1760691371; h=references:in-reply-to:cc:to:from:subject:message-id:date :x-gm-message-state:from:to:cc:subject:date:message-id:reply-to; bh=pETGUYgWU+TXqa9aTqlqNLKE9UVvCKCI0q8hS/hOou0=; b=Pe+XJxJUdP8SNWVTC+x4d02vQ0jCKGryW3VfZ8249bsuVjLDeDdYH1frCbWcizjMtl A/0yPzyB2d8OO/pfYS1rtrCyTqx1zxBtIrAOxBaqV+jozCVs7PdjrZH3j4NUJ8zH2kOy KCW1ORS5WzrTqAV2MfDGR1k/VYoFVikDIjt9PjlNP1pja0K0BrZVOZCPdqLsWVCAFC1T FGAOJ2BuD5WBaRmxAyvQpZcNuXrwJqbWFok17ilKDickqLLU+9Ehwn9XZY7ojsr4Rmng MouhC6Y1f71+DF+gz060IwMMisk0brkKdN2YNFi9/b0nIx8gvWWcmi5rEej8IwWyUkPH aZ7Q== X-Gm-Message-State: AOJu0Yw2L9ry9E9TZ3iay3hiNE/VlH/zsgxABBo73OCIUigF+HzhnmLP n1RnFTPiDaPvjl5UtC4XdDQHvyLJ7gy/s5snLWfiSmQ8uWfc/jt99EKNZQqgOqJsy1R0MRlgsIh JSySoFcR0eub+eOFDnTbCVGqhMpahf/9kurQlWQ1TTRSF X-Gm-Gg: ASbGncuRD8N76KeMIRAPlKo5g304Bdpdjgh5A6JdynwukgRF9Qb2BTrI7cyUqYygUyL pugRi5BoqkHljgIsbjI/zly6Kn/t4rJPMFIFDA/fZ31sT5gZlRyZXcSj0P3d7HnU849uuX1LfDF lwpcD1eQ0EwaPwSehrJqgkUBICoRqzCKMvik+NtZhoER9E3Xydkd+APbaeUe/RjhiwJv7k5Wyze 9WnI/C/NoHU2rnCkWr9WVCAT2kVaOAKoird1OGVfCYTCqAVuO5u7iRL/KdbxD+Q9dTVqvXqAM2u gNh2/t8QNZ1U8arroikhMrfkpvbYtQ+TouuiprecSU0rAsEmu6gB5vh/umIwMe3nBVwFh9pi X-Google-Smtp-Source: AGHT+IEyRVFE02ndIS0aRp2dMChY4ODFKFpQy8eD+XlzLeVjPxYcY/V4VYLdDltiDBqhaq77nCROjWqtW0ds X-Received: by 2002:a05:6214:202e:b0:78e:8e52:e5fd with SMTP id 6a1803df08f44-87b21059618mr133402176d6.29.1760086571090; Fri, 10 Oct 2025 01:56:11 -0700 (PDT) Received: from postal.iol.unh.edu (postal.iol.unh.edu. [132.177.123.84]) by smtp-relay.gmail.com with ESMTPS id d75a77b69052e-4e706e84983sm1263571cf.2.2025.10.10.01.56.11 (version=TLS1_2 cipher=ECDHE-ECDSA-AES128-GCM-SHA256 bits=128/128); Fri, 10 Oct 2025 01:56:11 -0700 (PDT) X-Relaying-Domain: iol.unh.edu Date: Fri, 10 Oct 2025 01:56:11 -0700 (PDT) Message-ID: <68e8ca2b.050a0220.2971d3.696aSMTPIN_ADDED_MISSING@mx.google.com> Received: from [172.21.0.3] (unknown [172.18.0.240]) by postal.iol.unh.edu (Postfix) with ESMTP id C0CA96051830; Fri, 10 Oct 2025 04:56:10 -0400 (EDT) Subject: |SUCCESS| pw157444-157447 [PATCH] [v3,4/4] net/rnp: resolve coredump From: dpdklab@iol.unh.edu To: Test Report Cc: dpdk-test-reports@iol.unh.edu, Stephen Hemminger In-Reply-To: <20251010070122.161401-5-caowenbo@mucse.com> References: <20251010070122.161401-5-caowenbo@mucse.com> Content-Type: text/plain X-BeenThere: test-report@dpdk.org X-Mailman-Version: 2.1.29 Precedence: list List-Id: automatic DPDK test reports List-Unsubscribe: , List-Archive: List-Post: List-Help: List-Subscribe: , Errors-To: test-report-bounces@dpdk.org Test-Label: iol-unit-amd64-testing Test-Status: SUCCESS http://dpdk.org/patch/157447 _Testing PASS_ Submitter: Wenbo Cao Date: Friday, October 10 2025 07:01:22 DPDK git baseline: Repo:dpdk-next-net Branch: master CommitID:c04bbd131b2c14b3049bf86d3ef367b34e6fdf1e 157444-157447 --> testing pass Upstream job id: Generic-VM-Unit-Test-DPDK#31703 Test environment and result as below: +-------------------------------+----------------+ | Environment | dpdk_unit_test | +===============================+================+ | Fedora Linux 40 | PASS | +-------------------------------+----------------+ | CentOS Stream 9 | PASS | +-------------------------------+----------------+ | Fedora Linux 41 | PASS | +-------------------------------+----------------+ | Windows Server 2022 | PASS | +-------------------------------+----------------+ | Fedora Linux 42 | PASS | +-------------------------------+----------------+ | Debian GNU/Linux 12 | PASS | +-------------------------------+----------------+ | Red Hat Enterprise Linux 9.5 | PASS | +-------------------------------+----------------+ | CentOS Stream 10 | PASS | +-------------------------------+----------------+ | Red Hat Enterprise Linux 8.10 | PASS | +-------------------------------+----------------+ | Ubuntu 24.04 | PASS | +-------------------------------+----------------+ | Ubuntu 22.04 | PASS | +-------------------------------+----------------+ | Ubuntu 20.04 | PASS | +-------------------------------+----------------+ Fedora Linux 40 Kernel: 5.15 Compiler: gcc gcc (GCC) 14.2.1 20240912 (Red Hat 14.2.1-3) CentOS Stream 9 Kernel: 5.15 Compiler: gcc gcc (GCC) 11.5.0 20240719 (Red Hat 11.5.0-11) Fedora Linux 41 Kernel: 5.15 Compiler: gcc gcc (GCC) 14.3.1 20250523 (Red Hat 14.3.1-1) Windows Server 2022 Kernel: 10.0.20348.2031 Compiler: clang 15.0.7, gcc 14.1.0 (MinGW), and MSVC VS 19.39.33521 Fedora Linux 42 Kernel: 5.15 Compiler: gcc gcc (GCC) 15.2.1 20250808 (Red Hat 15.2.1-1) Debian GNU/Linux 12 Kernel: 5.15 Compiler: gcc gcc (Debian 12.2.0-14+deb12u1) 12.2.0 Red Hat Enterprise Linux 9.5 Kernel: 5.15 Compiler: gcc gcc (GCC) 11.5.0 20240719 (Red Hat 11.5.0-2) CentOS Stream 10 Kernel: 5.15 Compiler: gcc gcc (GCC) 14.2.1 20250110 (Red Hat 14.2.1-8) Red Hat Enterprise Linux 8.10 Kernel: 5.15 Compiler: gcc gcc (GCC) 8.5.0 20210514 (Red Hat 8.5.0-22) Ubuntu 24.04 Kernel: 5.15 Compiler: gcc gcc (Ubuntu 13.3.0-6ubuntu2~24.04) 13.3.0 Ubuntu 22.04 Kernel: 5.15 Compiler: gcc gcc (Ubuntu 11.4.0-1ubuntu1~22.04) 11.4.0 Ubuntu 20.04 Kernel: 5.15 Compiler: gcc gcc (Ubuntu 9.4.0-1ubuntu1~20.04.2) 9.4.0 To view detailed results, visit: https://lab.dpdk.org/results/dashboard/patchsets/34249/ UNH-IOL DPDK Community Lab To manage your email subscriptions, visit: https://lab.dpdk.org/results/dashboard/preferences/subscriptions/