From mboxrd@z Thu Jan 1 00:00:00 1970 Return-Path: Received: from mails.dpdk.org (mails.dpdk.org [217.70.189.124]) by inbox.dpdk.org (Postfix) with ESMTP id 1D8C3488FD for ; Fri, 10 Oct 2025 11:01:19 +0200 (CEST) Received: from mails.dpdk.org (localhost [127.0.0.1]) by mails.dpdk.org (Postfix) with ESMTP id 16A1E4027A; Fri, 10 Oct 2025 11:01:19 +0200 (CEST) Received: from mail-pj1-f99.google.com (mail-pj1-f99.google.com [209.85.216.99]) by mails.dpdk.org (Postfix) with ESMTP id 5CE874027A for ; Fri, 10 Oct 2025 11:01:17 +0200 (CEST) Received: by mail-pj1-f99.google.com with SMTP id 98e67ed59e1d1-33082aed31dso1986913a91.3 for ; Fri, 10 Oct 2025 02:01:17 -0700 (PDT) DKIM-Signature: v=1; a=rsa-sha256; c=relaxed/relaxed; d=iol.unh.edu; s=unh-iol; t=1760086876; x=1760691676; darn=dpdk.org; h=cc:to:from:subject:message-id:date:from:to:cc:subject:date :message-id:reply-to; bh=leE+L7b1cYTvFZ59MjD9gCl4ZlpXTDzvIAx0TnjRj0c=; b=IFWW052dmMJQalGNU2lWzEctuHO8tbe2O0Ie4OsE0x2vAvwV0bGF/+Anj1FSDkb4Mu Rch3LWzVtBqSZvxH+7X4I/BdIEFrWsiEuDEZ3VHalWImCAgZL4knOCup+Feu8VYQvxEx xxO2pMtc0+OAz4+9dEBDq24KFRY3AX73u5vTw= X-Google-DKIM-Signature: v=1; a=rsa-sha256; c=relaxed/relaxed; d=1e100.net; s=20230601; t=1760086876; x=1760691676; h=cc:to:from:subject:message-id:date:x-gm-message-state:from:to:cc :subject:date:message-id:reply-to; bh=leE+L7b1cYTvFZ59MjD9gCl4ZlpXTDzvIAx0TnjRj0c=; b=YjuTVOFZK8a15/WiOaj7+bZe7hpWAFJW1L/0T03RAHOwiSDpMCrVc7Uw/WqnCGj/1p EJZTBSdLCyl4B0iEe606Z7+UKuq3vhkLD/T2ISBXftaiKjXr/CkUsR1HUztR0mqpubp2 PWD8+yVyJNmVj5CyZW2TDA/5HqG2pfi8R2yz0oq1lvmDI3GV8QGmrGI53zEPmW/decFi 7djPzQVjKj6TAf8YldR/7dXfTPd2HcP5sj4wNXRIoxahdSX1hj1jn08WpDLoDXSMACTJ 7W9SbvzOGs3eJChbQM4JtH72MnGgctpgGpJhPZNAbfWQsB2fyrFCjTVwCjVpAsZHMNjE Iv+w== X-Gm-Message-State: AOJu0Yy7K4nEg03Us+oREqNsuMJHgFVQi+nkj3Jh8z4EX8s94lHWYsKL AFXecoUJOOeRandeIoDKSl+Vw/Wa21pjhiS17v+dQLZtYl0baG4FXKUH4XB076PqsTPdnk/pUP0 NjDBIPc9lufSSl2jjyiP21rhP4/yJfW9j0oejtTuMNGyvOakLCzEC X-Gm-Gg: ASbGncusVG17YU9UUxnIUohqawVgas3giXDNKh9OdIDi+WFRA/doWJQ+oN0raHQ5tTT m8qkiuQ4/hiuOfwxr/G+uiTTgzUEkhsFyoILT24ZWJ3OCtO1exf+xQd4FdxTUYAgyUaoC0gFhjz yj5SKyMU3W07bm1lwgTE7FPSipS4zZ7+R2xHuCigfISTkV4fSRCA/njoN25Mg/KAE1qQalg+Diy +26adP8Muy9XJmS3a0wHS/FuYAadFFwPPR9UElPQ0S6F+0SZACuQf4jceHmhc4AZHDpumJpfGfV OO7MsEKIuKCJOzYlaf5iylK8/7BnF7Te1baE1OduYJy4nZRPhw== X-Google-Smtp-Source: AGHT+IE8DLVOoxkeEDC9ke3wmQDtfBt4Yt+eZ5TXShWBmAJHCBESAO54wXiApAb4uWUYs9F5rGPAayZhzBvy X-Received: by 2002:a17:903:2351:b0:269:a23e:9fd7 with SMTP id d9443c01a7336-29027262689mr143338555ad.26.1760086876288; Fri, 10 Oct 2025 02:01:16 -0700 (PDT) Received: from postal.iol.unh.edu (postal.iol.unh.edu. [2606:4100:3880:1234::84]) by smtp-relay.gmail.com with ESMTPS id d9443c01a7336-29034e23631sm4385735ad.25.2025.10.10.02.01.16 (version=TLS1_2 cipher=ECDHE-ECDSA-AES128-GCM-SHA256 bits=128/128); Fri, 10 Oct 2025 02:01:16 -0700 (PDT) X-Relaying-Domain: iol.unh.edu Date: Fri, 10 Oct 2025 02:01:16 -0700 (PDT) Message-ID: <68e8cb5c.170a0220.2438f8.6af9SMTPIN_ADDED_MISSING@mx.google.com> Received: from [172.21.0.4] (unknown [172.18.0.240]) by postal.iol.unh.edu (Postfix) with ESMTP id B406C6051830; Fri, 10 Oct 2025 05:01:15 -0400 (EDT) Subject: |SUCCESS| [GIT MASTER] 3b43ce3f4a54468e7ef65760c2fd7b4d6ee6d9fc From: dpdklab@iol.unh.edu To: Test Report Cc: dpdk-test-reports@iol.unh.edu, Xueming Li , Christian Ehrhardt , Kevin Traynor , Luca Boccassi Content-Type: text/plain X-BeenThere: test-report@dpdk.org X-Mailman-Version: 2.1.29 Precedence: list List-Id: automatic DPDK test reports List-Unsubscribe: , List-Archive: List-Post: List-Help: List-Subscribe: , Errors-To: test-report-bounces@dpdk.org _Testing PASS_ Branch: tags/v22.11 3b43ce3f4a54468e7ef65760c2fd7b4d6ee6d9fc --> testing pass Upstream job id: Generic-DPDK-Compile-Meson#433007 Test environment and result as below: +------------------------------+--------------------+ | Environment | dpdk_meson_compile | +==============================+====================+ | Red Hat Enterprise Linux 9.5 | PASS | +------------------------------+--------------------+ | Ubuntu 20.04 | PASS | +------------------------------+--------------------+ | Debian GNU/Linux 12 | PASS | +------------------------------+--------------------+ | CentOS Stream 10 | PASS | +------------------------------+--------------------+ | Fedora Linux 42 | PASS | +------------------------------+--------------------+ | Ubuntu 24.04 | PASS | +------------------------------+--------------------+ | CentOS Stream 9 | PASS | +------------------------------+--------------------+ | Ubuntu 22.04 | PASS | +------------------------------+--------------------+ Red Hat Enterprise Linux 9.5 Kernel: 5.4 Compiler: gcc gcc (GCC) 11.5.0 20240719 (Red Hat 11.5.0-2) Ubuntu 20.04 Kernel: 5.15 Compiler: aarch64-linux-gnu-gcc gcc (Ubuntu 9.4.0-1ubuntu1~20.04.2) 9.4.0 Debian GNU/Linux 12 Kernel: 5.4 Compiler: gcc gcc (Debian 12.2.0-14+deb12u1) 12.2.0 CentOS Stream 10 Kernel: 5.4 Compiler: gcc gcc (GCC) 14.2.1 20250110 (Red Hat 14.2.1-8) Fedora Linux 42 Kernel: 5.4 Compiler: gcc gcc (GCC) 15.2.1 20250808 (Red Hat 15.2.1-1) Ubuntu 24.04 Kernel: 5.4 Compiler: gcc gcc (Ubuntu 13.3.0-6ubuntu2~24.04) 13.3.0 CentOS Stream 9 Kernel: 5.4 Compiler: gcc gcc (GCC) 11.5.0 20240719 (Red Hat 11.5.0-11) Ubuntu 22.04 Kernel: 5.4 Compiler: gcc gcc (Ubuntu 11.4.0-1ubuntu1~22.04) 11.4.0 To view detailed results, visit: https://lab.dpdk.org/results/dashboard/tarballs/35160/ UNH-IOL DPDK Community Lab To manage your email subscriptions, visit: https://lab.dpdk.org/results/dashboard/preferences/subscriptions/