From mboxrd@z Thu Jan 1 00:00:00 1970 Return-Path: Received: from mails.dpdk.org (mails.dpdk.org [217.70.189.124]) by inbox.dpdk.org (Postfix) with ESMTP id ADED5488FD for ; Fri, 10 Oct 2025 11:35:39 +0200 (CEST) Received: from mails.dpdk.org (localhost [127.0.0.1]) by mails.dpdk.org (Postfix) with ESMTP id A93584027A; Fri, 10 Oct 2025 11:35:39 +0200 (CEST) Received: from mail-qt1-f228.google.com (mail-qt1-f228.google.com [209.85.160.228]) by mails.dpdk.org (Postfix) with ESMTP id B87DB4027A for ; Fri, 10 Oct 2025 11:35:38 +0200 (CEST) Received: by mail-qt1-f228.google.com with SMTP id d75a77b69052e-4e70609e042so6057051cf.1 for ; Fri, 10 Oct 2025 02:35:38 -0700 (PDT) DKIM-Signature: v=1; a=rsa-sha256; c=relaxed/relaxed; d=iol.unh.edu; s=unh-iol; t=1760088938; x=1760693738; darn=dpdk.org; h=references:in-reply-to:cc:to:from:subject:message-id:date:from:to :cc:subject:date:message-id:reply-to; bh=q1l1jmis9VUE6Nj72XI70V4b+w4kcKwOXfGuDHbAnn4=; b=AA1uUPR+3fi+zra0GlbZX+qhGcsyiBRpww0KnstQLw0pxMr+tuxHG1a/G+y3okhNZV QlwSw2QN811rTrag2tQmiHH5qwllGP2fum43GDlWZJmYmhN49nwm2JXK9tW8EQW25DVz IrMA0KjsdXMP3jZClhMzjXYkM0YUVHzvKg054= X-Google-DKIM-Signature: v=1; a=rsa-sha256; c=relaxed/relaxed; d=1e100.net; s=20230601; t=1760088938; x=1760693738; h=references:in-reply-to:cc:to:from:subject:message-id:date :x-gm-message-state:from:to:cc:subject:date:message-id:reply-to; bh=q1l1jmis9VUE6Nj72XI70V4b+w4kcKwOXfGuDHbAnn4=; b=KNRvKJQsh22qkMRg2WttU4JRNPnNC7n/NXrdHb/lkENMHN9OnqVOVaIPPmJiBZPG7N S/tHcSXfLT3V6vmGa3SzS5n9cG/Y6eUpDhD4gNADOExNkdAbl7tlzG06plt7TPR2Zu6i K/PcyLrYwnlVPWAulvy0ZMMX18X2g4h77F2RvTG0+z3OyIQCE6jYW9NgENu87MEFIu7g NJkybZMv9IhIiyeKGea9nPheWKxhJn16GegCrIoi5d/lE2aBp+eBxM/Ejy+9Wp6UDLoJ aqvred4sWJDcTuHkfWL01D8NqTB855teFeDwBV3Qpaw5MfetlgoH2vsaXpCZhJighGgp ed/A== X-Gm-Message-State: AOJu0YwQw354fOBxtdFEqWdW3s9QC/udJY6nr4wStyEJ47xrh2F2IVVC OxH1sUI2liG05r9JboiqKvzMhHxTz2i23mSeVrToYVKta/tDe2wJ71wpteBO3IvYLaJQtHfI8R+ Fq5Z20h9Yz4SHFIi3OVhTWgMRLmNpXa8pc6DEc2ShbpwN X-Gm-Gg: ASbGncv/6evTENJTuNDyKTp+fXEAilwEXcc/ffStdi1Phy/0VQwHXgWAw4XRPLOQ9zv /XaGAg+q9VXmwyOoVresJo4vbpebSwFQK3dXZI+rVtrHtmw2J5248V1t22e3pgNeTZ/lR9pRhYG Y0kKNILlXXFKd9qqO7XM5yI2uxxF16P89P5tCIa/7TxLKTzcEVAiSsLR29vBWDgR0u3XMSlGUQ2 GL44gLPc+YLNQocBLqgmFicshgXD5MKbZCfxlOcmEiYA0K8ToJIuy3Fy1ekBSECpXCwJ3wkhHEs N6KDzn7iFHFQBounRyaCQjDJUROloq/woKNFQ+sQEjei5HA31BCfFQBVq4CN7DvB3c0d2MSl X-Google-Smtp-Source: AGHT+IELJU3thu6bvMU5hKE5BDVjwI6fwdwiTOhnQue+7KbX7z8GCZjNFDKHmNJe/lB63a8dkNML2sgdeqIF X-Received: by 2002:a05:622a:1113:b0:4df:8368:4adf with SMTP id d75a77b69052e-4e6ead00a0cmr148161521cf.31.1760088938053; Fri, 10 Oct 2025 02:35:38 -0700 (PDT) Received: from postal.iol.unh.edu (postal.iol.unh.edu. [132.177.123.84]) by smtp-relay.gmail.com with ESMTPS id 6a1803df08f44-87bc34652cdsm1499606d6.14.2025.10.10.02.35.38 (version=TLS1_2 cipher=ECDHE-ECDSA-AES128-GCM-SHA256 bits=128/128); Fri, 10 Oct 2025 02:35:38 -0700 (PDT) X-Relaying-Domain: iol.unh.edu Date: Fri, 10 Oct 2025 02:35:38 -0700 (PDT) Message-ID: <68e8d36a.d40a0220.365a98.8055SMTPIN_ADDED_MISSING@mx.google.com> Received: from [172.21.0.2] (unknown [172.18.0.240]) by postal.iol.unh.edu (Postfix) with ESMTP id C2D286051830; Fri, 10 Oct 2025 05:35:37 -0400 (EDT) Subject: |SUCCESS| pw157449-157443 [PATCH] [v2,54/54] net/bnxt/tf_ulp: remove From: dpdklab@iol.unh.edu To: Test Report Cc: dpdk-test-reports@iol.unh.edu In-Reply-To: <20251009221129.28256-55-manish.kurup@broadcom.com> References: <20251009221129.28256-55-manish.kurup@broadcom.com> Content-Type: text/plain X-BeenThere: test-report@dpdk.org X-Mailman-Version: 2.1.29 Precedence: list List-Id: automatic DPDK test reports List-Unsubscribe: , List-Archive: List-Post: List-Help: List-Subscribe: , Errors-To: test-report-bounces@dpdk.org Test-Label: iol-unit-amd64-testing Test-Status: SUCCESS http://dpdk.org/patch/157443 _Testing PASS_ Submitter: Manish Kurup Date: Thursday, October 09 2025 22:11:29 DPDK git baseline: Repo:dpdk-next-net-brcm Branch: master CommitID:1d627ea13aeec2bcccf27246e6be2508370d171e 157449-157443 --> testing pass Upstream job id: Generic-VM-Unit-Test-DPDK#31704 Test environment and result as below: +-------------------------------+----------------+ | Environment | dpdk_unit_test | +===============================+================+ | Debian GNU/Linux 12 | PASS | +-------------------------------+----------------+ | CentOS Stream 9 | PASS | +-------------------------------+----------------+ | CentOS Stream 10 | PASS | +-------------------------------+----------------+ | Fedora Linux 41 | PASS | +-------------------------------+----------------+ | Fedora Linux 40 | PASS | +-------------------------------+----------------+ | Red Hat Enterprise Linux 8.10 | PASS | +-------------------------------+----------------+ | Fedora Linux 42 | PASS | +-------------------------------+----------------+ | Red Hat Enterprise Linux 9.5 | PASS | +-------------------------------+----------------+ | Ubuntu 24.04 | PASS | +-------------------------------+----------------+ | Ubuntu 22.04 | PASS | +-------------------------------+----------------+ | Ubuntu 20.04 | PASS | +-------------------------------+----------------+ | Windows Server 2022 | PASS | +-------------------------------+----------------+ Debian GNU/Linux 12 Kernel: 5.15 Compiler: gcc gcc (Debian 12.2.0-14+deb12u1) 12.2.0 CentOS Stream 9 Kernel: 5.15 Compiler: gcc gcc (GCC) 11.5.0 20240719 (Red Hat 11.5.0-11) CentOS Stream 10 Kernel: 5.15 Compiler: gcc gcc (GCC) 14.2.1 20250110 (Red Hat 14.2.1-8) Fedora Linux 41 Kernel: 5.15 Compiler: gcc gcc (GCC) 14.3.1 20250523 (Red Hat 14.3.1-1) Fedora Linux 40 Kernel: 5.15 Compiler: clang gcc (GCC) 14.2.1 20240912 (Red Hat 14.2.1-3) Red Hat Enterprise Linux 8.10 Kernel: 5.15 Compiler: gcc gcc (GCC) 8.5.0 20210514 (Red Hat 8.5.0-22) Fedora Linux 42 Kernel: 5.15 Compiler: clang gcc (GCC) 15.2.1 20250808 (Red Hat 15.2.1-1) Red Hat Enterprise Linux 9.5 Kernel: 5.15 Compiler: gcc gcc (GCC) 11.5.0 20240719 (Red Hat 11.5.0-2) Ubuntu 24.04 Kernel: 5.15 Compiler: gcc gcc (Ubuntu 13.3.0-6ubuntu2~24.04) 13.3.0 Ubuntu 22.04 Kernel: 5.15 Compiler: gcc gcc (Ubuntu 11.4.0-1ubuntu1~22.04) 11.4.0 Ubuntu 20.04 Kernel: 5.15 Compiler: gcc gcc (Ubuntu 9.4.0-1ubuntu1~20.04.2) 9.4.0 Windows Server 2022 Kernel: 10.0.20348.2031 Compiler: clang 15.0.7, gcc 14.1.0 (MinGW), and MSVC VS 19.39.33521 To view detailed results, visit: https://lab.dpdk.org/results/dashboard/patchsets/34247/ UNH-IOL DPDK Community Lab To manage your email subscriptions, visit: https://lab.dpdk.org/results/dashboard/preferences/subscriptions/