From mboxrd@z Thu Jan 1 00:00:00 1970 Return-Path: Received: from mails.dpdk.org (mails.dpdk.org [217.70.189.124]) by inbox.dpdk.org (Postfix) with ESMTP id C1E9A488FD for ; Fri, 10 Oct 2025 11:36:05 +0200 (CEST) Received: from mails.dpdk.org (localhost [127.0.0.1]) by mails.dpdk.org (Postfix) with ESMTP id BD7134027A; Fri, 10 Oct 2025 11:36:05 +0200 (CEST) Received: from mail-io1-f99.google.com (mail-io1-f99.google.com [209.85.166.99]) by mails.dpdk.org (Postfix) with ESMTP id D18074027A for ; Fri, 10 Oct 2025 11:36:04 +0200 (CEST) Received: by mail-io1-f99.google.com with SMTP id ca18e2360f4ac-9032edd72c1so216081139f.3 for ; Fri, 10 Oct 2025 02:36:04 -0700 (PDT) DKIM-Signature: v=1; a=rsa-sha256; c=relaxed/relaxed; d=iol.unh.edu; s=unh-iol; t=1760088964; x=1760693764; darn=dpdk.org; h=references:in-reply-to:cc:to:from:subject:message-id:date:from:to :cc:subject:date:message-id:reply-to; bh=jgBcnec03KQnZDjV15eh5eevKxENzJa1NH2/S1Qx6II=; b=La+jO2C2ElwMiPU/L6qcIfIclLVa8XoGILRy5X8dvnTAKHNQwuPi3rQW6Jo8Xcz3xL UR/h1LTg6PXaOCBfFe91m/SDaWjvGVPyXWI7jBsBvv0vw+IvlmJkd4Rhfsf5YQyLFnew a4I+33ESdQleFFiGHjPX8wCLGAKIBdrJvvuzs= X-Google-DKIM-Signature: v=1; a=rsa-sha256; c=relaxed/relaxed; d=1e100.net; s=20230601; t=1760088964; x=1760693764; h=references:in-reply-to:cc:to:from:subject:message-id:date :x-gm-message-state:from:to:cc:subject:date:message-id:reply-to; bh=jgBcnec03KQnZDjV15eh5eevKxENzJa1NH2/S1Qx6II=; b=RXdhgeYnRtbWWnXK/wSW1RsApWVhHbYo76rBmca4WCuAZxPVPubNvt0OLo4hK2b1CW eDCOMHHktgTQENLoPZPDgl46HLoVIt+X6hBsZ/MQRA9vGogpnzwCBr660VK9f9MeEz90 J3e9H+dviK+U7eZreqN0wwRU/AKRdG+UscFvBPVRhHg3BpedKyqo/+HBRZ4vj0j/VjJ/ 1cUPJO14sKgdPdnL4lQpmpYpFnF0mJifR4MeCLiPeAaJChSaDbmV0ijafQJIcvPmwUi3 iWezLHHQR/4xdrcWx4EV7h2SwcAKXac5RcWDxc7fW1j6XuRGZVwAagOGcK7vF+Rjjy06 PsdQ== X-Gm-Message-State: AOJu0YwlMS/b2BpJXExFth4q2VcofY/z3BXVXpzY5mxxbM3pS184UcKa dzxTNi876pO0uo4TTjQqR5wH9vEQTfprxAkJzwaP3in90NOB1qmGFElfG0m6LJAgY5c6IFzeod9 tOLSKDqvwo12cjn/ltVzAkqPAF1YVQ9j/3jIJexL/JuRf X-Gm-Gg: ASbGncuNpe28etkKILN+pBpM+/pjQs4KyjjVsnO1Ok2xRZIr5NZRXrwT1j8Dz5A1R5A vE1IF/uPOCmZMtZ7l+O3SSMWQuw1LDDsbB645/vQS26oB/7tzciOROsGq71z6UK4XSWXB66IXaS QHq6HFAHVXneDB/TwI/lv4NFz+PK+q8UfQGuOxmNaGJPExEXHZeF5UYhpGppHWEHLByv/bbf58a uylSNQZ1W5z9TTSBfP86dX3c9T5O1FH4hxYV2JH7NlCv5JAAaC6rcP6V6hHhbo4siGZrYGyGpnI xAWx+6xjbZSCGql7yCqKTCQtGWEQDhqTgeEY0hRxhegQxtfA9V317aOO8slPS9zRDNQxRlqJ X-Google-Smtp-Source: AGHT+IEthJtLFfastkinL0W9vfW/xL9QRKPX2FplnKCvFGM4WR8CLbxv0gGoWHixUvt8MPb9ONUiHjpBiMsf X-Received: by 2002:a05:6602:2d95:b0:93b:dc41:5cf7 with SMTP id ca18e2360f4ac-93bdc415d77mr736171939f.11.1760088964120; Fri, 10 Oct 2025 02:36:04 -0700 (PDT) Received: from postal.iol.unh.edu (postal.iol.unh.edu. [132.177.123.84]) by smtp-relay.gmail.com with ESMTPS id ca18e2360f4ac-93e25950898sm14059239f.5.2025.10.10.02.36.04 (version=TLS1_2 cipher=ECDHE-ECDSA-AES128-GCM-SHA256 bits=128/128); Fri, 10 Oct 2025 02:36:04 -0700 (PDT) X-Relaying-Domain: iol.unh.edu Date: Fri, 10 Oct 2025 02:36:04 -0700 (PDT) Message-ID: <68e8d384.5e0a0220.207411.76f7SMTPIN_ADDED_MISSING@mx.google.com> Received: from [172.21.0.2] (unknown [172.18.0.240]) by postal.iol.unh.edu (Postfix) with ESMTP id AFC2F6051830; Fri, 10 Oct 2025 05:36:03 -0400 (EDT) Subject: |SUCCESS| pw157448 [PATCH] lib/net: Add ICMP support to rte_net_get_ From: dpdklab@iol.unh.edu To: Test Report Cc: dpdk-test-reports@iol.unh.edu In-Reply-To: <20251009152740.10437-1-eimear.morrissey@huawei.com> References: <20251009152740.10437-1-eimear.morrissey@huawei.com> Content-Type: text/plain X-BeenThere: test-report@dpdk.org X-Mailman-Version: 2.1.29 Precedence: list List-Id: automatic DPDK test reports List-Unsubscribe: , List-Archive: List-Post: List-Help: List-Subscribe: , Errors-To: test-report-bounces@dpdk.org Test-Label: iol-unit-amd64-testing Test-Status: SUCCESS http://dpdk.org/patch/157448 _Testing PASS_ Submitter: Eimear Morrissey Date: Thursday, October 09 2025 15:27:40 DPDK git baseline: Repo:dpdk Branch: master CommitID:2b403dd8fb37d0ba13723e44ffc7ee2c2795f838 157448 --> testing pass Upstream job id: Generic-Unit-Test-DPDK#380175 Test environment and result as below: +-------------------------------+----------------+ | Environment | dpdk_unit_test | +===============================+================+ | CentOS Stream 10 | PASS | +-------------------------------+----------------+ | CentOS Stream 9 | PASS | +-------------------------------+----------------+ | Debian GNU/Linux 12 | PASS | +-------------------------------+----------------+ | Fedora Linux 40 | PASS | +-------------------------------+----------------+ | Fedora Linux 42 | PASS | +-------------------------------+----------------+ | Red Hat Enterprise Linux 8.10 | PASS | +-------------------------------+----------------+ | Fedora Linux 41 | PASS | +-------------------------------+----------------+ | Ubuntu 20.04 | PASS | +-------------------------------+----------------+ | Red Hat Enterprise Linux 9.5 | PASS | +-------------------------------+----------------+ | Ubuntu 22.04 | PASS | +-------------------------------+----------------+ | Ubuntu 24.04 | PASS | +-------------------------------+----------------+ CentOS Stream 10 Kernel: 5.15 Compiler: gcc gcc (GCC) 14.2.1 20250110 (Red Hat 14.2.1-8) CentOS Stream 9 Kernel: 5.15 Compiler: gcc gcc (GCC) 11.5.0 20240719 (Red Hat 11.5.0-11) Debian GNU/Linux 12 Kernel: 5.15 Compiler: gcc gcc (Debian 12.2.0-14+deb12u1) 12.2.0 Fedora Linux 40 Kernel: 5.15 Compiler: clang gcc (GCC) 14.2.1 20240912 (Red Hat 14.2.1-3) Fedora Linux 42 Kernel: 5.15 Compiler: clang gcc (GCC) 15.2.1 20250808 (Red Hat 15.2.1-1) Red Hat Enterprise Linux 8.10 Kernel: 5.15 Compiler: gcc gcc (GCC) 8.5.0 20210514 (Red Hat 8.5.0-22) Fedora Linux 41 Kernel: 5.15 Compiler: clang gcc (GCC) 14.3.1 20250523 (Red Hat 14.3.1-1) Ubuntu 20.04 Kernel: 5.15 Compiler: gcc gcc (Ubuntu 9.4.0-1ubuntu1~20.04.2) 9.4.0 Red Hat Enterprise Linux 9.5 Kernel: 5.15 Compiler: gcc gcc (GCC) 11.5.0 20240719 (Red Hat 11.5.0-2) Ubuntu 22.04 Kernel: 5.15 Compiler: gcc gcc (Ubuntu 11.4.0-1ubuntu1~22.04) 11.4.0 Ubuntu 24.04 Kernel: 5.15 Compiler: gcc gcc (Ubuntu 13.3.0-6ubuntu2~24.04) 13.3.0 To view detailed results, visit: https://lab.dpdk.org/results/dashboard/patchsets/34248/ UNH-IOL DPDK Community Lab To manage your email subscriptions, visit: https://lab.dpdk.org/results/dashboard/preferences/subscriptions/