From mboxrd@z Thu Jan 1 00:00:00 1970 Return-Path: Received: from mails.dpdk.org (mails.dpdk.org [217.70.189.124]) by inbox.dpdk.org (Postfix) with ESMTP id 34ED8488D0 for ; Fri, 10 Oct 2025 12:09:07 +0200 (CEST) Received: from mails.dpdk.org (localhost [127.0.0.1]) by mails.dpdk.org (Postfix) with ESMTP id 0E3F24027A; Fri, 10 Oct 2025 12:09:07 +0200 (CEST) Received: from mail-pg1-f226.google.com (mail-pg1-f226.google.com [209.85.215.226]) by mails.dpdk.org (Postfix) with ESMTP id 405054027A for ; Fri, 10 Oct 2025 12:09:05 +0200 (CEST) Received: by mail-pg1-f226.google.com with SMTP id 41be03b00d2f7-b5515eaefceso1592845a12.2 for ; Fri, 10 Oct 2025 03:09:05 -0700 (PDT) DKIM-Signature: v=1; a=rsa-sha256; c=relaxed/relaxed; d=iol.unh.edu; s=unh-iol; t=1760090944; x=1760695744; darn=dpdk.org; h=references:in-reply-to:cc:to:from:subject:message-id:date:from:to :cc:subject:date:message-id:reply-to; bh=ILznmdvcgWb87UXUqYnSQ1R+mBBIUSyFa1PX49nd8wI=; b=Ao47gXQiwUWhaDrxuYof3zGVUyUEMfMsVdJ+QcoMTo4/HgfTpqZIwXQzB7g2Q4TGbU kKBgErxBkUeR1k09boWGolxAM3L4ox+DoKhZGbqmgNXRGgdVpfkg+RKZBhzpHCU5uzgI UzzGlPFc9tRTEg5a9oNw50OcrlfLD+C3gmEDk= X-Google-DKIM-Signature: v=1; a=rsa-sha256; c=relaxed/relaxed; d=1e100.net; s=20230601; t=1760090944; x=1760695744; h=references:in-reply-to:cc:to:from:subject:message-id:date :x-gm-message-state:from:to:cc:subject:date:message-id:reply-to; bh=ILznmdvcgWb87UXUqYnSQ1R+mBBIUSyFa1PX49nd8wI=; b=ml3Qsowb1NiDXH2NqaqN8HVmeXgxy2oLdwuXnSR2Kj2ATz4PL1JNkPx6K+eqh+JPuO iYtiRVq/48gNUCJnH1NVx0CFFwfOI1p4UYA/Yr0irU4203Soi4B92GbnTeQWzykhpLCc QQXYkd30sb5H5qWHN/NT8TQSLtkyMtGBK58SJWf/5+NNPoXX+HDgIGpqo6HbbsXQB8jt +eQilkGLmbyf2b9E2VnOFZDPCbTUXtV2h28P5QZD3bDlDZdZlBpbmj/baq1WpoGyodwD qdQSMNGNOhRc6J1G13dFE8mQ0+vAR0kzHM+rK+/fmYVjFZxP6PFowdSiTcls7Cswi6+r Ezcw== X-Gm-Message-State: AOJu0YwTQPzTdzRPo3gRMxa3A/8QJKJwQVaug4s5khg0wV2HM0CmhcR7 mHM3x25/H2JttsBVnp2ZOmd9oOEzIcAltZ5XqS1wEjbGBCiFmG8PX/pjfrbj7qPAdpyHhFd4AiJ d1ok7jvI3cA0B7hTbTk4v0b8/Lamy6S7mOvpw5TW65ZR4kbOB+Fkxg2avr5uE X-Gm-Gg: ASbGncvlxF/bIcG/OwZtt65XCtZyP0NkjJSZUNkGkOMLnPygG8i8JPG391awmqCrM8a 4kjwG2DkHyEP6SC9a0zOBUw3qEfxEFb8Zd6gjW2sxRMjCRJzdttajdvwKT7FYTDIWRDw8GJ5LpF bzntlPW8aAliR1iTcLbHlvLwce7o3/Mz3VNUaJ35JY7ThbRTWlY5SXylexdEBNZ67Qq/pWwMtNw OrEH5omNxPrvWsLJdwKCIPLDS7wKs8JvghmAicl+jUW4+WUKKn0tQuliU6yHcBCt1raOxIz0I43 T4zGhyGaVjzOoeUqGWkmtWlj9raL0TZCit5I5+glLjCd2+J07Q== X-Google-Smtp-Source: AGHT+IFDZ7Tf1F0OuuFwkEDXnUIoFxoepLyTrI0YmibB4fajAa/TG4FuA38Hd3T1aJtjMHOZdj7SZLQ9a2HT X-Received: by 2002:a17:903:8cc:b0:267:9c2f:4655 with SMTP id d9443c01a7336-290273ffcf6mr130623065ad.41.1760090944136; Fri, 10 Oct 2025 03:09:04 -0700 (PDT) Received: from postal.iol.unh.edu (postal.iol.unh.edu. [2606:4100:3880:1234::84]) by smtp-relay.gmail.com with ESMTPS id 41be03b00d2f7-b678df0fd68sm120134a12.11.2025.10.10.03.09.04 (version=TLS1_2 cipher=ECDHE-ECDSA-AES128-GCM-SHA256 bits=128/128); Fri, 10 Oct 2025 03:09:04 -0700 (PDT) X-Relaying-Domain: iol.unh.edu Date: Fri, 10 Oct 2025 03:09:04 -0700 (PDT) Message-ID: <68e8db40.050a0220.340a4.62a4SMTPIN_ADDED_MISSING@mx.google.com> Received: from [172.21.0.3] (unknown [172.18.0.240]) by postal.iol.unh.edu (Postfix) with ESMTP id 5BC1660003F7; Fri, 10 Oct 2025 06:09:03 -0400 (EDT) Subject: |SUCCESS| pw157449-157443 [PATCH] [v2,54/54] net/bnxt/tf_ulp: remove From: dpdklab@iol.unh.edu To: Test Report Cc: dpdk-test-reports@iol.unh.edu In-Reply-To: <20251009221129.28256-55-manish.kurup@broadcom.com> References: <20251009221129.28256-55-manish.kurup@broadcom.com> Content-Type: text/plain X-BeenThere: test-report@dpdk.org X-Mailman-Version: 2.1.29 Precedence: list List-Id: automatic DPDK test reports List-Unsubscribe: , List-Archive: List-Post: List-Help: List-Subscribe: , Errors-To: test-report-bounces@dpdk.org Test-Label: iol-unit-amd64-testing Test-Status: SUCCESS http://dpdk.org/patch/157443 _Testing PASS_ Submitter: Manish Kurup Date: Thursday, October 09 2025 22:11:29 DPDK git baseline: Repo:dpdk-next-net-brcm Branch: master CommitID:1d627ea13aeec2bcccf27246e6be2508370d171e 157449-157443 --> testing pass Upstream job id: Generic-VM-Unit-Test-DPDK#31705 Test environment and result as below: +-------------------------------+----------------+ | Environment | dpdk_unit_test | +===============================+================+ | Debian GNU/Linux 12 | PASS | +-------------------------------+----------------+ | CentOS Stream 9 | PASS | +-------------------------------+----------------+ | CentOS Stream 10 | PASS | +-------------------------------+----------------+ | Fedora Linux 41 | PASS | +-------------------------------+----------------+ | Fedora Linux 40 | PASS | +-------------------------------+----------------+ | Red Hat Enterprise Linux 8.10 | PASS | +-------------------------------+----------------+ | Fedora Linux 42 | PASS | +-------------------------------+----------------+ | Red Hat Enterprise Linux 9.5 | PASS | +-------------------------------+----------------+ | Ubuntu 24.04 | PASS | +-------------------------------+----------------+ | Ubuntu 22.04 | PASS | +-------------------------------+----------------+ | Ubuntu 20.04 | PASS | +-------------------------------+----------------+ | Windows Server 2022 | PASS | +-------------------------------+----------------+ Debian GNU/Linux 12 Kernel: 5.15 Compiler: gcc gcc (Debian 12.2.0-14+deb12u1) 12.2.0 CentOS Stream 9 Kernel: 5.15 Compiler: gcc gcc (GCC) 11.5.0 20240719 (Red Hat 11.5.0-11) CentOS Stream 10 Kernel: 5.15 Compiler: gcc gcc (GCC) 14.2.1 20250110 (Red Hat 14.2.1-8) Fedora Linux 41 Kernel: 5.15 Compiler: gcc gcc (GCC) 14.3.1 20250523 (Red Hat 14.3.1-1) Fedora Linux 40 Kernel: 5.15 Compiler: clang gcc (GCC) 14.2.1 20240912 (Red Hat 14.2.1-3) Red Hat Enterprise Linux 8.10 Kernel: 5.15 Compiler: gcc gcc (GCC) 8.5.0 20210514 (Red Hat 8.5.0-22) Fedora Linux 42 Kernel: 5.15 Compiler: clang gcc (GCC) 15.2.1 20250808 (Red Hat 15.2.1-1) Red Hat Enterprise Linux 9.5 Kernel: 5.15 Compiler: gcc gcc (GCC) 11.5.0 20240719 (Red Hat 11.5.0-2) Ubuntu 24.04 Kernel: 5.15 Compiler: gcc gcc (Ubuntu 13.3.0-6ubuntu2~24.04) 13.3.0 Ubuntu 22.04 Kernel: 5.15 Compiler: gcc gcc (Ubuntu 11.4.0-1ubuntu1~22.04) 11.4.0 Ubuntu 20.04 Kernel: 5.15 Compiler: gcc gcc (Ubuntu 9.4.0-1ubuntu1~20.04.2) 9.4.0 Windows Server 2022 Kernel: 10.0.20348.2031 Compiler: clang 15.0.7, gcc 14.1.0 (MinGW), and MSVC VS 19.39.33521 To view detailed results, visit: https://lab.dpdk.org/results/dashboard/patchsets/34247/ UNH-IOL DPDK Community Lab To manage your email subscriptions, visit: https://lab.dpdk.org/results/dashboard/preferences/subscriptions/