From mboxrd@z Thu Jan 1 00:00:00 1970 Return-Path: Received: from mails.dpdk.org (mails.dpdk.org [217.70.189.124]) by inbox.dpdk.org (Postfix) with ESMTP id 274B0488FE for ; Fri, 10 Oct 2025 12:21:46 +0200 (CEST) Received: from mails.dpdk.org (localhost [127.0.0.1]) by mails.dpdk.org (Postfix) with ESMTP id 217D44027A; Fri, 10 Oct 2025 12:21:46 +0200 (CEST) Received: from mail-pg1-f226.google.com (mail-pg1-f226.google.com [209.85.215.226]) by mails.dpdk.org (Postfix) with ESMTP id 7A21C4027A for ; Fri, 10 Oct 2025 12:21:44 +0200 (CEST) Received: by mail-pg1-f226.google.com with SMTP id 41be03b00d2f7-b5a631b9c82so1187454a12.1 for ; Fri, 10 Oct 2025 03:21:44 -0700 (PDT) DKIM-Signature: v=1; a=rsa-sha256; c=relaxed/relaxed; d=iol.unh.edu; s=unh-iol; t=1760091703; x=1760696503; darn=dpdk.org; h=references:in-reply-to:cc:to:from:subject:message-id:date:from:to :cc:subject:date:message-id:reply-to; bh=HU1oKnlyGNLS/aBgNG8jdknkPNx1hgX8tYwMhMOVnNM=; b=i1bso/6/qYojK9h9WJvjH4Zo7Wq2dYOMerF1AWBbVa+5ZOGzweuYG4lH4iaOn7tWjj 82FCRzU6dSpKsS7PgKnPq43TGtUgRntxfrD7SrTtdE2SqEM4f5gc6Lj9/MA1PpQwaRF+ wQmXvOKQ9uRBDBBQTJSU+TdVki7pX1Jpe5pFU= X-Google-DKIM-Signature: v=1; a=rsa-sha256; c=relaxed/relaxed; d=1e100.net; s=20230601; t=1760091703; x=1760696503; h=references:in-reply-to:cc:to:from:subject:message-id:date :x-gm-message-state:from:to:cc:subject:date:message-id:reply-to; bh=HU1oKnlyGNLS/aBgNG8jdknkPNx1hgX8tYwMhMOVnNM=; b=SjiUWaFbsKme/otiuqj963O5EUPNDw0y7dOe+BFVWK3kD+3uyrJOgpLucc2VMzXB2x +7ytAd0FY61ozrQCqjfYi+Hay6W4N3TIZCkAoeuQRaa9/Okzffe21lxVVW+nqAT2bjbY dNB7AlagrZAlBopSxL9IqnOYe5vCTWxXoBjNT6fuAECmEAorNwb7XIhC98KPaYbNc4Zj OJCih9Kbp3L9vhx6yOSaZ/XGS0RE+DHGDHRI+T3rXqz+tJRhP36mvs3r18vbI75jjMK+ PBjU68e6oR7zutw1JYvpVwDsYRU9aFno24ZKy2F8ZISLaY5o8DUeSpPxPL5o0E48XEFy sY7w== X-Gm-Message-State: AOJu0YwxitSzLDSfTTfWEj6X11MMpTB3tLUmnefWBPdkeilcUjyNwD0J W39r21oMVqAIJ8QYSr9c5c2FllaSzNm3so2dkqAu6IA50q+nLZiEyJAoFPEfA5xjq2nA8rhmrZx BYAq58y6oaMAd2TjtzoZROxC9bkePiA3t0aV78GYyFd08 X-Gm-Gg: ASbGncuM7Z5yKNWMprRvPc03IHl3llmUIxz0dIR2qDKkcBPATZuO8q5GbvGd4eoSqsX JglvbZ4f5wuKBZw1d8u9qh3tGzOSnqIrbI7ipjUeE9iKJaDSNF9lAw/lgefo9O4QVfkb8AaPaz6 Jvwg7Sedd4IbgD+NZ+M1MBRwRxxSc44HC+XEBHPRxViSuqrXrxRKMCSCuCs+Z7GABmPJ22Sak5u ba9YrbRcwNT6AS9BKhe7CWYk6omYYA/YIfyMMJ6dHDI8hieYyLvyLd26YahGH4SL6r0Ise955D0 MX16nB+N78aOoIH4FEnFfZ6jQhOM7u9geuEI25p1Bwf90ooHBcoSenAoyG+u1PCNoPG19uWK X-Google-Smtp-Source: AGHT+IGCNx9KCbpA/P6atIRycWc8cR9myq5p6N52r3PNP25Fhe7hFk68iC8L4JztpZpRM5W52vkHWCUvuo59 X-Received: by 2002:a17:903:3c2c:b0:270:ced4:911a with SMTP id d9443c01a7336-29027213542mr108370475ad.9.1760091703587; Fri, 10 Oct 2025 03:21:43 -0700 (PDT) Received: from postal.iol.unh.edu (postal.iol.unh.edu. [132.177.123.84]) by smtp-relay.gmail.com with ESMTPS id d9443c01a7336-29034f5e7d7sm4259715ad.63.2025.10.10.03.21.43 (version=TLS1_2 cipher=ECDHE-ECDSA-AES128-GCM-SHA256 bits=128/128); Fri, 10 Oct 2025 03:21:43 -0700 (PDT) X-Relaying-Domain: iol.unh.edu Date: Fri, 10 Oct 2025 03:21:43 -0700 (PDT) Message-ID: <68e8de37.170a0220.1fa75b.5de7SMTPIN_ADDED_MISSING@mx.google.com> Received: from [172.21.0.2] (unknown [172.18.0.240]) by postal.iol.unh.edu (Postfix) with ESMTP id 21EC46051830; Fri, 10 Oct 2025 06:21:42 -0400 (EDT) Subject: |SUCCESS| pw157448 [PATCH] lib/net: Add ICMP support to rte_net_get_ From: dpdklab@iol.unh.edu To: Test Report Cc: dpdk-test-reports@iol.unh.edu In-Reply-To: <20251009152740.10437-1-eimear.morrissey@huawei.com> References: <20251009152740.10437-1-eimear.morrissey@huawei.com> Content-Type: text/plain X-BeenThere: test-report@dpdk.org X-Mailman-Version: 2.1.29 Precedence: list List-Id: automatic DPDK test reports List-Unsubscribe: , List-Archive: List-Post: List-Help: List-Subscribe: , Errors-To: test-report-bounces@dpdk.org Test-Label: iol-compile-amd64-testing Test-Status: SUCCESS http://dpdk.org/patch/157448 _Testing PASS_ Submitter: Eimear Morrissey Date: Thursday, October 09 2025 15:27:40 DPDK git baseline: Repo:dpdk Branch: master CommitID:2b403dd8fb37d0ba13723e44ffc7ee2c2795f838 157448 --> testing pass Upstream job id: Windows-Compile-DPDK-VS#7156 Test environment and result as below: +-------------------------------+--------------------+-------------------+------------------+-------------------+ | Environment | dpdk_meson_compile | dpdk_compile_spdk | dpdk_compile_ovs | dpdk_msvc_compile | +===============================+====================+===================+==================+===================+ | Ubuntu 20.04 | PASS | SKIPPED | SKIPPED | SKIPPED | +-------------------------------+--------------------+-------------------+------------------+-------------------+ | FreeBSD 14.2 | PASS | SKIPPED | SKIPPED | SKIPPED | +-------------------------------+--------------------+-------------------+------------------+-------------------+ | CentOS Stream 9 | PASS | PASS | SKIPPED | SKIPPED | +-------------------------------+--------------------+-------------------+------------------+-------------------+ | CentOS Stream 10 | PASS | SKIPPED | SKIPPED | SKIPPED | +-------------------------------+--------------------+-------------------+------------------+-------------------+ | Debian GNU/Linux 12 | PASS | PASS | SKIPPED | SKIPPED | +-------------------------------+--------------------+-------------------+------------------+-------------------+ | Fedora Linux 42 | PASS | PASS | PASS | SKIPPED | +-------------------------------+--------------------+-------------------+------------------+-------------------+ | openSUSE Leap 15.6 | PASS | SKIPPED | SKIPPED | SKIPPED | +-------------------------------+--------------------+-------------------+------------------+-------------------+ | Red Hat Enterprise Linux 8.10 | PASS | SKIPPED | SKIPPED | SKIPPED | +-------------------------------+--------------------+-------------------+------------------+-------------------+ | Red Hat Enterprise Linux 9.5 | PASS | SKIPPED | SKIPPED | SKIPPED | +-------------------------------+--------------------+-------------------+------------------+-------------------+ | Ubuntu 22.04 | PASS | PASS | SKIPPED | SKIPPED | +-------------------------------+--------------------+-------------------+------------------+-------------------+ | Ubuntu 24.04 | PASS | PASS | PASS | SKIPPED | +-------------------------------+--------------------+-------------------+------------------+-------------------+ | Alpine Linux 3.22.0 | PASS | SKIPPED | SKIPPED | SKIPPED | +-------------------------------+--------------------+-------------------+------------------+-------------------+ | Windows Server 2022 | SKIPPED | SKIPPED | SKIPPED | PASS | +-------------------------------+--------------------+-------------------+------------------+-------------------+ Ubuntu 20.04 Kernel: 4.19 Compiler: gcc gcc (Ubuntu 9.4.0-1ubuntu1~20.04.2) 9.4.0 FreeBSD 14.2 Kernel: 14.2-RELEASE Compiler: clang 18.1.6 CentOS Stream 9 Kernel: 5.15 Compiler: gcc gcc (GCC) 11.5.0 20240719 (Red Hat 11.5.0-11) CentOS Stream 10 Kernel: 5.15 Compiler: gcc gcc (GCC) 14.2.1 20250110 (Red Hat 14.2.1-8) Debian GNU/Linux 12 Kernel: 5.15 Compiler: gcc gcc (Debian 12.2.0-14+deb12u1) 12.2.0 Fedora Linux 42 Kernel: 5.15 Compiler: clang gcc (GCC) 15.2.1 20250808 (Red Hat 15.2.1-1) openSUSE Leap 15.6 Kernel: 5.15 Compiler: gcc gcc (SUSE Linux) 7.5.0 Red Hat Enterprise Linux 8.10 Kernel: 5.15 Compiler: gcc gcc (GCC) 8.5.0 20210514 (Red Hat 8.5.0-22) Red Hat Enterprise Linux 9.5 Kernel: 5.15 Compiler: gcc gcc (GCC) 11.5.0 20240719 (Red Hat 11.5.0-2) Ubuntu 22.04 Kernel: 5.15 Compiler: gcc gcc (Ubuntu 11.4.0-1ubuntu1~22.04) 11.4.0 Ubuntu 24.04 Kernel: 5.15 Compiler: gcc gcc (Ubuntu 13.3.0-6ubuntu2~24.04) 13.3.0 Alpine Linux 3.22.0 Kernel: 5.15 Compiler: gcc gcc (Alpine 14.2.0) 14.2.0 Windows Server 2022 Kernel: 10.0.20348.2031 Compiler: clang 15.0.7, gcc 14.1.0 (MinGW), and MSVC VS 19.39.33521 To view detailed results, visit: https://lab.dpdk.org/results/dashboard/patchsets/34248/ UNH-IOL DPDK Community Lab To manage your email subscriptions, visit: https://lab.dpdk.org/results/dashboard/preferences/subscriptions/