From mboxrd@z Thu Jan 1 00:00:00 1970 Return-Path: Received: from mails.dpdk.org (mails.dpdk.org [217.70.189.124]) by inbox.dpdk.org (Postfix) with ESMTP id 9ECBF488FE for ; Fri, 10 Oct 2025 12:26:14 +0200 (CEST) Received: from mails.dpdk.org (localhost [127.0.0.1]) by mails.dpdk.org (Postfix) with ESMTP id 8A18D4027A; Fri, 10 Oct 2025 12:26:14 +0200 (CEST) Received: from mail-ua1-f100.google.com (mail-ua1-f100.google.com [209.85.222.100]) by mails.dpdk.org (Postfix) with ESMTP id 05FCC4027A for ; Fri, 10 Oct 2025 12:26:13 +0200 (CEST) Received: by mail-ua1-f100.google.com with SMTP id a1e0cc1a2514c-89018ea5625so610035241.0 for ; Fri, 10 Oct 2025 03:26:12 -0700 (PDT) DKIM-Signature: v=1; a=rsa-sha256; c=relaxed/relaxed; d=iol.unh.edu; s=unh-iol; t=1760091972; x=1760696772; darn=dpdk.org; h=references:in-reply-to:cc:to:from:subject:message-id:date:from:to :cc:subject:date:message-id:reply-to; bh=28OuTkxj1nGuJMpy7jABEt99LItd5y0Xd8PkC/uWNx0=; b=XBrrT9vKSTaoSYmK4Fq7kq7FyUQEw7otB5DAWQhSAhDp9NzhXwC34JlyxLxUgHkClE Qu/QgrDFGs98dJX6108wT26A3lqoKAjL+uifZrCTgNhyAfbrnyW3td1b/WIMxzCuD+Wh hWAiWos0/HuekrcEYpX11b/D0I5YYR2uTkTxA= X-Google-DKIM-Signature: v=1; a=rsa-sha256; c=relaxed/relaxed; d=1e100.net; s=20230601; t=1760091972; x=1760696772; h=references:in-reply-to:cc:to:from:subject:message-id:date :x-gm-message-state:from:to:cc:subject:date:message-id:reply-to; bh=28OuTkxj1nGuJMpy7jABEt99LItd5y0Xd8PkC/uWNx0=; b=Rl27TA1St1gJEzPhxh5E3tBVPKE+O8ghGslWsfxjexOjDcH3rxE+KKmb9uw18CooIA wxEqjY84dOvzEzRAZSwRQnGiT9w95qsPRWtL0xCz0XnNwYPj4I0DyADxZpr8QRg/MeW6 PEXIOzsbDs+ZUpV/+rIsZLMgcFQAOIxMw5dPW1IadJ9IDlIRZh0cIOSTMp/CSzyMbBHO +u81MPY9Q9YxajzAW4RZJ4ybIepcdgor3sVXPBe+NZj0B86dOkiUl1tL4iYtjOOlQ81M GX5nDoTsyFBJxqIBVXRtB7bOPk3OLJCBKGHuQipuI0U8laSwpIgyWxAQrqS++0O+1ZWN LpVw== X-Gm-Message-State: AOJu0Ywq0v1V4WhufaPWMGHYSpmyQ3Vw/8Osfik7wTlt3Nh6J9fViG34 uGRbONRRXGickKXM91ymX+49Wxa2Lmd56qsMCil165qFWftM8MysY/QES7+mXuvwOcr5UtWo3nH qh+3VAzE7U52boYN1gDQDy1QnOfB5DAeJrV3kmWYGVfajBYnOZfnoTgRdGqmH X-Gm-Gg: ASbGncu9UNNVOkPKG0FdeE1k5RN1RdMISivQMWpo04bmzJFH6dCKnXbRWx2G6+troNo 98iz/HmrxSM7p6SOYr6folilUzuZzCUk7puKMjwfsZVfHEE1+a/9xl2rALMCrrjoT2H6fJ5N/YL h8A/KfUCnMMzttADfI6MvkYQchSlgnboyYJlFp+UDeZHRw/QtUqwBbeScZgZ9MuKdh18AJpFAnk SfGobRDhhmjpWRyHLCTGaLwJWRp06dfQIlE7KvKXRXFDeX2iVNHBQXx/LrnPM7xetiTZIYABzNk lyxNTtM/+v4FTngJCtNksTh0YNEkt8HEGVGPL8cxkteVcfKEgg== X-Google-Smtp-Source: AGHT+IGvbrCiQlDSOWhFCbsHVM6pqgm3ydIx0IOXl/WHW67ljEBU3yBi0zOPmC7sXd0w9Wg+sBFEpaoy3dhh X-Received: by 2002:a05:6102:4188:b0:5d5:f6ae:38c8 with SMTP id ada2fe7eead31-5d5f6ae3c06mr1755577137.39.1760091972174; Fri, 10 Oct 2025 03:26:12 -0700 (PDT) Received: from postal.iol.unh.edu (postal.iol.unh.edu. [2606:4100:3880:1234::84]) by smtp-relay.gmail.com with ESMTPS id ada2fe7eead31-5d5fc919dfdsm274746137.5.2025.10.10.03.26.12 (version=TLS1_2 cipher=ECDHE-ECDSA-AES128-GCM-SHA256 bits=128/128); Fri, 10 Oct 2025 03:26:12 -0700 (PDT) X-Relaying-Domain: iol.unh.edu Date: Fri, 10 Oct 2025 03:26:12 -0700 (PDT) Message-ID: <68e8df44.050a0220.3323c3.e40dSMTPIN_ADDED_MISSING@mx.google.com> Received: from [172.21.0.2] (unknown [172.18.0.240]) by postal.iol.unh.edu (Postfix) with ESMTP id D595D6051830; Fri, 10 Oct 2025 06:26:11 -0400 (EDT) Subject: |SUCCESS| pw157450 [PATCH] [v3] vhost: fix a double fetch when deque From: dpdklab@iol.unh.edu To: Test Report Cc: dpdk-test-reports@iol.unh.edu, Chenbo Xia , Maxime Coquelin In-Reply-To: <1760085696-35028-1-git-send-email-wangyunjian@huawei.com> References: <1760085696-35028-1-git-send-email-wangyunjian@huawei.com> Content-Type: text/plain X-BeenThere: test-report@dpdk.org X-Mailman-Version: 2.1.29 Precedence: list List-Id: automatic DPDK test reports List-Unsubscribe: , List-Archive: List-Post: List-Help: List-Subscribe: , Errors-To: test-report-bounces@dpdk.org Test-Label: iol-unit-amd64-testing Test-Status: SUCCESS http://dpdk.org/patch/157450 _Testing PASS_ Submitter: Yunjian Wang Date: Friday, October 10 2025 08:41:36 DPDK git baseline: Repo:dpdk-next-virtio Branch: master CommitID:4159ea62922ce41566c7bab44655ad78bee85458 157450 --> testing pass Upstream job id: Generic-Unit-Test-DPDK#380216 Test environment and result as below: +-------------------------------+----------------+ | Environment | dpdk_unit_test | +===============================+================+ | CentOS Stream 9 | PASS | +-------------------------------+----------------+ | Fedora Linux 40 | PASS | +-------------------------------+----------------+ | CentOS Stream 10 | PASS | +-------------------------------+----------------+ | Red Hat Enterprise Linux 8.10 | PASS | +-------------------------------+----------------+ | Fedora Linux 41 | PASS | +-------------------------------+----------------+ | Debian GNU/Linux 12 | PASS | +-------------------------------+----------------+ | Fedora Linux 42 | PASS | +-------------------------------+----------------+ | Red Hat Enterprise Linux 9.5 | PASS | +-------------------------------+----------------+ | Ubuntu 24.04 | PASS | +-------------------------------+----------------+ | Ubuntu 20.04 | PASS | +-------------------------------+----------------+ | Ubuntu 22.04 | PASS | +-------------------------------+----------------+ CentOS Stream 9 Kernel: 5.15 Compiler: gcc gcc (GCC) 11.5.0 20240719 (Red Hat 11.5.0-11) Fedora Linux 40 Kernel: 5.15 Compiler: gcc gcc (GCC) 14.2.1 20240912 (Red Hat 14.2.1-3) CentOS Stream 10 Kernel: 5.15 Compiler: gcc gcc (GCC) 14.2.1 20250110 (Red Hat 14.2.1-8) Red Hat Enterprise Linux 8.10 Kernel: 5.15 Compiler: gcc gcc (GCC) 8.5.0 20210514 (Red Hat 8.5.0-22) Fedora Linux 41 Kernel: 5.15 Compiler: clang gcc (GCC) 14.3.1 20250523 (Red Hat 14.3.1-1) Debian GNU/Linux 12 Kernel: 5.15 Compiler: gcc gcc (Debian 12.2.0-14+deb12u1) 12.2.0 Fedora Linux 42 Kernel: 5.15 Compiler: clang gcc (GCC) 15.2.1 20250808 (Red Hat 15.2.1-1) Red Hat Enterprise Linux 9.5 Kernel: 5.15 Compiler: gcc gcc (GCC) 11.5.0 20240719 (Red Hat 11.5.0-2) Ubuntu 24.04 Kernel: 5.15 Compiler: gcc gcc (Ubuntu 13.3.0-6ubuntu2~24.04) 13.3.0 Ubuntu 20.04 Kernel: 5.15 Compiler: gcc gcc (Ubuntu 9.4.0-1ubuntu1~20.04.2) 9.4.0 Ubuntu 22.04 Kernel: 5.15 Compiler: gcc gcc (Ubuntu 11.4.0-1ubuntu1~22.04) 11.4.0 To view detailed results, visit: https://lab.dpdk.org/results/dashboard/patchsets/34250/ UNH-IOL DPDK Community Lab To manage your email subscriptions, visit: https://lab.dpdk.org/results/dashboard/preferences/subscriptions/